Workbook

Sheet Summary
A1: Building | B1: Total Square Footage | C1: Cleanable Square Footage | D1: Daily Cleanable SF | E1: Event Cleanable SF
A2: DAVIS WADE - WEST GROUND | B2: =SUM('Davis Wade - West Ground'!D3:D34) | C2: =SUM('Davis Wade - West Ground'!E3:E34) | D2: =SUMIF('Davis Wade - West Ground'!G3:G34,"DAILY*",'Davis Wade - West Ground'!E3:E34)+SUMIF('Davis Wade - West Ground'!G3:G34,"WEEKLY*",'Davis Wade - West Ground'!E3:E34)+SUMIF('Davis Wade - West Ground'!G3:G34,"MONTHLY*",'Davis Wade - West Ground'!E3:E34)+SUMIF('Davis Wade - West Ground'!G3:G34,"QUARTERLY*",'Davis Wade - West Ground'!E3:E34) | E2: =SUMIF('Davis Wade - West Ground'!G3:G34,"*EVENT*",'Davis Wade - West Ground'!E3:E34)+SUMIF('Davis Wade - West Ground'!G3:G34,"GAMEDAY*",'Davis Wade - West Ground'!E3:E34)
A3: DAVIS WADE - WEST 100 | B3: =SUM('Davis Wade - West 100'!D3:D20) | C3: =SUM('Davis Wade - West 100'!E3:E20) | D3: =SUMIF('Davis Wade - West 100'!G3:G20,"DAILY*",'Davis Wade - West 100'!E3:E20)+SUMIF('Davis Wade - West 100'!G3:G20,"WEEKLY*",'Davis Wade - West 100'!E3:E20)+SUMIF('Davis Wade - West 100'!G3:G20,"MONTHLY*",'Davis Wade - West 100'!E3:E20)+SUMIF('Davis Wade - West 100'!G3:G20,"QUARTERLY*",'Davis Wade - West 100'!E3:E20) | E3: =SUMIF('Davis Wade - West 100'!G3:G20,"*EVENT*",'Davis Wade - West 100'!E3:E20)+SUMIF('Davis Wade - West 100'!G3:G20,"GAMEDAY*",'Davis Wade - West 100'!E3:E20)
A4: DAVIS WADE - WEST 200 | B4: =SUM('Davis Wade - West 200'!D3:D34) | C4: =SUM('Davis Wade - West 200'!E3:E34) | D4: =SUMIF('Davis Wade - West 200'!G3:G34,"DAILY*",'Davis Wade - West 200'!E3:E34)+SUMIF('Davis Wade - West 200'!G3:G34,"WEEKLY*",'Davis Wade - West 200'!E3:E34)+SUMIF('Davis Wade - West 200'!G3:G34,"MONTHLY*",'Davis Wade - West 200'!E3:E34)+SUMIF('Davis Wade - West 200'!G3:G34,"QUARTERLY*",'Davis Wade - West 200'!E3:E34) | E4: =SUMIF('Davis Wade - West 200'!G3:G34,"*EVENT*",'Davis Wade - West 200'!E3:E34)+SUMIF('Davis Wade - West 200'!G3:G34,"GAMEDAY*",'Davis Wade - West 200'!E3:E34)
A5: DAVIS WADE - WEST 300 | B5: =SUM('Davis Wade - West 300'!D3:D24) | C5: =SUM('Davis Wade - West 300'!E3:E24) | D5: =SUMIF('Davis Wade - West 300'!G3:G24,"DAILY*",'Davis Wade - West 300'!E3:E24)+SUMIF('Davis Wade - West 300'!G3:G24,"WEEKLY*",'Davis Wade - West 300'!E3:E24)+SUMIF('Davis Wade - West 300'!G3:G24,"MONTHLY*",'Davis Wade - West 300'!E3:E24)+SUMIF('Davis Wade - West 300'!G3:G24,"QUARTERLY*",'Davis Wade - West 300'!E3:E24) | E5: =SUMIF('Davis Wade - West 300'!G3:G24,"*EVENT*",'Davis Wade - West 300'!E3:E24)+SUMIF('Davis Wade - West 300'!G3:G24,"GAMEDAY*",'Davis Wade - West 300'!E3:E24)
A6: DAVIS WADE - NORTH GROUND | B6: =SUM('Davis Wade - North Ground'!D3:D100) | C6: =SUM('Davis Wade - North Ground'!E3:E100) | D6: =SUMIF('Davis Wade - North Ground'!G3:G100,"DAILY*",'Davis Wade - North Ground'!E3:E100)+SUMIF('Davis Wade - North Ground'!G3:G100,"WEEKLY*",'Davis Wade - North Ground'!E3:E100)+SUMIF('Davis Wade - North Ground'!G3:G100,"MONTHLY*",'Davis Wade - North Ground'!E3:E100)+SUMIF('Davis Wade - North Ground'!G3:G100,"QUARTERLY*",'Davis Wade - North Ground'!E3:E100) | E6: =SUMIF('Davis Wade - North Ground'!G3:G100,"*EVENT*",'Davis Wade - North Ground'!E3:E100)+SUMIF('Davis Wade - North Ground'!G3:G100,"GAMEDAY*",'Davis Wade - North Ground'!E3:E100)
A7: DAVIS WADE - NORTH MAIN | B7: =SUM('Davis Wade - North Main'!D3:D45) | C7: =SUM('Davis Wade - North Main'!E3:E45) | D7: =SUMIF('Davis Wade - North Main'!G3:G45,"DAILY*",'Davis Wade - North Main'!E3:E45)+SUMIF('Davis Wade - North Main'!G3:G45,"WEEKLY*",'Davis Wade - North Main'!E3:E45)+SUMIF('Davis Wade - North Main'!G3:G45,"MONTHLY*",'Davis Wade - North Main'!E3:E45)+SUMIF('Davis Wade - North Main'!G3:G45,"QUARTERLY*",'Davis Wade - North Main'!E3:E45) | E7: =SUMIF('Davis Wade - North Main'!G3:G45,"*EVENT*",'Davis Wade - North Main'!E3:E45)+SUMIF('Davis Wade - North Main'!G3:G45,"GAMEDAY*",'Davis Wade - North Main'!E3:E45)
A8: DAVIS WADE - NORTH STATE LEVEL | B8: =SUM('Davis Wade - North State Level'!D3:D57) | C8: =SUM('Davis Wade - North State Level'!E3:E57) | D8: =SUMIF('Davis Wade - North State Level'!G3:G57,"DAILY*",'Davis Wade - North State Level'!E3:E57)+SUMIF('Davis Wade - North State Level'!G3:G57,"WEEKLY*",'Davis Wade - North State Level'!E3:E57)+SUMIF('Davis Wade - North State Level'!G3:G57,"MONTHLY*",'Davis Wade - North State Level'!E3:E57)+SUMIF('Davis Wade - North State Level'!G3:G57,"QUARTERLY*",'Davis Wade - North State Level'!E3:E57) | E8: =SUMIF('Davis Wade - North State Level'!G3:G57,"*EVENT*",'Davis Wade - North State Level'!E3:E57)+SUMIF('Davis Wade - North State Level'!G3:G57,"GAMEDAY*",'Davis Wade - North State Level'!E3:E57)
A9: DAVIS WADE - NORTH SCOREBOARD LEVEL | B9: =SUM('Davis Wade - North Scoreboard'!D3:D29) | C9: =SUM('Davis Wade - North Scoreboard'!E3:E29) | D9: =SUMIF('Davis Wade - North Scoreboard'!G3:G29,"DAILY*",'Davis Wade - North Scoreboard'!E3:E29)+SUMIF('Davis Wade - North Scoreboard'!G3:G29,"WEEKLY*",'Davis Wade - North Scoreboard'!E3:E29)+SUMIF('Davis Wade - North Scoreboard'!G3:G29,"MONTHLY*",'Davis Wade - North Scoreboard'!E3:E29)+SUMIF('Davis Wade - North Scoreboard'!G3:G29,"QUARTERLY*",'Davis Wade - North Scoreboard'!E3:E29) | E9: =SUMIF('Davis Wade - North Scoreboard'!G3:G29,"*EVENT*",'Davis Wade - North Scoreboard'!E3:E29)+SUMIF('Davis Wade - North Scoreboard'!G3:G29,"GAMEDAY*",'Davis Wade - North Scoreboard'!E3:E29)
A10: DAVIS WADE - EAST GROUND | B10: =SUM('Davis Wade - East Ground'!D3:D35) | C10: =SUM('Davis Wade - East Ground'!E3:E35) | D10: =SUMIF('Davis Wade - East Ground'!G3:G35,"DAILY*",'Davis Wade - East Ground'!E3:E35)+SUMIF('Davis Wade - East Ground'!G3:G35,"WEEKLY*",'Davis Wade - East Ground'!E3:E35)+SUMIF('Davis Wade - East Ground'!G3:G35,"MONTHLY*",'Davis Wade - East Ground'!E3:E35)+SUMIF('Davis Wade - East Ground'!G3:G35,"QUARTERLY*",'Davis Wade - East Ground'!E3:E35) | E10: =SUMIF('Davis Wade - East Ground'!G3:G35,"*EVENT*",'Davis Wade - East Ground'!E3:E35)+SUMIF('Davis Wade - East Ground'!G3:G35,"GAMEDAY*",'Davis Wade - East Ground'!E3:E35)
A11: DAVIS WADE - EAST FLOYD WADE CLUB | B11: =SUM('Davis Wade - East Floyd Wade'!D3:D36) | C11: =SUM('Davis Wade - East Floyd Wade'!E3:E36) | D11: =SUMIF('Davis Wade - East Floyd Wade'!G3:G36,"DAILY*",'Davis Wade - East Floyd Wade'!E3:E36)+SUMIF('Davis Wade - East Floyd Wade'!G3:G36,"WEEKLY*",'Davis Wade - East Floyd Wade'!E3:E36)+SUMIF('Davis Wade - East Floyd Wade'!G3:G36,"MONTHLY*",'Davis Wade - East Floyd Wade'!E3:E36)+SUMIF('Davis Wade - East Floyd Wade'!G3:G36,"QUARTERLY*",'Davis Wade - East Floyd Wade'!E3:E36) | E11: =SUMIF('Davis Wade - East Floyd Wade'!G3:G36,"*EVENT*",'Davis Wade - East Floyd Wade'!E3:E36)+SUMIF('Davis Wade - East Floyd Wade'!G3:G36,"GAMEDAY*",'Davis Wade - East Floyd Wade'!E3:E36)
A12: DAVIS WADE - EAST SUITE LEVEL 1 | B12: =SUM('Davis Wade - East Suite Level 1'!D3:D112) | C12: =SUM('Davis Wade - East Suite Level 1'!E3:E112) | D12: =SUMIF('Davis Wade - East Suite Level 1'!G3:G112,"DAILY*",'Davis Wade - East Suite Level 1'!E3:E112)+SUMIF('Davis Wade - East Suite Level 1'!G3:G112,"WEEKLY*",'Davis Wade - East Suite Level 1'!E3:E112)+SUMIF('Davis Wade - East Suite Level 1'!G3:G112,"MONTHLY*",'Davis Wade - East Suite Level 1'!E3:E112)+SUMIF('Davis Wade - East Suite Level 1'!G3:G112,"QUARTERLY*",'Davis Wade - East Suite Level 1'!E3:E112) | E12: =SUMIF('Davis Wade - East Suite Level 1'!G3:G112,"*EVENT*",'Davis Wade - East Suite Level 1'!E3:E112)+SUMIF('Davis Wade - East Suite Level 1'!G3:G112,"GAMEDAY*",'Davis Wade - East Suite Level 1'!E3:E112)
A13: DAVIS WADE - EAST SUITE LEVEL 2 | B13: =SUM('Davis Wade - East Suite Level 2'!D3:D92) | C13: =SUM('Davis Wade - East Suite Level 2'!E3:E92) | D13: =SUMIF('Davis Wade - East Suite Level 2'!G3:G92,"DAILY*",'Davis Wade - East Suite Level 2'!E3:E92)+SUMIF('Davis Wade - East Suite Level 2'!G3:G92,"WEEKLY*",'Davis Wade - East Suite Level 2'!E3:E92)+SUMIF('Davis Wade - East Suite Level 2'!G3:G92,"MONTHLY*",'Davis Wade - East Suite Level 2'!E3:E92)+SUMIF('Davis Wade - East Suite Level 2'!G3:G92,"QUARTERLY*",'Davis Wade - East Suite Level 2'!E3:E92) | E13: =SUMIF('Davis Wade - East Suite Level 2'!G3:G92,"*EVENT*",'Davis Wade - East Suite Level 2'!E3:E92)+SUMIF('Davis Wade - East Suite Level 2'!G3:G92,"GAMEDAY*",'Davis Wade - East Suite Level 2'!E3:E92)
A14: DAVIS WADE - EAST SKYDECK | B14: =SUM('Davis Wade - East Skydeck'!D3:D39) | C14: =SUM('Davis Wade - East Skydeck'!E3:E39) | D14: =SUMIF('Davis Wade - East Skydeck'!G3:G39,"DAILY*",'Davis Wade - East Skydeck'!E3:E39)+SUMIF('Davis Wade - East Skydeck'!G3:G39,"WEEKLY*",'Davis Wade - East Skydeck'!E3:E39)+SUMIF('Davis Wade - East Skydeck'!G3:G39,"MONTHLY*",'Davis Wade - East Skydeck'!E3:E39)+SUMIF('Davis Wade - East Skydeck'!G3:G39,"QUARTERLY*",'Davis Wade - East Skydeck'!E3:E39) | E14: =SUMIF('Davis Wade - East Skydeck'!G3:G39,"*EVENT*",'Davis Wade - East Skydeck'!E3:E39)+SUMIF('Davis Wade - East Skydeck'!G3:G39,"GAMEDAY*",'Davis Wade - East Skydeck'!E3:E39)
A15: DAVIS WADE - MCLUB BUILDING | B15: =SUM('M-Club'!D3:D29) | C15: =SUM('M-Club'!E3:E29) | D15: =SUMIF('M-Club'!G3:G29,"DAILY*",'M-Club'!E3:E29)+SUMIF('M-Club'!G3:G29,"WEEKLY*",'M-Club'!E3:E29)+SUMIF('M-Club'!G3:G29,"MONTHLY*",'M-Club'!E3:E29)+SUMIF('M-Club'!G3:G29,"QUARTERLY*",'M-Club'!E3:E29) | E15: =SUMIF('M-Club'!G3:G29,"*EVENT*",'M-Club'!E3:E29)+SUMIF('M-Club'!G3:G29,"GAMEDAY*",'M-Club'!E3:E29)
A16: DAVIS WADE - TURMAN FIELDHOUSE | B16: =SUM('Turman Fieldhouse'!D3:D46) | C16: =SUM('Turman Fieldhouse'!E3:E46) | D16: =SUMIF('Turman Fieldhouse'!G3:G46,"DAILY*",'Turman Fieldhouse'!E3:E46)+SUMIF('Turman Fieldhouse'!G3:G46,"WEEKLY*",'Turman Fieldhouse'!E3:E46)+SUMIF('Turman Fieldhouse'!G3:G46,"MONTHLY*",'Turman Fieldhouse'!E3:E46)+SUMIF('Turman Fieldhouse'!G3:G46,"QUARTERLY*",'Turman Fieldhouse'!E3:E46) | E16: =SUMIF('Turman Fieldhouse'!G3:G46,"*EVENT*",'Turman Fieldhouse'!E3:E46)+SUMIF('Turman Fieldhouse'!G3:G46,"GAMEDAY*",'Turman Fieldhouse'!E3:E46)
A17: DAVIS WADE STADIUM SUBTOTAL | B17: =SUM(B2:B16) | C17: =SUM(C2:C16) | D17: =SUM(D2:D16) | E17: =SUM(E2:E16)
A18: DUDY NOBLE FIELD | B18: =SUM('Dudy Noble Field'!D3:D177) | C18: =SUM('Dudy Noble Field'!E3:E177) | D18: =SUMIF('Dudy Noble Field'!G3:G177,"DAILY*",'Dudy Noble Field'!E3:E177)+SUMIF('Dudy Noble Field'!G3:G177,"WEEKLY*",'Dudy Noble Field'!E3:E177)+SUMIF('Dudy Noble Field'!G3:G177,"MONTHLY*",'Dudy Noble Field'!E3:E177)+SUMIF('Dudy Noble Field'!G3:G177,"QUARTERLY*",'Dudy Noble Field'!E3:E177) | E18: =SUMIF('Dudy Noble Field'!G3:G177,"*EVENT*",'Dudy Noble Field'!E3:E177)+SUMIF('Dudy Noble Field'!G3:G177,"GAMEDAY*",'Dudy Noble Field'!E3:E177)
A19: HUMPHREY COLISEUM | B19: =SUM('Humphrey Coliseum'!D3:D221) | C19: =SUM('Humphrey Coliseum'!E3:E221) | D19: =SUMIF('Humphrey Coliseum'!G3:G221,"DAILY*",'Humphrey Coliseum'!E3:E221)+SUMIF('Humphrey Coliseum'!G3:G221,"WEEKLY*",'Humphrey Coliseum'!E3:E221)+SUMIF('Humphrey Coliseum'!G3:G221,"MONTHLY*",'Humphrey Coliseum'!E3:E221)+SUMIF('Humphrey Coliseum'!G3:G221,"QUARTERLY*",'Humphrey Coliseum'!E3:E221) | E19: =SUMIF('Humphrey Coliseum'!G3:G221,"*EVENT*",'Humphrey Coliseum'!E3:E221)+SUMIF('Humphrey Coliseum'!G3:G221,"GAMEDAY*",'Humphrey Coliseum'!E3:E221)
A20: MIZE PAVILION | B20: =SUM('Mize Pavilion'!D3:D82) | C20: =SUM('Mize Pavilion'!E3:E82) | D20: =SUMIF('Mize Pavilion'!G3:G82,"DAILY*",'Mize Pavilion'!E3:E82)+SUMIF('Mize Pavilion'!G3:G82,"WEEKLY*",'Mize Pavilion'!E3:E82)+SUMIF('Mize Pavilion'!G3:G82,"MONTHLY*",'Mize Pavilion'!E3:E82)+SUMIF('Mize Pavilion'!G3:G82,"QUARTERLY*",'Mize Pavilion'!E3:E82) | E20: =SUMIF('Mize Pavilion'!G3:G82,"*EVENT*",'Mize Pavilion'!E3:E82)+SUMIF('Mize Pavilion'!G3:G82,"GAMEDAY*",'Mize Pavilion'!E3:E82)
A21: NUSZ PARK | B21: =SUM('Nusz Park'!D3:D31) | C21: =SUM('Nusz Park'!E3:E31) | D21: =SUMIF('Nusz Park'!G3:G31,"DAILY*",'Nusz Park'!E3:E31)+SUMIF('Nusz Park'!G3:G31,"WEEKLY*",'Nusz Park'!E3:E31)+SUMIF('Nusz Park'!G3:G31,"MONTHLY*",'Nusz Park'!E3:E31)+SUMIF('Nusz Park'!G3:G31,"QUARTERLY*",'Nusz Park'!E3:E31) | E21: =SUMIF('Nusz Park'!G3:G31,"*EVENT*",'Nusz Park'!E3:E31)+SUMIF('Nusz Park'!G3:G31,"GAMEDAY*",'Nusz Park'!E3:E31)
A22: SOFTBALL INDOOR CLUBHOUSE | B22: =SUM('Softball Indoor Clubhouse'!D3:D20) | C22: =SUM('Softball Indoor Clubhouse'!E3:E20) | D22: =SUMIF('Softball Indoor Clubhouse'!G3:G20,"DAILY*",'Softball Indoor Clubhouse'!E3:E20)+SUMIF('Softball Indoor Clubhouse'!G3:G20,"WEEKLY*",'Softball Indoor Clubhouse'!E3:E20)+SUMIF('Softball Indoor Clubhouse'!G3:G20,"MONTHLY*",'Softball Indoor Clubhouse'!E3:E20)+SUMIF('Softball Indoor Clubhouse'!G3:G20,"QUARTERLY*",'Softball Indoor Clubhouse'!E3:E20) | E22: =SUMIF('Softball Indoor Clubhouse'!G3:G20,"*EVENT*",'Softball Indoor Clubhouse'!E3:E20)+SUMIF('Softball Indoor Clubhouse'!G3:G20,"GAMEDAY*",'Softball Indoor Clubhouse'!E3:E20)
A23: RULA TENNIS CENTER | B23: =SUM('Rula Tennis Center'!D3:D31) | C23: =SUM('Rula Tennis Center'!E3:E31) | D23: =SUMIF('Rula Tennis Center'!G3:G31,"DAILY*",'Rula Tennis Center'!E3:E31)+SUMIF('Rula Tennis Center'!G3:G31,"WEEKLY*",'Rula Tennis Center'!E3:E31)+SUMIF('Rula Tennis Center'!G3:G31,"MONTHLY*",'Rula Tennis Center'!E3:E31)+SUMIF('Rula Tennis Center'!G3:G31,"QUARTERLY*",'Rula Tennis Center'!E3:E31) | E23: =SUMIF('Rula Tennis Center'!G3:G31,"*EVENT*",'Rula Tennis Center'!E3:E31)+SUMIF('Rula Tennis Center'!G3:G31,"GAMEDAY*",'Rula Tennis Center'!E3:E31)
A24: A.J. PITTS TENNIS CENTER | B24: =SUM('A.J. Pitts Tennis Center'!D3:D31) | C24: =SUM('A.J. Pitts Tennis Center'!E3:E31) | D24: =SUMIF('A.J. Pitts Tennis Center'!G3:G31,"DAILY*",'A.J. Pitts Tennis Center'!E3:E31)+SUMIF('A.J. Pitts Tennis Center'!G3:G31,"WEEKLY*",'A.J. Pitts Tennis Center'!E3:E31)+SUMIF('A.J. Pitts Tennis Center'!G3:G31,"MONTHLY*",'A.J. Pitts Tennis Center'!E3:E31)+SUMIF('A.J. Pitts Tennis Center'!G3:G31,"QUARTERLY*",'A.J. Pitts Tennis Center'!E3:E31) | E24: =SUMIF('A.J. Pitts Tennis Center'!G3:G31,"*EVENT*",'A.J. Pitts Tennis Center'!E3:E31)+SUMIF('A.J. Pitts Tennis Center'!G3:G31,"GAMEDAY*",'A.J. Pitts Tennis Center'!E3:E31)
A25: NEWELL-GRISSOM BUILDING | B25: =SUM('Newell-Grissom Building'!D3:D52) | C25: =SUM('Newell-Grissom Building'!E3:E52) | D25: =SUMIF('Newell-Grissom Building'!G3:G52,"DAILY*",'Newell-Grissom Building'!E3:E52)+SUMIF('Newell-Grissom Building'!G3:G52,"WEEKLY*",'Newell-Grissom Building'!E3:E52)+SUMIF('Newell-Grissom Building'!G3:G52,"MONTHLY*",'Newell-Grissom Building'!E3:E52)+SUMIF('Newell-Grissom Building'!G3:G52,"QUARTERLY*",'Newell-Grissom Building'!E3:E52) | E25: =SUMIF('Newell-Grissom Building'!G3:G52,"*EVENT*",'Newell-Grissom Building'!E3:E52)+SUMIF('Newell-Grissom Building'!G3:G52,"GAMEDAY*",'Newell-Grissom Building'!E3:E52)
A26: SOCCER STADIUM | B26: =SUM('Soccer Stadium'!D3:D13) | C26: =SUM('Soccer Stadium'!E3:E13) | D26: =SUMIF('Soccer Stadium'!G3:G13,"DAILY*",'Soccer Stadium'!E3:E13)+SUMIF('Soccer Stadium'!G3:G13,"WEEKLY*",'Soccer Stadium'!E3:E13)+SUMIF('Soccer Stadium'!G3:G13,"MONTHLY*",'Soccer Stadium'!E3:E13)+SUMIF('Soccer Stadium'!G3:G13,"QUARTERLY*",'Soccer Stadium'!E3:E13) | E26: =SUMIF('Soccer Stadium'!G3:G13,"*EVENT*",'Soccer Stadium'!E3:E13)+SUMIF('Soccer Stadium'!G3:G13,"GAMEDAY*",'Soccer Stadium'!E3:E13)
A27: SOCCER CLUBHOUSE | B27: =SUM('Soccer Clubhouse'!D3:D22) | C27: =SUM('Soccer Clubhouse'!E3:E22) | D27: =SUMIF('Soccer Clubhouse'!G3:G22,"DAILY*",'Soccer Clubhouse'!E3:E22)+SUMIF('Soccer Clubhouse'!G3:G22,"WEEKLY*",'Soccer Clubhouse'!E3:E22)+SUMIF('Soccer Clubhouse'!G3:G22,"MONTHLY*",'Soccer Clubhouse'!E3:E22)+SUMIF('Soccer Clubhouse'!G3:G22,"QUARTERLY*",'Soccer Clubhouse'!E3:E22) | E27: =SUMIF('Soccer Clubhouse'!G3:G22,"*EVENT*",'Soccer Clubhouse'!E3:E22)+SUMIF('Soccer Clubhouse'!G3:G22,"GAMEDAY*",'Soccer Clubhouse'!E3:E22)
A28: BRYAN BUILDING | B28: =SUM('Bryan Building'!D3:D124) | C28: =SUM('Bryan Building'!E3:E124) | D28: =SUMIF('Bryan Building'!G3:G124,"DAILY*",'Bryan Building'!E3:E124)+SUMIF('Bryan Building'!G3:G124,"WEEKLY*",'Bryan Building'!E3:E124)+SUMIF('Bryan Building'!G3:G124,"MONTHLY*",'Bryan Building'!E3:E124)+SUMIF('Bryan Building'!G3:G124,"QUARTERLY*",'Bryan Building'!E3:E124) | E28: =SUMIF('Bryan Building'!G3:G124,"*EVENT*",'Bryan Building'!E3:E124)+SUMIF('Bryan Building'!G3:G124,"GAMEDAY*",'Bryan Building'!E3:E124)
A29: LEO SEAL | B29: =SUM('Leo Seal'!D5:D150) | C29: =SUM('Leo Seal'!E5:E150) | D29: =SUMIF('Leo Seal'!G5:G150,"DAILY*",'Leo Seal'!E5:E150)+SUMIF('Leo Seal'!G5:G150,"WEEKLY*",'Leo Seal'!E5:E150)+SUMIF('Leo Seal'!G5:G150,"MONTHLY*",'Leo Seal'!E5:E150)+SUMIF('Leo Seal'!G5:G150,"QUARTERLY*",'Leo Seal'!E5:E150) | E29: =SUMIF('Leo Seal'!G5:G150,"*EVENT*",'Leo Seal'!E5:E150)+SUMIF('Leo Seal'!G5:G150,"GAMEDAY*",'Leo Seal'!E5:E150)
A30: TEMPLETON | B30: =SUM('Templeton'!D3:D112) | C30: =SUM('Templeton'!E3:E112) | D30: =SUMIF('Templeton'!G3:G112,"DAILY*",'Templeton'!E3:E112)+SUMIF('Templeton'!G3:G112,"WEEKLY*",'Templeton'!E3:E112)+SUMIF('Templeton'!G3:G112,"MONTHLY*",'Templeton'!E3:E112)+SUMIF('Templeton'!G3:G112,"QUARTERLY*",'Templeton'!E3:E112) | E30: =SUMIF('Templeton'!G3:G112,"*EVENT*",'Templeton'!E3:E112)+SUMIF('Templeton'!G3:G112,"GAMEDAY*",'Templeton'!E3:E112)
A31: SHIRA | B31: =SUM('Shira'!D3:D146) | C31: =SUM('Shira'!E3:E146) | D31: =SUMIF('Shira'!G3:G146,"DAILY*",'Shira'!E3:E146)+SUMIF('Shira'!G3:G146,"WEEKLY*",'Shira'!E3:E146)+SUMIF('Shira'!G3:G146,"MONTHLY*",'Shira'!E3:E146)+SUMIF('Shira'!G3:G146,"QUARTERLY*",'Shira'!E3:E146) | E31: =SUMIF('Shira'!G3:G146,"*EVENT*",'Shira'!E3:E146)+SUMIF('Shira'!G3:G146,"GAMEDAY*",'Shira'!E3:E146)
A32: PALMEIRO | B32: =SUM('Palmeiro'!D3:D17) | C32: =SUM('Palmeiro'!E3:E17) | D32: =SUMIF('Palmeiro'!G3:G17,"DAILY*",'Palmeiro'!E3:E17)+SUMIF('Palmeiro'!G3:G17,"WEEKLY*",'Palmeiro'!E3:E17)+SUMIF('Palmeiro'!G3:G17,"MONTHLY*",'Palmeiro'!E3:E17)+SUMIF('Palmeiro'!G3:G17,"QUARTERLY*",'Palmeiro'!E3:E17) | E32: =SUMIF('Palmeiro'!G3:G17,"*EVENT*",'Palmeiro'!E3:E17)+SUMIF('Palmeiro'!G3:G17,"GAMEDAY*",'Palmeiro'!E3:E17)
A33: BASEBALL COACHES OFFICES | B33: =SUM('Baseball Coaches Offices'!D3:D29) | C33: =SUM('Baseball Coaches Offices'!E3:E29) | D33: =SUMIF('Baseball Coaches Offices'!G3:G29,"DAILY*",'Baseball Coaches Offices'!E3:E29)+SUMIF('Baseball Coaches Offices'!G3:G29,"WEEKLY*",'Baseball Coaches Offices'!E3:E29)+SUMIF('Baseball Coaches Offices'!G3:G29,"MONTHLY*",'Baseball Coaches Offices'!E3:E29)+SUMIF('Baseball Coaches Offices'!G3:G29,"QUARTERLY*",'Baseball Coaches Offices'!E3:E29) | E33: =SUMIF('Baseball Coaches Offices'!G3:G29,"*EVENT*",'Baseball Coaches Offices'!E3:E29)+SUMIF('Baseball Coaches Offices'!G3:G29,"GAMEDAY*",'Baseball Coaches Offices'!E3:E29)
A34: TOTAL (ALL BUILDINGS) | B34: =B17+SUM(B18:B33) | C34: =C17+SUM(C18:C33) | D34: =D17+SUM(D18:D33) | E34: =E17+SUM(E18:E33)

Sheet Legend
A1: LEGEND
A2: Column | B2: Meaning
A3: BUILDING / ROOM NO / SPACE DESCRIPTION | B3: Facility, room number and room use as listed for each space.
A4: NET SQ FT | B4: Total square footage of the space.
A5: CLEANABLE SQ FT | B5: Square footage the Custodial Contractor is responsible for cleaning. Equals Net SQ FT unless part of the space is excluded. Spaces that are not cleaned show NC.
A6: APPA LEVEL | B6: Required custodial cleaning level (APPA Operational Guidelines for Educational Facilities). Level 1 = Orderly Spotlessness (highest standard). Level 2 = Ordinary Tidiness.
A7: FREQUENCY | B7: How often the space is cleaned. See Frequency codes below.
A8: CLEANING WINDOW | B8: When the cleaning takes place. See Window codes below.
A10: Code | B10: Meaning
A11: NC | B11: Not Cleaned. The space is not part of the Custodial Contractor's scope. NC appears in Cleanable SQ FT, APPA Level, Frequency and Window, and the space is excluded from all cleanable totals. Includes mechanical, electrical, equipment and storage rooms, janitor/custodial closets and concession stands.
A13: Frequency code | B13: Meaning
A14: DAILY CLEAN | B14: Cleaned every day.
A15: DAILY CLEAN - SINGLE | B15: Cleaned once each day.
... A34: Davis Wade Stadium Subtotal | B34: Includes all Davis Wade tabs plus the M-Club and Turman Fieldhouse tabs.

Sheet Davis Wade - West Ground
A1: DAVIS WADE- WEST GROUND
A2: BUILDING | B2: ROOM NO | C2: SPACE DESCRIPTION | D2: NET SQ FT | E2: CLEANABLE SQ FT | F2: APPA LEVEL | G2: FREQUENCY | H2: CLEANING WINDOW
A3: DAVIS WADE - WEST GROUND | B3: 80 | C3: WEST SUB CONCESSION WAREHOUSE RAMP | D3: 812 | E3: NC | F3: NC | G3: NC | H3: NC
A4: DAVIS WADE - WEST GROUND | B4: 81 | C4: WEST SUB ATHLETIC STORAGE | D4: 5358 | E4: NC | F4: NC | G4: NC | H4: NC
A5: DAVIS WADE - WEST GROUND | B5: 81A | C5: WEST SUB FAN EXPERIENCE STORAGE | D5: 988 | E5: NC | F5: NC | G5: NC | H5: NC
A6: DAVIS WADE - WEST GROUND | B6: 81B | C6: WEST SUB GAME OPERATIONS STORAGE | D6: 631 | E6: NC | F6: NC | G6: NC | H6: NC
A7: DAVIS WADE - WEST GROUND | B7: 81C | C7: WEST SUB FACILITIES STORAGE | D7: 715 | E7: NC | F7: NC | G7: NC | H7: NC
A8: DAVIS WADE - WEST GROUND | B8: 81D | C8: WEST SUB CONCESSION WAREHOUSE | D8: 6677 | E8: NC | F8: NC | G8: NC | H8: NC
A9: DAVIS WADE - WEST GROUND | B9: 100 | C9: WEST GROUND ELEVATOR EQUIPMENT | D9: 65 | E9: NC | F9: NC | G9: NC | H9: NC
A10: DAVIS WADE - WEST GROUND | B10: 101 | C10: WEST GROUND TOILET | D10: 823 | E10: 823 | F10: 2 | G10: EVENT CLEAN | H10: FB PREP, FB GAMES, SPECIAL EVENTS
A11: DAVIS WADE - WEST GROUND | B11: 102 | C11: WEST GROUND CONCESSIONS | D11: 874 | E11: NC | F11: NC | G11: NC | H11: NC
A12: DAVIS WADE - WEST GROUND | B12: 103 | C12: WEST GROUND TOILET | D12: 874 | E12: 874 | F12: 2 | G12: EVENT CLEAN | H12: FB PREP, FB GAMES, SPECIAL EVENTS
A13: DAVIS WADE - WEST GROUND | B13: 104 | C13: WEST GROUND CELLULAR | D13: 213 | E13: NC | F13: NC | G13: NC | H13: NC
A14: DAVIS WADE - WEST GROUND | B14: 105 | C14: WEST GROUND COMMUNICATIONS | D14: 117 | E14: NC | F14: NC | G14: NC | H14: NC
A15: DAVIS WADE - WEST GROUND | B15: 106 | C15: WEST GROUND CONCESSIONS | D15: 597 | E15: NC | F15: NC | G15: NC | H15: NC
A16: DAVIS WADE - WEST GROUND | B16: 107 | C16: WEST GROUND ELEVATOR EQUIPMENT | D16: 83 | E16: NC | F16: NC | G16: NC | H16: NC
A17: DAVIS WADE - WEST GROUND | B17: 108 | C17: WEST GROUND TOILET | D17: 1547 | E17: 1547 | F17: 2 | G17: EVENT CLEAN | H17: FB PREP, FB GAMES, SPECIAL EVENTS
A18: DAVIS WADE - WEST GROUND | B18: 109 | C18: WEST GROUND CONCESSIONS | D18: 812 | E18: NC | F18: NC | G18: NC | H18: NC
A19: DAVIS WADE - WEST GROUND | B19: 110 | C19: WEST GROUND TOILET | D19: 1663 | E19: 1663 | F19: 2 | G19: EVENT CLEAN | H19: FB PREP, FB GAMES, SPECIAL EVENTS
A20: DAVIS WADE - WEST GROUND | B20: 111 | C20: WEST GROUND FIRST AID | D20: 200 | E20: 200 | F20: 2 | G20: EVENT CLEAN | H20: FB PREP, FB GAMES, SPECIAL EVENTS
A21: DAVIS WADE - WEST GROUND | B21: 111A | C21: WEST GROUND TOILET | D21: 53 | E21: 53 | F21: 2 | G21: EVENT CLEAN | H21: FB PREP, FB GAMES, SPECIAL EVENTS
A22: DAVIS WADE - WEST GROUND | B22: 112 | C22: WEST GROUND ELECTRICAL | D22: 1005 | E22: NC | F22: NC | G22: NC | H22: NC
A23: DAVIS WADE - WEST GROUND | B23: 113 | C23: WEST GROUND MECHANICAL | D23: 160 | E23: NC | F23: NC | G23: NC | H23: NC
A24: DAVIS WADE - WEST GROUND | B24: 114 | C24: WEST GROUND TOILET | D24: 1408 | E24: 1408 | F24: 2 | G24: EVENT CLEAN | H24: FB PREP, FB GAMES, SPECIAL EVENTS
A25: DAVIS WADE - WEST GROUND | B25: 115 | C25: WEST GROUND CONCESSIONS | D25: 1251 | E25: NC | F25: NC | G25: NC | H25: NC
A26: DAVIS WADE - WEST GROUND | B26: 117 | C26: WEST GROUND JANITOR CLOSET | D26: 46 | E26: NC | F26: NC | G26: NC | H26: NC
A27: DAVIS WADE - WEST GROUND | B27: 118 | C27: WEST GROUND CONCESSIONS | D27: 1514 | E27: NC | F27: NC | G27: NC | H27: NC
A28: DAVIS WADE - WEST GROUND | B28: 119 | C28: WEST GROUND TOILET | D28: 92 | E28: 92 | F28: 2 | G28: EVENT CLEAN | H28: FB PREP, FB GAMES, SPECIAL EVENTS
A29: DAVIS WADE - WEST GROUND | B29: 120 | C29: WEST GROUND ELECTRICAL/COMMUNICATIONS | D29: 168 | E29: NC | F29: NC | G29: NC | H29: NC
A30: DAVIS WADE - WEST GROUND | B30: 121 | C30: WEST GROUND TOILET | D30: 1418 | E30: 1418 | F30: 2 | G30: EVENT CLEAN | H30: FB PREP, FB GAMES, SPECIAL EVENTS
A31: DAVIS WADE - WEST GROUND | B31: 188 | C31: WEST GROUND SOUTH ELEVATOR | D31: 56 | E31: 56 | F31: 2 | G31: EVENT CLEAN | H31: FB PREP, FB GAMES, SPECIAL EVENTS
A32: DAVIS WADE - WEST GROUND | B32: 189 | C32: WEST GROUND SOUTH ELEVATOR | D32: 56 | E32: 56 | F32: 2 | G32: EVENT CLEAN | H32: FB PREP, FB GAMES, SPECIAL EVENTS
A33: DAVIS WADE - WEST GROUND | B33: 190 | C33: WEST GROUND CENTER ELEVATOR | D33: 67 | E33: 67 | F33: 2 | G33: EVENT CLEAN | H33: FB PREP, FB GAMES, SPECIAL EVENTS
A34: DAVIS WADE - WEST GROUND | B34: 191 | C34: WEST GROUND CONCOURSE | D34: 28379 | E34: 28379 | F34: 2 | G34: EVENT CLEAN | H34: FB PREP, FB GAMES, SPECIAL EVENTS
D35: =SUM(D3:D34) | E35: =SUM(E3:E34)

Sheet Davis Wade - West 100
A1: DAVIS WADE - WEST 100
A2: BUILDING | B2: ROOM NO | C2: SPACE DESCRIPTION | D2: NET SQ FT | E2: CLEANABLE SQ FT | F2: APPA LEVEL | G2: FREQUENCY | H2: CLEANING WINDOW
A3: DAVIS WADE - WEST 100 | B3: 201 | C3: 100 LEVEL CONCESSIONS | D3: 251 | E3: NC | F3: NC | G3: NC | H3: NC
A4: DAVIS WADE - WEST 100 | B4: 202 | C4: 100 LEVEL TOILET | D4: 396 | E4: 396 | F4: 2 | G4: EVENT CLEAN | H4: FB PREP, FB GAMES, SPECIAL EVENTS
A5: DAVIS WADE - WEST 100 | B5: 203 | C5: 100 LEVELTOILET | D5: 408 | E5: 408 | F5: 2 | G5: EVENT CLEAN | H5: FB PREP, FB GAMES, SPECIAL EVENTS
A6: DAVIS WADE - WEST 100 | B6: 204 | C6: 100 LEVEL STORAGE | D6: 97 | E6: NC | F6: NC | G6: NC | H6: NC
A7: DAVIS WADE - WEST 100 | B7: 205 | C7: PREMIUM - 100 LEVEL CORPORATE SUITE | D7: 537 | E7: 537 | F7: 2 | G7: EVENT CLEAN | H7: FB PREP, FB GAMES, SPECIAL EVENTS
A8: DAVIS WADE - WEST 100 | B8: 205A | C8: PREMIUM - 100 LEVEL CORPORATE SUITE TOILET | D8: 60 | E8: 60 | F8: 2 | G8: EVENT CLEAN | H8: FB PREP, FB GAMES, SPECIAL EVENTS
A9: DAVIS WADE - WEST 100 | B9: 205B | C9: PREMIUM - 100 LEVEL CORPORATE SUITE TOILET | D9: 60 | E9: 60 | F9: 2 | G9: EVENT CLEAN | H9: FB PREP, FB GAMES, SPECIAL EVENTS
A10: DAVIS WADE - WEST 100 | B10: 206 | C10: 100 LEVEL STORAGE | D10: 97 | E10: NC | F10: NC | G10: NC | H10: NC
A11: DAVIS WADE - WEST 100 | B11: 207 | C11: 100 LEVEL TOILET | D11: 408 | E11: 408 | F11: 2 | G11: EVENT CLEAN | H11: FB PREP, FB GAMES, SPECIAL EVENTS
A12: DAVIS WADE - WEST 100 | B12: 208 | C12: 100 LEVEL TOILET | D12: 395 | E12: 395 | F12: 2 | G12: EVENT CLEAN | H12: FB PREP, FB GAMES, SPECIAL EVENTS
A13: DAVIS WADE - WEST 100 | B13: 209 | C13: 100 LEVEL ELECTICAL | D13: 98 | E13: NC | F13: NC | G13: NC | H13: NC
A14: DAVIS WADE - WEST 100 | B14: 210 | C14: 100 LEVEL CONCESSIONS | D14: 251 | E14: NC | F14: NC | G14: NC | H14: NC
A15: DAVIS WADE - WEST 100 | B15: 255 | C15: 100 LEVEL CONCOURSE | D15: 8615 | E15: 8615 | F15: 2 | G15: EVENT CLEAN | H15: FB PREP, FB GAMES, SPECIAL EVENTS
A16: DAVIS WADE - WEST 100 | B16: 256 | C16: PREMIUM - CORPORATE SUITE ENTRANCE | D16: 43 | E16: 43 | F16: 2 | G16: EVENT CLEAN | H16: FB PREP, FB GAMES, SPECIAL EVENTS
A17: DAVIS WADE - WEST 100 | B17: 257 | C17: PREMIUM - CORPORATE SUITE ENTRANCE | D17: 43 | E17: 43 | F17: 2 | G17: EVENT CLEAN | H17: FB PREP, FB GAMES, SPECIAL EVENTS
A18: DAVIS WADE - WEST 100 | B18: 266 | C18: 100 LEVEL WEST ELEVATOR | D18: 68 | E18: 68 | F18: 2 | G18: EVENT CLEAN | H18: FB PREP, FB GAMES, SPECIAL EVENTS
A19: DAVIS WADE - WEST 100 | B19: 288 | C19: 100 LEVEL SOUTH WEST ELEVATOR | D19: 56 | E19: 56 | F19: 2 | G19: EVENT CLEAN | H19: FB PREP, FB GAMES, SPECIAL EVENTS
A20: DAVIS WADE - WEST 100 | B20: 289 | C20: 100 LEVEL SOUTH WEST ELEVATOR | D20: 56 | E20: 56 | F20: 2 | G20: EVENT CLEAN | H20: FB PREP, FB GAMES, SPECIAL EVENTS
D21: =SUM(D3:D20) | E21: =SUM(E3:E20)

Sheet Davis Wade - West 200
A1: DAVIS WADE - WEST 200
A2: BUILDING | B2: ROOM NO | C2: SPACE DESCRIPTION | D2: NET SQ FT | E2: CLEANABLE SQ FT | F2: APPA LEVEL | G2: FREQUENCY | H2: CLEANING WINDOW
A3: DAVIS WADE - WEST 200 | B3: 300 | C3: 200 LEVEL CONCESSIONS | D3: 251 | E3: NC | F3: NC | G3: NC | H3: NC
A4: DAVIS WADE - WEST 200 | B4: 301 | C4: 200 LEVEL TOILET | D4: 393 | E4: 393 | F4: 2 | G4: EVENT CLEAN | H4: FB PREP, FB GAMES, SPECIAL EVENTS
A5: DAVIS WADE - WEST 200 | B5: 302 | C5: 200 LEVEL TOILET | D5: 409 | E5: 409 | F5: 2 | G5: EVENT CLEAN | H5: FB PREP, FB GAMES, SPECIAL EVENTS
A6: DAVIS WADE - WEST 200 | B6: 303 | C6: 200 LEVEL PRESS BOX COMMUNICATION | D6: 70 | E6: NC | F6: NC | G6: NC | H6: NC
A7: DAVIS WADE - WEST 200 | B7: 304 | C7: 200 LEVEL PRESS BOX TOILET | D7: 115 | E7: 115 | F7: 2 | G7: EVENT CLEAN | H7: FB PREP, FB GAMES, SPECIAL EVENTS
A8: DAVIS WADE - WEST 200 | B8: 305 | C8: 200 LEVEL PRESS BOX PANTRY | D8: 125 | E8: 125 | F8: 2 | G8: EVENT CLEAN | H8: FB PREP, FB GAMES, SPECIAL EVENTS
A9: DAVIS WADE - WEST 200 | B9: 306 | C9: 200 LEVEL PRESS BOX | D9: 253 | E9: 253 | F9: 2 | G9: EVENT CLEAN | H9: FB PREP, FB GAMES, SPECIAL EVENTS
A10: DAVIS WADE - WEST 200 | B10: 307 | C10: 200 LEVEL PRESS BOX | D10: 108 | E10: 108 | F10: 2 | G10: EVENT CLEAN | H10: FB PREP, FB GAMES, SPECIAL EVENTS
A11: DAVIS WADE - WEST 200 | B11: 308 | C11: 200 LEVEL PRESS BOX | D11: 106 | E11: 106 | F11: 2 | G11: EVENT CLEAN | H11: FB PREP, FB GAMES, SPECIAL EVENTS
A12: DAVIS WADE - WEST 200 | B12: 309 | C12: 200 LEVEL PRESS BOX | D12: 108 | E12: 108 | F12: 2 | G12: EVENT CLEAN | H12: FB PREP, FB GAMES, SPECIAL EVENTS
A13: DAVIS WADE - WEST 200 | B13: 310 | C13: 200 LEVEL PRESS BOX | D13: 72 | E13: 72 | F13: 2 | G13: EVENT CLEAN | H13: FB PREP, FB GAMES, SPECIAL EVENTS
A14: DAVIS WADE - WEST 200 | B14: 310A | C14: 200 LEVEL PRESS BOX | D14: 36 | E14: 36 | F14: 2 | G14: EVENT CLEAN | H14: FB PREP, FB GAMES, SPECIAL EVENTS
A15: DAVIS WADE - WEST 200 | B15: 311 | C15: 200 LEVEL PRESS BOX | D15: 2730 | E15: 2730 | F15: 2 | G15: EVENT CLEAN | H15: FB PREP, FB GAMES, SPECIAL EVENTS
A16: DAVIS WADE - WEST 200 | B16: 311A | C16: 200 LEVEL PRESS BOX JANITOR CLOSET | D16: 20 | E16: NC | F16: NC | G16: NC | H16: NC
A17: DAVIS WADE - WEST 200 | B17: 312 | C17: 200 LEVEL PRESS BOX | D17: 1824 | E17: 1824 | F17: 2 | G17: EVENT CLEAN | H17: FB PREP, FB GAMES, SPECIAL EVENTS
A18: DAVIS WADE - WEST 200 | B18: 313 | C18: 200 LEVEL PRESS BOX STORAGE | D18: 137 | E18: NC | F18: NC | G18: NC | H18: NC
A19: DAVIS WADE - WEST 200 | B19: 314 | C19: 200 LEVEL PRESS BOX TOILET | D19: 209 | E19: 209 | F19: 2 | G19: EVENT CLEAN | H19: FB PREP, FB GAMES, SPECIAL EVENTS
A20: DAVIS WADE - WEST 200 | B20: 315 | C20: 200 LEVEL PRESS BOX | D20: 62 | E20: 62 | F20: 2 | G20: EVENT CLEAN | H20: FB PREP, FB GAMES, SPECIAL EVENTS
A21: DAVIS WADE - WEST 200 | B21: 316 | C21: 200 LEVEL PRESS BOX | D21: 181 | E21: 181 | F21: 2 | G21: EVENT CLEAN | H21: FB PREP, FB GAMES, SPECIAL EVENTS
A22: DAVIS WADE - WEST 200 | B22: 317 | C22: 200 LEVEL PRESS BOX | D22: 219 | E22: 219 | F22: 2 | G22: EVENT CLEAN | H22: FB PREP, FB GAMES, SPECIAL EVENTS
A23: DAVIS WADE - WEST 200 | B23: 318 | C23: 200 LEVEL PRESS BOX | D23: 108 | E23: 108 | F23: 2 | G23: EVENT CLEAN | H23: FB PREP, FB GAMES, SPECIAL EVENTS
A24: DAVIS WADE - WEST 200 | B24: 319 | C24: 200 LEVEL PRESS BOX | D24: 109 | E24: 109 | F24: 2 | G24: EVENT CLEAN | H24: FB PREP, FB GAMES, SPECIAL EVENTS
A25: DAVIS WADE - WEST 200 | B25: 320 | C25: 200 LEVEL PRESS BOX | D25: 253 | E25: 253 | F25: 2 | G25: EVENT CLEAN | H25: FB PREP, FB GAMES, SPECIAL EVENTS
A26: DAVIS WADE - WEST 200 | B26: 321 | C26: 200 LEVEL TOILET | D26: 407 | E26: 407 | F26: 2 | G26: EVENT CLEAN | H26: FB PREP, FB GAMES, SPECIAL EVENTS
A27: DAVIS WADE - WEST 200 | B27: 322 | C27: 200 LEVEL TOILET | D27: 394 | E27: 394 | F27: 2 | G27: EVENT CLEAN | H27: FB PREP, FB GAMES, SPECIAL EVENTS
A28: DAVIS WADE - WEST 200 | B28: 323 | C28: 200 LEVEL CONCESSIONS | D28: 251 | E28: NC | F28: NC | G28: NC | H28: NC
A29: DAVIS WADE - WEST 200 | B29: 353 | C29: 200 LEVEL ELEVATOR | D29: 68 | E29: 68 | F29: 2 | G29: EVENT CLEAN | H29: FB PREP, FB GAMES, SPECIAL EVENTS
A30: DAVIS WADE - WEST 200 | B30: 354 | C30: 200 LEVEL REAR CONCOURSE | D30: 1583 | E30: 1583 | F30: 2 | G30: EVENT CLEAN | H30: FB PREP, FB GAMES, SPECIAL EVENTS
A31: DAVIS WADE - WEST 200 | B31: 355 | C31: 200 LEVEL SOUTH CONCOURSE | D31: 2152 | E31: 2152 | F31: 2 | G31: EVENT CLEAN | H31: FB PREP, FB GAMES, SPECIAL EVENTS
A32: DAVIS WADE - WEST 200 | B32: 356 | C32: 200 LEVEL NORTH CONCOURSE | D32: 2240 | E32: 2240 | F32: 2 | G32: EVENT CLEAN | H32: FB PREP, FB GAMES, SPECIAL EVENTS
A33: DAVIS WADE - WEST 200 | B33: 388 | C33: 200 LEVEL SOUTH ELEVATOR | D33: 56 | E33: 56 | F33: 2 | G33: EVENT CLEAN | H33: FB PREP, FB GAMES, SPECIAL EVENTS
A34: DAVIS WADE - WEST 200 | B34: 389 | C34: 200 LEVEL SOUTH ELEVATOR | D34: 56 | E34: 56 | F34: 2 | G34: EVENT CLEAN | H34: FB PREP, FB GAMES, SPECIAL EVENTS
D35: =SUM(D3:D34) | E35: =SUM(E3:E34)

Sheet Davis Wade - West 300
A1: DAVIS WADE - WEST 300
A2: BUILDING | B2: ROOM NO | C2: SPACE DESCRIPTION | D2: NET SQ FT | E2: CLEANABLE SQ FT | F2: APPA LEVEL | G2: FREQUENCY | H2: CLEANING WINDOW
A3: DAVIS WADE - WEST 300 | B3: 400 | C3: 300 LEVEL CONCESSIONS | D3: 694 | E3: NC | F3: NC | G3: NC | H3: NC
A4: DAVIS WADE - WEST 300 | B4: 400A | C4: 300 LEVEL ELECTRICAL | D4: 99 | E4: NC | F4: NC | G4: NC | H4: NC
A5: DAVIS WADE - WEST 300 | B5: 401 | C5: 300 LEVEL TOILET | D5: 387 | E5: 387 | F5: 2 | G5: EVENT CLEAN | H5: FB PREP, FB GAMES, SPECIAL EVENTS
A6: DAVIS WADE - WEST 300 | B6: 402 | C6: 300 LEVEL TOILET | D6: 422 | E6: 422 | F6: 2 | G6: EVENT CLEAN | H6: FB PREP, FB GAMES, SPECIAL EVENTS
A7: DAVIS WADE - WEST 300 | B7: 403 | C7: 300 LEVEL CONCESSIONS | D7: 431 | E7: NC | F7: NC | G7: NC | H7: NC
A8: DAVIS WADE - WEST 300 | B8: 404 | C8: 300 LEVEL CUSTODIAL CLOSET | D8: 20 | E8: NC | F8: NC | G8: NC | H8: NC
A9: DAVIS WADE - WEST 300 | B9: 405 | C9: 300 LEVEL TOILET | D9: 255 | E9: 255 | F9: 2 | G9: EVENT CLEAN | H9: FB PREP, FB GAMES, SPECIAL EVENTS
A10: DAVIS WADE - WEST 300 | B10: 406 | C10: 300 LEVEL FIRST AID | D10: 274 | E10: 274 | F10: 2 | G10: EVENT CLEAN | H10: FB PREP, FB GAMES, SPECIAL EVENTS
A11: DAVIS WADE - WEST 300 | B11: 406A | C11: 300 LEVEL FIRST AID TOILET | D11: 87 | E11: 87 | F11: 2 | G11: EVENT CLEAN | H11: FB PREP, FB GAMES, SPECIAL EVENTS
A12: DAVIS WADE - WEST 300 | B12: 406B | C12: 300 LEVEL FIRST AID CLOSET | D12: 37 | E12: NC | F12: NC | G12: NC | H12: NC
A13: DAVIS WADE - WEST 300 | B13: 408 | C13: 300 LEVEL CONCESSIONS | D13: 270 | E13: NC | F13: NC | G13: NC | H13: NC
A14: DAVIS WADE - WEST 300 | B14: 408A | C14: 300 LEVEL CONCESSIONS | D14: 294 | E14: NC | F14: NC | G14: NC | H14: NC
A15: DAVIS WADE - WEST 300 | B15: 409 | C15: 300 LEVEL TOILET | D15: 422 | E15: 422 | F15: 2 | G15: EVENT CLEAN | H15: FB PREP, FB GAMES, SPECIAL EVENTS
A16: DAVIS WADE - WEST 300 | B16: 410 | C16: 300 LEVEL TOILET | D16: 386 | E16: 386 | F16: 2 | G16: EVENT CLEAN | H16: FB PREP, FB GAMES, SPECIAL EVENTS
A17: DAVIS WADE - WEST 300 | B17: 411 | C17: 300 LEVEL CONCESSIONS | D17: 427 | E17: NC | F17: NC | G17: NC | H17: NC
A18: DAVIS WADE - WEST 300 | B18: 411B | C18: 300 LEVEL CONCESSIONS | D18: 217 | E18: NC | F18: NC | G18: NC | H18: NC
A19: DAVIS WADE - WEST 300 | B19: 412 | C19: 300 LEVEL ELEVATOR | D19: 68 | E19: 68 | F19: 2 | G19: EVENT CLEAN | H19: FB PREP, FB GAMES, SPECIAL EVENTS
A20: DAVIS WADE - WEST 300 | B20: 413 | C20: 300 LEVEL ELECTRICAL SOUTH | D20: 90 | E20: NC | F20: NC | G20: NC | H20: NC
A21: DAVIS WADE - WEST 300 | B21: 413A | C21: 300 LEVEL ELECTRICAL NORTH | D21: 199 | E21: NC | F21: NC | G21: NC | H21: NC
A22: DAVIS WADE - WEST 300 | C22: 300 LEVEL BALCONIES SOUTH | D22: 5316 | E22: 5316 | F22: 2 | G22: EVENT CLEAN | H22: FB PREP, FB GAMES, SPECIAL EVENTS
A23: DAVIS WADE - WEST 300 | C23: 300 LEVEL BALCONIES NORTH | D23: 5398 | E23: 5398 | F23: 2 | G23: EVENT CLEAN | H23: FB PREP, FB GAMES, SPECIAL EVENTS
A24: DAVIS WADE - WEST 300 | B24: 466 | C24: PUBLIC CONCOURSE | D24: 9461 | E24: 9461 | F24: 2 | G24: EVENT CLEAN | H24: FB PREP, FB GAMES, SPECIAL EVENTS
D25: =SUM(D3:D24) | E25: =SUM(E3:E24)

Sheet Davis Wade - North Ground
A1: DAVIS WADE - NORTH GROUND
A2: BUILDING | B2: ROOM NO | C2: SPACE DESCRIPTION | D2: NET SQ FT | E2: CLEANABLE SQ FT | F2: APPA LEVEL | G2: FREQUENCY | H2: CLEANING WINDOW
A3: DAVIS WADE - NORTH GROUND | B3: 1 | C3: NORTH GROUND COMMUNICATIONS | D3: 437 | E3: NC | F3: NC | G3: NC | H3: NC
A4: DAVIS WADE - NORTH GROUND | B4: 2 | C4: NORTH GROUND ELECTRICAL | D4: 134 | E4: NC | F4: NC | G4: NC | H4: NC
A5: DAVIS WADE - NORTH GROUND | B5: 3 | C5: NORTH GROUND MECHANICAL | D5: 2514 | E5: NC | F5: NC | G5: NC | H5: NC
A6: DAVIS WADE - NORTH GROUND | B6: 4 | C6: NORTH GROUND TEAM LOCKER ROOM | D6: 3206 | E6: 3206 | F6: 2 | G6: AUG-DEC: EVENT CLEAN; JAN-JULY: MONTHLY | H6: FB PREP, FB GAMES, SPECIAL EVENTS
A7: DAVIS WADE - NORTH GROUND | B7: 004A | C7: NORTH GROUND TEAM TRAINING ROOM | D7: 585 | E7: 585 | F7: 2 | G7: AUG-DEC: EVENT CLEAN; JAN-JULY: MONTHLY | H7: FB PREP, FB GAMES, SPECIAL EVENTS
A8: DAVIS WADE - NORTH GROUND | B8: 004B | C8: NORTH GROUND TEAM COACHES LOUNGE | D8: 322 | E8: 322 | F8: 2 | G8: AUG-DEC: EVENT CLEAN; JAN-JULY: MONTHLY | H8: FB PREP, FB GAMES, SPECIAL EVENTS
A9: DAVIS WADE - NORTH GROUND | B9: 004C | C9: NORTH GROUND TEAM EQUIPMENT ROOM | D9: 816 | E9: NC | F9: NC | G9: NC | H9: NC
A10: DAVIS WADE - NORTH GROUND | B10: 004D | C10: NORTH GROUND CUSTODIAL CLOSET | D10: 42 | E10: NC | F10: NC | G10: NC | H10: NC
A11: DAVIS WADE - NORTH GROUND | B11: 004E | C11: NORTH GROUND HOME TEAM TOILET/SHOWER | D11: 1429 | E11: 1429 | F11: 2 | G11: AUG-DEC: EVENT CLEAN; JAN-JULY: MONTHLY | H11: FB PREP, FB GAMES, SPECIAL EVENTS
A12: DAVIS WADE - NORTH GROUND | B12: 004F | C12: NORTH GROUND STORAGE | D12: 27 | E12: NC | F12: NC | G12: NC | H12: NC
A13: DAVIS WADE - NORTH GROUND | B13: 004G | C13: NORTH GROUND HOME TEAM COACHES LOCKER ROOM | D13: 283 | E13: 283 | F13: 2 | G13: AUG-DEC: EVENT CLEAN; JAN-JULY: MONTHLY | H13: FB PREP, FB GAMES, SPECIAL EVENTS
A14: DAVIS WADE - NORTH GROUND | B14: 004H | C14: NORTH GROUND HOME TEAM COACHES TOILET/SHOWER | D14: 321 | E14: 321 | F14: 2 | G14: AUG-DEC: EVENT CLEAN; JAN-JULY: MONTHLY | H14: FB PREP, FB GAMES, SPECIAL EVENTS
A15: DAVIS WADE - NORTH GROUND | B15: 5 | C15: NORTH GROUND TICKET OFFICE | D15: 657 | E15: 657 | F15: 2 | G15: AUG-DEC: EVENT CLEAN; JAN-JULY: MONTHLY | H15: FB PREP, FB GAMES, SPECIAL EVENTS
A16: DAVIS WADE - NORTH GROUND | B16: 005A | C16: NORTH GROUND TOILET | D16: 57 | E16: 57 | F16: 2 | G16: DAILY CLEAN | H16: 7:00PM-7:00AM
A17: DAVIS WADE - NORTH GROUND | B17: 005B | C17: NORTH GROUND OFFICE | D17: 192 | E17: 192 | F17: 2 | G17: DAILY CLEAN | H17: 7:00PM-7:00AM
A18: DAVIS WADE - NORTH GROUND | B18: 6 | C18: NORTH GROUND MECHANICAL | D18: 101 | E18: NC | F18: NC | G18: NC | H18: NC
A19: DAVIS WADE - NORTH GROUND | B19: 7 | C19: NORTH GROUND ELECTRICAL | D19: 554 | E19: NC | F19: NC | G19: NC | H19: NC
A20: DAVIS WADE - NORTH GROUND | B20: 8 | C20: NORTH GROUND MECHANICAL | D20: 3234 | E20: NC | F20: NC | G20: NC | H20: NC
A21: DAVIS WADE - NORTH GROUND | B21: 008A | C21: NORTH GROUND COMMUNICATIONS | D21: 120 | E21: NC | F21: NC | G21: NC | H21: NC
A22: DAVIS WADE - NORTH GROUND | B22: 9 | C22: NORTH GROUND RECRUITING LOUNGE | D22: 2149 | E22: 2149 | F22: 2 | G22: DAILY CLEAN | H22: 7:00PM-7:00AM
A23: DAVIS WADE - NORTH GROUND | B23: 009A | C23: NORTH GROUND CLOSET | D23: 27 | E23: NC | F23: NC | G23: NC | H23: NC
A24: DAVIS WADE - NORTH GROUND | B24: 009B | C24: NORTH GROUND CLOSET | D24: 12 | E24: NC | F24: NC | G24: NC | H24: NC
A25: DAVIS WADE - NORTH GROUND | B25: 009C | C25: NORTH GROUND TOILET | D25: 332 | E25: 332 | F25: 2 | G25: DAILY CLEAN | H25: 7:00PM-7:00AM
A26: DAVIS WADE - NORTH GROUND | B26: 009D | C26: NORTH GROUND TOILET | D26: 252 | E26: 252 | F26: 2 | G26: DAILY CLEAN | H26: 7:00PM-7:00AM
A27: DAVIS WADE - NORTH GROUND | B27: 10 | C27: NORTH GROUND HOME ASST COACHES LOCKER ROOM | D27: 484 | E27: 484 | F27: 2 | G27: AUG-DEC: EVENT CLEAN; JAN-JULY: MONTHLY | H27: FB PREP, FB GAMES, SPECIAL EVENTS
A28: DAVIS WADE - NORTH GROUND | B28: 010A | C28: NORTH GROUND HOME ASST COACHES TOILET/LOCKER | D28: 324 | E28: 324 | F28: 2 | G28: AUG-DEC: EVENT CLEAN; JAN-JULY: MONTHLY | H28: FB PREP, FB GAMES, SPECIAL EVENTS
A29: DAVIS WADE - NORTH GROUND | B29: 11 | C29: NORTH GROUND PREMIUM CATERING KITCHEN | D29: 2724 | E29: NC | F29: NC | G29: NC | H29: NC
A30: DAVIS WADE - NORTH GROUND | B30: 011A | C30: NORTH GROUND PREMIUM CATERING STORAGE | D30: 96 | E30: NC | F30: NC | G30: NC | H30: NC
A31: DAVIS WADE - NORTH GROUND | B31: 011B | C31: NORTH GROUND PREMIUM CATERING OFFICE | D31: 106 | E31: NC | F31: NC | G31: NC | H31: NC
A32: DAVIS WADE - NORTH GROUND | B32: 011C | C32: NORTH GROUND PREMIUM CATERING OFFICE | D32: 119 | E32: NC | F32: NC | G32: NC | H32: NC
A33: DAVIS WADE - NORTH GROUND | B33: 011D | C33: NORTH GROUND PREMIUM CATERING OFFICE | D33: 126 | E33: NC | F33: NC | G33: NC | H33: NC
A34: DAVIS WADE - NORTH GROUND | B34: 011E | C34: NORTH GROUND PREMIUM CATERING STORAGE | D34: 50 | E34: NC | F34: NC | G34: NC | H34: NC
A35: DAVIS WADE - NORTH GROUND | B35: 11F | C35: NORTH GROUND ELECTRICAL | D35: 983 | E35: NC | F35: NC | G35: NC | H35: NC
A36: DAVIS WADE - NORTH GROUND | B36: 011G | C36: NORTH GROUND CORRIDOR | D36: 303 | E36: NC | F36: NC | G36: NC | H36: NC
A37: DAVIS WADE - NORTH GROUND | B37: 011H | C37: NORTH GROUND PREMIUM CATERING | D37: 436 | E37: NC | F37: NC | G37: NC | H37: NC
A38: DAVIS WADE - NORTH GROUND | B38: 011I | C38: NORTH GROUND PREMIUM CATERING | D38: 285 | E38: NC | F38: NC | G38: NC | H38: NC
A39: DAVIS WADE - NORTH GROUND | B39: 011J | C39: NORTH GROUND PREMIUM CATERING | D39: 218 | E39: NC | F39: NC | G39: NC | H39: NC
A40: DAVIS WADE - NORTH GROUND | B40: 011K | C40: NORTH GROUND PREMIUM CATERING COOLER/FREEZER | D40: 328 | E40: NC | F40: NC | G40: NC | H40: NC
A41: DAVIS WADE - NORTH GROUND | B41: 011L | C41: NORTH GROUND PREMIUM CATERING | D41: 103 | E41: NC | F41: NC | G41: NC | H41: NC
A42: DAVIS WADE - NORTH GROUND | B42: 12 | C42: NORTH GROUND MEDICAL ROOM | D42: 309 | E42: NC | F42: NC | G42: NC | H42: NC
A43: DAVIS WADE - NORTH GROUND | B43: 13 | C43: NORTH GROUND TOILET | D43: 67 | E43: 67 | F43: 2 | G43: AUG-DEC: EVENT CLEAN; JAN-JULY: MONTHLY | H43: FB PREP, FB GAMES, SPECIAL EVENTS
A44: DAVIS WADE - NORTH GROUND | B44: 013A | C44: NORTH GROUND GRIDIRON PREMIUM STORAGE | D44: 434 | E44: NC | F44: NC | G44: NC | H44: NC
A45: DAVIS WADE - NORTH GROUND | B45: 013B | C45: NORTH GROUND GRIDIRON PREMIUM TOILET | D45: 429 | E45: 429 | F45: 2 | G45: AUG-DEC: EVENT CLEAN; JAN-JULY: MONTHLY | H45: FB PREP, FB GAMES, SPECIAL EVENTS
A46: DAVIS WADE - NORTH GROUND | B46: 013C | C46: NORTH GROUND GRIDIRON PREMIUM TOILET | D46: 413 | E46: 413 | F46: 2 | G46: AUG-DEC: EVENT CLEAN; JAN-JULY: MONTHLY | H46: FB PREP, FB GAMES, SPECIAL EVENTS
A47: DAVIS WADE - NORTH GROUND | B47: 013D | C47: NORTH GROUND GRIDIRON PREMIUM PANTRY | D47: 266 | E47: NC | F47: NC | G47: NC | H47: NC
A48: DAVIS WADE - NORTH GROUND | B48: 013E | C48: NORTH GROUND GRIDIRON PREMIUM FOOD PREP | D48: 237 | E48: NC | F48: NC | G48: NC | H48: NC
A49: DAVIS WADE - NORTH GROUND | B49: 013F | C49: NORTH GROUND GRIDIRON PREMIUM FOOD PREP | D49: 236 | E49: NC | F49: NC | G49: NC | H49: NC
A50: DAVIS WADE - NORTH GROUND | B50: 013G | C50: NORTH GROUND GRIDIRON PREMIUM TOILET | D50: 420 | E50: 420 | F50: 2 | G50: AUG-DEC: EVENT CLEAN; JAN-JULY: MONTHLY | H50: FB PREP, FB GAMES, SPECIAL EVENTS
A51: DAVIS WADE - NORTH GROUND | B51: 013H | C51: NORTH GROUND GRIDIRON PREMIUM TOILET | D51: 418 | E51: 418 | F51: 2 | G51: AUG-DEC: EVENT CLEAN; JAN-JULY: MONTHLY | H51: FB PREP, FB GAMES, SPECIAL EVENTS
A52: DAVIS WADE - NORTH GROUND | B52: 013I | C52: NORTH GROUND GRIDIRON PREMIUM PANTRY | D52: 410 | E52: NC | F52: NC | G52: NC | H52: NC
A53: DAVIS WADE - NORTH GROUND | B53: 013J | C53: NORTH GROUND GRIDIRON PREMIUM SUITE | D53: 485 | E53: 485 | F53: 2 | G53: EVENT CLEAN | H53: FB PREP, FB GAMES, SPECIAL EVENTS
A54: DAVIS WADE - NORTH GROUND | B54: 013K | C54: NORTH GROUND GRIDIRON PREMIUM SUITE | D54: 484 | E54: 484 | F54: 2 | G54: EVENT CLEAN | H54: FB PREP, FB GAMES, SPECIAL EVENTS
A55: DAVIS WADE - NORTH GROUND | B55: 15 | C55: NORTH GROUND LOADING DOCK | D55: 2880 | E55: NC | F55: NC | G55: NC | H55: NC
A56: DAVIS WADE - NORTH GROUND | B56: 015A | C56: NORTH GROUND OFFICE | D56: 311 | E56: NC | F56: NC | G56: NC | H56: NC
A57: DAVIS WADE - NORTH GROUND | B57: 015B | C57: NORTH GROUND CLOSET | D57: 53 | E57: NC | F57: NC | G57: NC | H57: NC
A58: DAVIS WADE - NORTH GROUND | B58: 015C | C58: NORTH GROUND TOILET | D58: 59 | E58: NC | F58: NC | G58: NC | H58: NC
A59: DAVIS WADE - NORTH GROUND | B59: 015D | C59: NORTH GROUND ATHLETIC TURF PAINT ROOM | D59: 675 | E59: NC | F59: NC | G59: NC | H59: NC
A60: DAVIS WADE - NORTH GROUND | B60: 015E | C60: NORTH GROUND ATHLETIC TURF STORAGE | D60: 1193 | E60: NC | F60: NC | G60: NC | H60: NC
A61: DAVIS WADE - NORTH GROUND | B61: 015F | C61: NORTH GROUND CENTRAL COMPUTER OR TELECOMMUNICATIONS | D61: 104 | E61: NC | F61: NC | G61: NC | H61: NC
A62: DAVIS WADE - NORTH GROUND | B62: 16 | C62: NORTH GROUND PREMIUM GRIDIRON CLUB | D62: 9080 | E62: 9080 | F62: 2 | G62: AUG-DEC: EVENT CLEAN; JAN-JULY: MONTHLY | H62: FB PREP, FB GAMES, SPECIAL EVENTS
A63: DAVIS WADE - NORTH GROUND | B63: 20 | C63: NORTH GROUND STAIRWAY | D63: 372 | E63: NC | F63: NC | G63: NC | H63: NC
A64: DAVIS WADE - NORTH GROUND | B64: 21 | C64: NORTH GROUND STAIRWAY | D64: 357 | E64: NC | F64: NC | G64: NC | H64: NC
A65: DAVIS WADE - NORTH GROUND | B65: 22 | C65: NORTH GROUND STAIRWAY | D65: 1793 | E65: 1793 | F65: 2 | G65: EVENT CLEAN | H65: FB PREP, FB GAMES, SPECIAL EVENTS
A66: DAVIS WADE - NORTH GROUND | B66: 23 | C66: NORTH GROUND STAIRWAY | D66: 271 | E66: 271 | F66: 2 | G66: EVENT CLEAN | H66: FB PREP, FB GAMES, SPECIAL EVENTS
A67: DAVIS WADE - NORTH GROUND | B67: 30 | C67: NORTH GROUND SERVICE ELEVATOR | D67: 83 | E67: 83 | F67: 2 | G67: EVENT CLEAN | H67: FB PREP, FB GAMES, SPECIAL EVENTS
A68: DAVIS WADE - NORTH GROUND | B68: 31 | C68: NORTH GROUND MAIN ELEVATOR LOBBY | D68: 1731 | E68: 1731 | F68: 2 | G68: EVENT CLEAN | H68: FB PREP, FB GAMES, SPECIAL EVENTS
A69: DAVIS WADE - NORTH GROUND | B69: 32 | C69: NORTH GROUND ELEVATOR | D69: 73 | E69: 73 | F69: 2 | G69: EVENT CLEAN | H69: FB PREP, FB GAMES, SPECIAL EVENTS
A70: DAVIS WADE - NORTH GROUND | B70: 33 | C70: NORTH GROUND ELEVATOR | D70: 73 | E70: 73 | F70: 2 | G70: EVENT CLEAN | H70: FB PREP, FB GAMES, SPECIAL EVENTS
A71: DAVIS WADE - NORTH GROUND | B71: 34 | C71: NORTH GROUND NORTH WEST ELEVATOR LOBBY | D71: 942 | E71: 942 | F71: 2 | G71: EVENT CLEAN | H71: FB PREP, FB GAMES, SPECIAL EVENTS
A72: DAVIS WADE - NORTH GROUND | B72: 35 | C72: NORTH GROUND NORTH WEST ELEVATOR | D72: 83 | E72: 83 | F72: 2 | G72: EVENT CLEAN | H72: FB PREP, FB GAMES, SPECIAL EVENTS
A73: DAVIS WADE - NORTH GROUND | B73: 36 | C73: NORTH GROUND NORTH WEST ELEVATOR | D73: 83 | E73: 83 | F73: 2 | G73: EVENT CLEAN | H73: FB PREP, FB GAMES, SPECIAL EVENTS
A74: DAVIS WADE - NORTH GROUND | B74: 37 | C74: NORTH GROUND STORAGE | D74: 154 | E74: NC | F74: NC | G74: NC | H74: NC
A75: DAVIS WADE - NORTH GROUND | B75: 38 | C75: NORTH GROUND STORAGE | D75: 45 | E75: NC | F75: NC | G75: NC | H75: NC
A76: DAVIS WADE - NORTH GROUND | B76: 40 | C76: NORTH GROUND RECRUITING REAR CORRIDOR | D76: 6812 | E76: 6812 | F76: 2 | G76: AUG-DEC: EVENT CLEAN; JAN-JULY: MONTHLY | H76: FB PREP, FB GAMES, SPECIAL EVENTS
A77: DAVIS WADE - NORTH GROUND | B77: 40A | C77: NORTH GROUND TEAM REAR CORRIDOR | D77: 1840 | E77: 1840 | F77: 2 | G77: AUG-DEC: EVENT CLEAN; JAN-JULY: MONTHLY | H77: FB PREP, FB GAMES, SPECIAL EVENTS
A78: DAVIS WADE - NORTH GROUND | B78: 40B | C78: NORTH GROUND NORTHWEST CORRIDOR | D78: 1042 | E78: 1042 | F78: 2 | G78: AUG-DEC: EVENT CLEAN; JAN-JULY: MONTHLY | H78: FB PREP, FB GAMES, SPECIAL EVENTS
A79: DAVIS WADE - NORTH GROUND | B79: 40C | C79: NORTH GROUND GRIDIRON CORRIDOR | D79: 1413 | E79: 1413 | F79: 2 | G79: AUG-DEC: EVENT CLEAN; JAN-JULY: MONTHLY | H79: FB PREP, FB GAMES, SPECIAL EVENTS
A80: DAVIS WADE - NORTH GROUND | B80: 40D | C80: NORTH GROUND G-LOBBY | D80: 1616 | E80: 1616 | F80: 2 | G80: AUG-DEC: EVENT CLEAN; JAN-JULY: MONTHLY | H80: FB PREP, FB GAMES, SPECIAL EVENTS
A81: DAVIS WADE - NORTH GROUND | B81: 40E | C81: NORTH GROUND SERVICE ELEVATOR CORRIDOR | D81: 904 | E81: 904 | F81: 2 | G81: AUG-DEC: EVENT CLEAN; JAN-JULY: MONTHLY | H81: FB PREP, FB GAMES, SPECIAL EVENTS
A82: DAVIS WADE - NORTH GROUND | B82: 41 | C82: NORTH GROUND HOME TEAM LOCKER ROOM ENTRANCE | D82: 290 | E82: 290 | F82: 2 | G82: AUG-DEC: EVENT CLEAN; JAN-JULY: MONTHLY | H82: FB PREP, FB GAMES, SPECIAL EVENTS
A83: DAVIS WADE - NORTH GROUND | B83: 42 | C83: NORTH GROUND GRIDIRON WEST EXIT | D83: 389 | E83: 389 | F83: 2 | G83: AUG-DEC: EVENT CLEAN; JAN-JULY: MONTHLY | H83: FB PREP, FB GAMES, SPECIAL EVENTS
A84: DAVIS WADE - NORTH GROUND | B84: 43 | C84: NORTH GROUND HOME TEAM LOCKER ROOM ENTRANCE | D84: 150 | E84: 150 | F84: 2 | G84: AUG-DEC: EVENT CLEAN; JAN-JULY: MONTHLY | H84: FB PREP, FB GAMES, SPECIAL EVENTS
A85: DAVIS WADE - NORTH GROUND | B85: 45 | C85: NORTH GROUND BROADCAST CORRIDOR | D85: 687 | E85: 687 | F85: 2 | G85: DAILY CLEAN | H85: 7:00PM-7:00AM
A86: DAVIS WADE - NORTH GROUND | B86: 46 | C86: NORTH GROUND LOBBY | D86: 55 | E86: 55 | F86: 2 | G86: DAILY CLEAN | H86: 7:00PM-7:00AM
A87: DAVIS WADE - NORTH GROUND | B87: 47 | C87: NORTH GROUND GRIDIRON EAST EXIT | D87: 298 | E87: 298 | F87: 2 | G87: AUG-DEC: EVENT CLEAN; JAN-JULY: MONTHLY | H87: FB PREP, FB GAMES, SPECIAL EVENTS
A88: DAVIS WADE - NORTH GROUND | B88: 48 | C88: NORTH GROUND PUBLIC CORRIDOR | D88: 2815 | E88: 2815 | F88: 2 | G88: AUG-DEC: EVENT CLEAN; JAN-JULY: MONTHLY | H88: FB PREP, FB GAMES, SPECIAL EVENTS
A89: DAVIS WADE - NORTH GROUND | B89: 50 | C89: NORTH GROUND RECRUITING LOUNGE | D89: 1232 | E89: 1232 | F89: 2 | G89: AUG-DEC: EVENT CLEAN; JAN-JULY: MONTHLY | H89: FB PREP, FB GAMES, SPECIAL EVENTS
A90: DAVIS WADE - NORTH GROUND | B90: 050A | C90: NORTH GROUND CLOSET | D90: 33 | E90: NC | F90: NC | G90: NC | H90: NC
A91: DAVIS WADE - NORTH GROUND | B91: 51 | C91: NORTH GROUND OFFICE | D91: 329 | E91: 329 | F91: 2 | G91: DAILY CLEAN | H91: 7:00PM-7:00AM
A92: DAVIS WADE - NORTH GROUND | B92: 52 | C92: NORTH GROUND OFFICE | D92: 311 | E92: 311 | F92: 2 | G92: DAILY CLEAN | H92: 7:00PM-7:00AM
A93: DAVIS WADE - NORTH GROUND | B93: 53 | C93: NORTH GROUND BROADCAST | D93: 193 | E93: 193 | F93: 2 | G93: DAILY CLEAN | H93: 7:00PM-7:00AM
A94: DAVIS WADE - NORTH GROUND | B94: 54 | C94: NORTH GROUND BROADCAST | D94: 102 | E94: 102 | F94: 2 | G94: DAILY CLEAN | H94: 7:00PM-7:00AM
A95: DAVIS WADE - NORTH GROUND | B95: 55 | C95: NORTH GROUND BROADCAST | D95: 161 | E95: 161 | F95: 2 | G95: DAILY CLEAN | H95: 7:00PM-7:00AM
A96: DAVIS WADE - NORTH GROUND | B96: 56 | C96: NORTH GROUND BROADCAST | D96: 344 | E96: 344 | F96: 2 | G96: DAILY CLEAN | H96: 7:00PM-7:00AM
A97: DAVIS WADE - NORTH GROUND | B97: 57 | C97: NORTH GROUND OFFICE | D97: 86 | E97: 86 | F97: 2 | G97: DAILY CLEAN | H97: 7:00PM-7:00AM
A98: DAVIS WADE - NORTH GROUND | B98: 58 | C98: NORTH GROUND BROADCAST | D98: 494 | E98: 494 | F98: 2 | G98: DAILY CLEAN | H98: 7:00PM-7:00AM
A99: DAVIS WADE - NORTH GROUND | B99: 59 | C99: NORTH GROUND OFFICE | D99: 93 | E99: 93 | F99: 2 | G99: DAILY CLEAN | H99: 7:00PM-7:00AM
A100: DAVIS WADE - NORTH GROUND | B100: 60 | C100: NORTH GROUND OFFICE | D100: 95 | E100: 95 | F100: 2 | G100: DAILY CLEAN | H100: 7:00PM-7:00AM
...

Sheet Davis Wade - North Main
A1: DAVIS WADE - NORTH MAIN
A2: BUILDING | B2: ROOM NO | C2: SPACE DESCRIPTION | D2: NET SQ FT | E2: CLEANABLE SQ FT | F2: APPA LEVEL | G2: FREQUENCY | H2: CLEANING WINDOW
A3: DAVIS WADE - NORTH MAIN | B3: 122 | C3: NORTH MAIN MECHANICAL | D3: 199 | E3: NC | F3: NC | G3: NC | H3: NC
A4: DAVIS WADE - NORTH MAIN | B4: 123 | C4: NORTH MAIN ELECTRICAL | D4: 212 | E4: NC | F4: NC | G4: NC | H4: NC
A5: DAVIS WADE - NORTH MAIN | B5: 124 | C5: NORTH MAIN TOILET | D5: 1127 | E5: 1127 | F5: 2 | G5: EVENT CLEAN | H5: FB PREP, FB GAMES, SPECIAL EVENTS
A6: DAVIS WADE - NORTH MAIN | B6: 125 | C6: NORTH MAIN JANITOR CLOSET | D6: 76 | E6: NC | F6: NC | G6: NC | H6: NC
A7: DAVIS WADE - NORTH MAIN | B7: 126 | C7: NORTH MAIN TOILET | D7: 56 | E7: 56 | F7: 2 | G7: EVENT CLEAN | H7: FB PREP, FB GAMES, SPECIAL EVENTS
A8: DAVIS WADE - NORTH MAIN | B8: 127 | C8: NORTH MAIN TOILET | D8: 1077 | E8: 1077 | F8: 2 | G8: EVENT CLEAN | H8: FB PREP, FB GAMES, SPECIAL EVENTS
A9: DAVIS WADE - NORTH MAIN | B9: 128 | C9: NORTH MAIN CONCESSIONS STORAGE | D9: 670 | E9: NC | F9: NC | G9: NC | H9: NC
A10: DAVIS WADE - NORTH MAIN | B10: 129 | C10: NORTH MAIN GRIDIRON PREMIUM STAIRWAY | D10: 638 | E10: 638 | F10: 2 | G10: EVENT CLEAN | H10: FB PREP, FB GAMES, SPECIAL EVENTS
A11: DAVIS WADE - NORTH MAIN | B11: 130 | C11: NORTH MAIN FIRST AID | D11: 146 | E11: 146 | F11: 2 | G11: EVENT CLEAN | H11: FB PREP, FB GAMES, SPECIAL EVENTS
A12: DAVIS WADE - NORTH MAIN | B12: 130A | C12: NORTH MAIN TOILET | D12: 64 | E12: 64 | F12: 2 | G12: EVENT CLEAN | H12: FB PREP, FB GAMES, SPECIAL EVENTS
A13: DAVIS WADE - NORTH MAIN | B13: 132 | C13: NORTH MAIN CONCESSIONS OFFICE | D13: 160 | E13: NC | F13: NC | G13: NC | H13: NC
A14: DAVIS WADE - NORTH MAIN | B14: 132A | C14: NORTH MAIN CONCESSIONS OFFICE | D14: 105 | E14: NC | F14: NC | G14: NC | H14: NC
A15: DAVIS WADE - NORTH MAIN | B15: 133 | C15: NORTH MAIN CONCESSIONS | D15: 1159 | E15: NC | F15: NC | G15: NC | H15: NC
A16: DAVIS WADE - NORTH MAIN | B16: 134 | C16: NORTH MAIN TOILET | D16: 800 | E16: 800 | F16: 2 | G16: EVENT CLEAN | H16: FB PREP, FB GAMES, SPECIAL EVENTS
A17: DAVIS WADE - NORTH MAIN | B17: 135 | C17: NORTH MAIN TOILET | D17: 774 | E17: 774 | F17: 2 | G17: EVENT CLEAN | H17: FB PREP, FB GAMES, SPECIAL EVENTS
A18: DAVIS WADE - NORTH MAIN | B18: 136 | C18: NORTH MAIN CUSTODIAL CLOSET | D18: 43 | E18: NC | F18: NC | G18: NC | H18: NC
A19: DAVIS WADE - NORTH MAIN | B19: 137 | C19: NORTH MAIN TOILET | D19: 1158 | E19: 1158 | F19: 2 | G19: EVENT CLEAN | H19: FB PREP, FB GAMES, SPECIAL EVENTS
A20: DAVIS WADE - NORTH MAIN | B20: 138 | C20: NORTH MAIN CONCESSIONS | D20: 1964 | E20: NC | F20: NC | G20: NC | H20: NC
A21: DAVIS WADE - NORTH MAIN | B21: 139 | C21: NORTH MAIN CONCESSIONS STORAGE | D21: 215 | E21: NC | F21: NC | G21: NC | H21: NC
A22: DAVIS WADE - NORTH MAIN | B22: 140 | C22: NORTH MAIN CONCESSIONS OFFICE | D22: 133 | E22: NC | F22: NC | G22: NC | H22: NC
A23: DAVIS WADE - NORTH MAIN | B23: 141 | C23: NORTH MAIN COMMUNICATIONS | D23: 92 | E23: NC | F23: NC | G23: NC | H23: NC
A24: DAVIS WADE - NORTH MAIN | B24: 142 | C24: NORTH MAIN TOILET | D24: 1078 | E24: 1078 | F24: 2 | G24: EVENT CLEAN | H24: FB PREP, FB GAMES, SPECIAL EVENTS
A25: DAVIS WADE - NORTH MAIN | B25: 143 | C25: NORTH MAIN TOILET | D25: 56 | E25: 56 | F25: 2 | G25: EVENT CLEAN | H25: FB PREP, FB GAMES, SPECIAL EVENTS
A26: DAVIS WADE - NORTH MAIN | B26: 144 | C26: NORTH MAIN TOILET | D26: 1115 | E26: 1115 | F26: 2 | G26: EVENT CLEAN | H26: FB PREP, FB GAMES, SPECIAL EVENTS
A27: DAVIS WADE - NORTH MAIN | B27: 145 | C27: NORTH MAIN CUSTODIAL CLOSET | D27: 76 | E27: NC | F27: NC | G27: NC | H27: NC
A28: DAVIS WADE - NORTH MAIN | B28: 171 | C28: NORTH MAIN NORTH WEST ELEVATOR | D28: 56 | E28: 56 | F28: 2 | G28: EVENT CLEAN | H28: FB PREP, FB GAMES, SPECIAL EVENTS
A29: DAVIS WADE - NORTH MAIN | B29: 172 | C29: NORTH MAIN NORTH WEST ELEVATOR | D29: 56 | E29: 56 | F29: 2 | G29: EVENT CLEAN | H29: FB PREP, FB GAMES, SPECIAL EVENTS
A30: DAVIS WADE - NORTH MAIN | B30: 173 | C30: NORTH MAIN NORTH ELEVATOR | D30: 50 | E30: 50 | F30: 2 | G30: EVENT CLEAN | H30: FB PREP, FB GAMES, SPECIAL EVENTS
A31: DAVIS WADE - NORTH MAIN | B31: 174 | C31: NORTH MAIN NORTH ELEVATOR | D31: 50 | E31: 50 | F31: 2 | G31: EVENT CLEAN | H31: FB PREP, FB GAMES, SPECIAL EVENTS
A32: DAVIS WADE - NORTH MAIN | B32: 175 | C32: NORTH MAIN NORTH GRAND STAIRWAY | D32: 1680 | E32: 1680 | F32: 2 | G32: EVENT CLEAN | H32: FB PREP, FB GAMES, SPECIAL EVENTS
A33: DAVIS WADE - NORTH MAIN | B33: 176 | C33: NORTH MAIN SERVICE ELEVATOR | D33: 56 | E33: 56 | F33: 2 | G33: EVENT CLEAN | H33: FB PREP, FB GAMES, SPECIAL EVENTS
A34: DAVIS WADE - NORTH MAIN | B34: 177 | C34: NORTH MAIN STAIRWAY | D34: 304 | E34: 304 | F34: 2 | G34: EVENT CLEAN | H34: FB PREP, FB GAMES, SPECIAL EVENTS
A35: DAVIS WADE - NORTH MAIN | B35: 178 | C35: NORTH MAIN STAIRWAY | D35: 359 | E35: 359 | F35: 2 | G35: EVENT CLEAN | H35: FB PREP, FB GAMES, SPECIAL EVENTS
A36: DAVIS WADE - NORTH MAIN | B36: 179 | C36: NORTH MAIN STAIRWAY | D36: 433 | E36: 433 | F36: 2 | G36: EVENT CLEAN | H36: FB PREP, FB GAMES, SPECIAL EVENTS
A37: DAVIS WADE - NORTH MAIN | B37: 180 | C37: NORTH MAIN VOMITORY | D37: 386 | E37: 386 | F37: 2 | G37: EVENT CLEAN | H37: FB PREP, FB GAMES, SPECIAL EVENTS
A38: DAVIS WADE - NORTH MAIN | B38: 181 | C38: NORTH MAIN VOMITORY | D38: 388 | E38: 388 | F38: 2 | G38: EVENT CLEAN | H38: FB PREP, FB GAMES, SPECIAL EVENTS
A39: DAVIS WADE - NORTH MAIN | B39: 182 | C39: NORTH MAIN VOMITORY | D39: 613 | E39: 613 | F39: 2 | G39: EVENT CLEAN | H39: FB PREP, FB GAMES, SPECIAL EVENTS
... A44: DAVIS WADE - NORTH MAIN | B44: 187 | C44: NORTH MAIN CONCOURSE | D44: 32217 | E44: 32217 | F44: 2 | G44: EVENT CLEAN | H44: FB PREP, FB GAMES, SPECIAL EVENTS
A45: DAVIS WADE - NORTH MAIN | B45: 187A | C45: NORTH MAIN GATE F PLAZA & STAIRS | D45: 10638 | E45: 10638 | F45: 2 | G45: EVENT CLEAN | H45: FB PREP, FB GAMES, SPECIAL EVENTS
D46: =SUM(D3:D45) | E46: =SUM(E3:E45)

Sheet Davis Wade - North State Level
A1: DAVIS WADE - NORTH STATE LEVEL
A2: BUILDING | B2: ROOM NO | C2: SPACE DESCRIPTION | D2: NET SQ FT | E2: CLEANABLE SQ FT | F2: APPA LEVEL | G2: FREQUENCY | H2: CLEANING WINDOW
A3: DAVIS WADE - STATE LEVEL | B3: 211 | C3: PREMIUM - STATE TOILET | D3: 221 | E3: 221 | F3: 2 | G3: EVENT CLEAN | H3: FB PREP, FB GAMES, SPECIAL EVENTS
A4: DAVIS WADE - STATE LEVEL | B4: 212 | C4: PREMIUM - STATE TOILET | D4: 203 | E4: 203 | F4: 2 | G4: EVENT CLEAN | H4: FB PREP, FB GAMES, SPECIAL EVENTS
A5: DAVIS WADE - STATE LEVEL | B5: 213 | C5: PREMIUM - STATE CATERING | D5: 455 | E5: NC | F5: NC | G5: NC | H5: NC
A6: DAVIS WADE - STATE LEVEL | B6: 214 | C6: PREMIUM - STATE COMMUNICATIONS | D6: 21 | E6: NC | F6: NC | G6: NC | H6: NC
A7: DAVIS WADE - STATE LEVEL | B7: 215 | C7: PREMIUM - STATE TOILET | D7: 381 | E7: 381 | F7: 2 | G7: EVENT CLEAN | H7: FB PREP, FB GAMES, SPECIAL EVENTS
A8: DAVIS WADE - STATE LEVEL | B8: 216 | C8: PREMIUM - STATE TOILET | D8: 335 | E8: 335 | F8: 2 | G8: EVENT CLEAN | H8: FB PREP, FB GAMES, SPECIAL EVENTS
A9: DAVIS WADE - STATE LEVEL | B9: 217 | C9: PREMIUM - STATE COMMUNICATIONS | D9: 110 | E9: NC | F9: NC | G9: NC | H9: NC
A10: DAVIS WADE - STATE LEVEL | B10: 218 | C10: PREMIUM - STATE CONFERENCE ROOM | D10: 817 | E10: 817 | F10: 2 | G10: EVENT CLEAN | H10: FB PREP, FB GAMES, SPECIAL EVENTS
A11: DAVIS WADE - STATE LEVEL | B11: 218A | C11: PREMIUM - STATE CLOSET | D11: 116 | E11: NC | F11: NC | G11: NC | H11: NC
A12: DAVIS WADE - STATE LEVEL | B12: 219 | C12: PREMIUM - STORAGE | D12: 106 | E12: NC | F12: NC | G12: NC | H12: NC
A13: DAVIS WADE - STATE LEVEL | B13: 220 | C13: PREMIUM - CATERING | D13: 589 | E13: NC | F13: NC | G13: NC | H13: NC
A14: DAVIS WADE - STATE LEVEL | B14: 221 | C14: PREMIUM - STATE CLUB CENTER | D14: 3768 | E14: 3768 | F14: 2 | G14: EVENT CLEAN | H14: FB PREP, FB GAMES, SPECIAL EVENTS
A15: DAVIS WADE - STATE LEVEL | B15: 221A | C15: PREMIUM - STATE TOILET | D15: 67 | E15: 67 | F15: 2 | G15: EVENT CLEAN | H15: FB PREP, FB GAMES, SPECIAL EVENTS
A16: DAVIS WADE - STATE LEVEL | B16: 221B | C16: PREMIUM - STATE CLOSET | D16: 12 | E16: NC | F16: NC | G16: NC | H16: NC
A17: DAVIS WADE - STATE LEVEL | B17: 221C | C17: PREMIUM - STATE CLOSET | D17: 11 | E17: NC | F17: NC | G17: NC | H17: NC
A18: DAVIS WADE - STATE LEVEL | B18: 221D | C18: PREMIUM - STATE CLUB WEST | D18: 2939 | E18: 2939 | F18: 2 | G18: EVENT CLEAN | H18: FB PREP, FB GAMES, SPECIAL EVENTS
A19: DAVIS WADE - STATE LEVEL | B19: 221E | C19: PREMIUM - STATE CLUB EAST | D19: 2832 | E19: 2832 | F19: 2 | G19: EVENT CLEAN | H19: FB PREP, FB GAMES, SPECIAL EVENTS
A20: DAVIS WADE - STATE LEVEL | B20: 221F | C20: PREMIUM - STATE OUTDOOR LOGES | D20: 4308 | E20: 4308 | F20: 2 | G20: EVENT CLEAN | H20: FB PREP, FB GAMES, SPECIAL EVENTS
A21: DAVIS WADE - STATE LEVEL | B21: 222 | C21: PREMIUM - STATE JANITOR CLOSET | D21: 68 | E21: NC | F21: NC | G21: NC | H21: NC
A22: DAVIS WADE - STATE LEVEL | B22: 223 | C22: PREMIUM - STATE TOILET | D22: 190 | E22: 190 | F22: 2 | G22: EVENT CLEAN | H22: FB PREP, FB GAMES, SPECIAL EVENTS
A23: DAVIS WADE - STATE LEVEL | B23: 224 | C23: PREMIUM - STATE TOILET | D23: 302 | E23: 302 | F23: 2 | G23: EVENT CLEAN | H23: FB PREP, FB GAMES, SPECIAL EVENTS
A24: DAVIS WADE - STATE LEVEL | B24: 225 | C24: PREMIUM - STATE STORAGE | D24: 95 | E24: NC | F24: NC | G24: NC | H24: NC
A25: DAVIS WADE - STATE LEVEL | B25: 226 | C25: STATE - COMMUNICATIONS | D25: 121 | E25: NC | F25: NC | G25: NC | H25: NC
A26: DAVIS WADE - STATE LEVEL | B26: 258 | C26: STATE NORTH EAST ELEVATOR | D26: 50 | E26: 50 | F26: 2 | G26: EVENT CLEAN | H26: FB PREP, FB GAMES, SPECIAL EVENTS
A27: DAVIS WADE - STATE LEVEL | B27: 259 | C27: STATE NORTH EAST ELEVATOR | D27: 50 | E27: 50 | F27: 2 | G27: EVENT CLEAN | H27: FB PREP, FB GAMES, SPECIAL EVENTS
A28: DAVIS WADE - STATE LEVEL | B28: 260 | C28: STATE SERVICE ELEVATOR | D28: 56 | E28: 56 | F28: 2 | G28: EVENT CLEAN | H28: FB PREP, FB GAMES, SPECIAL EVENTS
A29: DAVIS WADE - STATE LEVEL | B29: 261 | C29: STATE STAIRWAY | D29: 465 | E29: 465 | F29: 2 | G29: EVENT CLEAN | H29: FB PREP, FB GAMES, SPECIAL EVENTS
A30: DAVIS WADE - STATE LEVEL | B30: 262 | C30: STATE STAIRWAY | D30: 1672 | E30: 1672 | F30: 2 | G30: EVENT CLEAN | H30: FB PREP, FB GAMES, SPECIAL EVENTS
A31: DAVIS WADE - STATE LEVEL | B31: 263 | C31: STATE STAIRWAY | D31: 349 | E31: 349 | F31: 2 | G31: EVENT CLEAN | H31: FB PREP, FB GAMES, SPECIAL EVENTS
A32: DAVIS WADE - STATE LEVEL | B32: 265 | C32: STATE STAIRWAY | D32: 401 | E32: 401 | F32: 2 | G32: EVENT CLEAN | H32: FB PREP, FB GAMES, SPECIAL EVENTS
A33: DAVIS WADE - STATE LEVEL | B33: 268 | C33: STATE NORTH WEST ELEVATOR | D33: 56 | E33: 56 | F33: 2 | G33: EVENT CLEAN | H33: FB PREP, FB GAMES, SPECIAL EVENTS
A34: DAVIS WADE - STATE LEVEL | B34: 269 | C34: STATE NORTH WEST ELEVATOR | D34: 56 | E34: 56 | F34: 2 | G34: EVENT CLEAN | H34: FB PREP, FB GAMES, SPECIAL EVENTS
A35: DAVIS WADE - STATE LEVEL | B35: 270 | C35: PREMIUM - STATE ELEVATOR LOBBY & HALLWAY | D35: 3067 | E35: 3067 | F35: 2 | G35: EVENT CLEAN | H35: FB PREP, FB GAMES, SPECIAL EVENTS
A36: DAVIS WADE - STATE LEVEL | B36: 3010 | C36: PREMIUM - STATE SUITE | D36: 268 | E36: 268 | F36: 2 | G36: EVENT CLEAN | H36: FB PREP, FB GAMES, SPECIAL EVENTS
A37: DAVIS WADE - STATE LEVEL | B37: 3020 | C37: PREMIUM - STATE SUITE | D37: 220 | E37: 220 | F37: 2 | G37: EVENT CLEAN | H37: FB PREP, FB GAMES, SPECIAL EVENTS
... A57: DAVIS WADE - STATE LEVEL | B57: 3220 | C57: PREMIUM - STATE SUITE | D57: 266 | E57: 266 | F57: 2 | G57: EVENT CLEAN | H57: FB PREP, FB GAMES, SPECIAL EVENTS
D58: =SUM(D3:D57) | E58: =SUM(E3:E57)

Sheet Davis Wade - North Scoreboard
A1: DAVIS WADE - NORTH SCOREBOARD LEVEL
A2: BUILDING | B2: ROOM NO | C2: SPACE DESCRIPTION | D2: NET SQ FT | E2: CLEANABLE SQ FT | F2: APPA LEVEL | G2: FREQUENCY | H2: CLEANING WINDOW
A3: DAVIS WADE - SCOREBOARD LEVEL | B3: 414 | C3: PREMIUM SCOREBOARD TOILET | D3: 659 | E3: 659 | F3: 2 | G3: EVENT CLEAN | H3: FB PREP, FB GAMES, SPECIAL EVENTS
A4: DAVIS WADE - SCOREBOARD LEVEL | B4: 415 | C4: PREMIUM SCOREBOARD TOILET | D4: 74 | E4: 74 | F4: 2 | G4: EVENT CLEAN | H4: FB PREP, FB GAMES, SPECIAL EVENTS
A5: DAVIS WADE - SCOREBOARD LEVEL | B5: 416 | C5: PREMIUM SCOREBOARD TOILET | D5: 712 | E5: 712 | F5: 2 | G5: EVENT CLEAN | H5: FB PREP, FB GAMES, SPECIAL EVENTS
A6: DAVIS WADE - SCOREBOARD LEVEL | B6: 417 | C6: PREMIUM SCOREBOARD CLOSET | D6: 613 | E6: NC | F6: NC | G6: NC | H6: NC
A7: DAVIS WADE - SCOREBOARD LEVEL | B7: 418 | C7: PREMIUM SCOREBOARD CUSTODIAL CLOSET | D7: 188 | E7: NC | F7: NC | G7: NC | H7: NC
A8: DAVIS WADE - SCOREBOARD LEVEL | B8: 419 | C8: PREMIUM SCOREBOARD PANTRY | D8: 294 | E8: NC | F8: NC | G8: NC | H8: NC
A9: DAVIS WADE - SCOREBOARD LEVEL | B9: 420 | C9: PREMIUM SCOREBOARD STORAGE | D9: 89 | E9: NC | F9: NC | G9: NC | H9: NC
A10: DAVIS WADE - SCOREBOARD LEVEL | B10: 421 | C10: PREMIUM SCOREBOARD PANTRY | D10: 285 | E10: NC | F10: NC | G10: NC | H10: NC
A11: DAVIS WADE - SCOREBOARD LEVEL | B11: 422 | C11: PREMIUM SCOREBOARD CLOSET | D11: 91 | E11: NC | F11: NC | G11: NC | H11: NC
A12: DAVIS WADE - SCOREBOARD LEVEL | B12: 423 | C12: PREMIUM SCOREBOARD PANTRY | D12: 455 | E12: NC | F12: NC | G12: NC | H12: NC
A13: DAVIS WADE - SCOREBOARD LEVEL | B13: 424 | C13: PREMIUM SCOREBOARD FIRST AID | D13: 129 | E13: 129 | F13: 2 | G13: EVENT CLEAN | H13: FB PREP, FB GAMES, SPECIAL EVENTS
A14: DAVIS WADE - SCOREBOARD LEVEL | B14: 424A | C14: PREMIUM SCOREBOARD FIRST AID CLOSET | D14: 76 | E14: NC | F14: NC | G14: NC | H14: NC
A15: DAVIS WADE - SCOREBOARD LEVEL | B15: 425 | C15: SCOREBOARD COMMUNICATIONS | D15: 82 | E15: NC | F15: NC | G15: NC | H15: NC
A16: DAVIS WADE - SCOREBOARD LEVEL | B16: 426 | C16: SCOREBOARD ELECTRICAL | D16: 100 | E16: NC | F16: NC | G16: NC | H16: NC
A17: DAVIS WADE - SCOREBOARD LEVEL | B17: 427 | C17: SCOREBOARD STORAGE | D17: 451 | E17: NC | F17: NC | G17: NC | H17: NC
A18: DAVIS WADE - SCOREBOARD LEVEL | B18: 451 | C18: PREMIUM SCOREBOARD OPEN AREA | D18: 13620 | E18: 13620 | F18: 2 | G18: EVENT CLEAN | H18: FB PREP, FB GAMES, SPECIAL EVENTS
A19: DAVIS WADE - SCOREBOARD LEVEL | B19: 456 | C19: STAIRWAY | D19: 390 | E19: 390 | F19: 2 | G19: EVENT CLEAN | H19: FB PREP, FB GAMES, SPECIAL EVENTS
A20: DAVIS WADE - SCOREBOARD LEVEL | B20: 457 | C20: STAIRWAY | D20: 352 | E20: 352 | F20: 2 | G20: EVENT CLEAN | H20: FB PREP, FB GAMES, SPECIAL EVENTS
A21: DAVIS WADE - SCOREBOARD LEVEL | B21: 458 | C21: STAIRWAY | D21: 1795 | E21: 1795 | F21: 2 | G21: EVENT CLEAN | H21: FB PREP, FB GAMES, SPECIAL EVENTS
A22: DAVIS WADE - SCOREBOARD LEVEL | B22: 459 | C22: STAIRWAY | D22: 576 | E22: 576 | F22: 2 | G22: EVENT CLEAN | H22: FB PREP, FB GAMES, SPECIAL EVENTS
A23: DAVIS WADE - SCOREBOARD LEVEL | B23: 460 | C23: ELEVATOR | D23: 56 | E23: 56 | F23: 2 | G23: EVENT CLEAN | H23: FB PREP, FB GAMES, SPECIAL EVENTS
A24: DAVIS WADE - SCOREBOARD LEVEL | B24: 461 | C24: ELEVATOR | D24: 50 | E24: 50 | F24: 2 | G24: EVENT CLEAN | H24: FB PREP, FB GAMES, SPECIAL EVENTS
A25: DAVIS WADE - SCOREBOARD LEVEL | B25: 462 | C25: ELEVATOR | D25: 50 | E25: 50 | F25: 2 | G25: EVENT CLEAN | H25: FB PREP, FB GAMES, SPECIAL EVENTS
A26: DAVIS WADE - SCOREBOARD LEVEL | B26: 463 | C26: SCOREBOARD ELEVATOR | D26: 56 | E26: 56 | F26: 2 | G26: EVENT CLEAN | H26: FB PREP, FB GAMES, SPECIAL EVENTS
A27: DAVIS WADE - SCOREBOARD LEVEL | B27: 464 | C27: SCOREBOARD ELEVATOR | D27: 56 | E27: 56 | F27: 2 | G27: EVENT CLEAN | H27: FB PREP, FB GAMES, SPECIAL EVENTS
A28: DAVIS WADE - SCOREBOARD LEVEL | B28: 466 | C28: PREMIUM SCOREBOARD WEST LOGE | D28: 9461 | E28: 9461 | F28: 2 | G28: EVENT CLEAN | H28: FB PREP, FB GAMES, SPECIAL EVENTS
A29: DAVIS WADE - SCOREBOARD LEVEL | B29: 467 | C29: PREMIUM SCOREBOARD EAST OUTDOOR AREA | D29: 5277 | E29: 5277 | F29: 2 | G29: EVENT CLEAN | H29: FB PREP, FB GAMES, SPECIAL EVENTS
D30: =SUM(D3:D29) | E30: =SUM(E3:E29)

Sheet Davis Wade - East Ground
A1: DAVIS WADE - EAST GROUND
A2: BUILDING | B2: ROOM NO | C2: SPACE DESCRIPTION | D2: NET SQ FT | E2: CLEANABLE SQ FT | F2: APPA LEVEL | G2: FREQUENCY | H2: CLEANING WINDOW
A3: DAVIS WADE - EAST GROUND | B3: 146 | C3: EAST GROUND MECHANICAL | D3: 657 | E3: NC | F3: NC | G3: NC | H3: NC
A4: DAVIS WADE - EAST GROUND | B4: 147 | C4: EAST GROUND FACILITIES STORAGE | D4: 168 | E4: NC | F4: NC | G4: NC | H4: NC
A5: DAVIS WADE - EAST GROUND | B5: 147A | C5: EAST GROUND OFFICE | D5: 305 | E5: 305 | F5: 2 | G5: DAILY CLEAN | H5: 7:00PM-7:00AM
A6: DAVIS WADE - EAST GROUND | B6: 147B | C6: EAST GROUND BREAK ROOM | D6: 117 | E6: 117 | F6: 2 | G6: DAILY CLEAN | H6: 7:00PM-7:00AM
A7: DAVIS WADE - EAST GROUND | B7: 148 | C7: EAST GROUND ELEVATOR EQUIPMENT | D7: 239 | E7: NC | F7: NC | G7: NC | H7: NC
A8: DAVIS WADE - EAST GROUND | B8: 149 | C8: EAST GROUND ELECTRICAL | D8: 89 | E8: NC | F8: NC | G8: NC | H8: NC
A9: DAVIS WADE - EAST GROUND | B9: 150 | C9: EAST GROUND TOILET | D9: 552 | E9: 552 | F9: 2 | G9: EVENT CLEAN | H9: FB PREP, FB GAMES, SPECIAL EVENTS
A10: DAVIS WADE - EAST GROUND | B10: 151 | C10: EAST GROUND TOILET | D10: 685 | E10: 685 | F10: 2 | G10: EVENT CLEAN | H10: FB PREP, FB GAMES, SPECIAL EVENTS
A11: DAVIS WADE - EAST GROUND | B11: 152 | C11: EAST GROUND CONCESSIONS | D11: 1387 | E11: NC | F11: NC | G11: NC | H11: NC
A12: DAVIS WADE - EAST GROUND | B12: 152A | C12: EAST GROUND CONCESSIONS | D12: 162 | E12: NC | F12: NC | G12: NC | H12: NC
A13: DAVIS WADE - EAST GROUND | B13: 153 | C13: EAST GROUND TOILET | D13: 716 | E13: 716 | F13: 2 | G13: EVENT CLEAN | H13: FB PREP, FB GAMES, SPECIAL EVENTS
A14: DAVIS WADE - EAST GROUND | B14: 154 | C14: EAST GROUND STORAGE | D14: 270 | E14: NC | F14: NC | G14: NC | H14: NC
A15: DAVIS WADE - EAST GROUND | B15: 154A | C15: EAST GROUND ELECTRICAL | D15: 107 | E15: NC | F15: NC | G15: NC | H15: NC
A16: DAVIS WADE - EAST GROUND | B16: 155 | C16: EAST GROUND TOILET | D16: 713 | E16: 713 | F16: 2 | G16: EVENT CLEAN | H16: FB PREP, FB GAMES, SPECIAL EVENTS
A17: DAVIS WADE - EAST GROUND | B17: 156 | C17: EAST GROUND CONCESSIONS | D17: 934 | E17: NC | F17: NC | G17: NC | H17: NC
A18: DAVIS WADE - EAST GROUND | B18: 156A | C18: EAST GROUND TOILET | D18: 29 | E18: 29 | F18: 2 | G18: EVENT CLEAN | H18: FB PREP, FB GAMES, SPECIAL EVENTS
A19: DAVIS WADE - EAST GROUND | B19: 157 | C19: EAST GROUND FIRST AID | D19: 332 | E19: 332 | F19: 2 | G19: EVENT CLEAN | H19: FB PREP, FB GAMES, SPECIAL EVENTS
A20: DAVIS WADE - EAST GROUND | B20: 157A | C20: EAST GROUND TOILET | D20: 28 | E20: 28 | F20: 2 | G20: EVENT CLEAN | H20: FB PREP, FB GAMES, SPECIAL EVENTS
A21: DAVIS WADE - EAST GROUND | B21: 158 | C21: EAST GROUND OFFICE | D21: 310 | E21: 310 | F21: 2 | G21: EVENT CLEAN | H21: FB PREP, FB GAMES, SPECIAL EVENTS
A22: DAVIS WADE - EAST GROUND | B22: 158A | C22: EAST GROUND ELECTRICAL | D22: 9 | E22: NC | F22: NC | G22: NC | H22: NC
A23: DAVIS WADE - EAST GROUND | B23: 159 | C23: EAST GROUND OFFICE | D23: 342 | E23: 342 | F23: 2 | G23: EVENT CLEAN | H23: FB PREP, FB GAMES, SPECIAL EVENTS
A24: DAVIS WADE - EAST GROUND | B24: 160 | C24: EAST GROUND TOILET | D24: 883 | E24: 883 | F24: 2 | G24: EVENT CLEAN | H24: FB PREP, FB GAMES, SPECIAL EVENTS
A25: DAVIS WADE - EAST GROUND | B25: 161 | C25: EAST GROUND ELEVATOR EQUIPMENT | D25: 146 | E25: NC | F25: NC | G25: NC | H25: NC
A26: DAVIS WADE - EAST GROUND | B26: 162 | C26: EAST GROUND CELLULAR | D26: 489 | E26: NC | F26: NC | G26: NC | H26: NC
A27: DAVIS WADE - EAST GROUND | B27: 163 | C27: EAST GROUND MECHANICAL | D27: 656 | E27: NC | F27: NC | G27: NC | H27: NC
A28: DAVIS WADE - EAST GROUND | B28: 164 | C28: EAST GROUND STORAGE | D28: 254 | E28: NC | F28: NC | G28: NC | H28: NC
A29: DAVIS WADE - EAST GROUND | B29: 165 | C29: EAST GROUND SOUTH ELEVATOR LOBBY | D29: 239 | E29: 239 | F29: 2 | G29: EVENT CLEAN | H29: FB PREP, FB GAMES, SPECIAL EVENTS
A30: DAVIS WADE - EAST GROUND | B30: 166 | C30: EAST GROUND SOUTH ELEVATOR | D30: 49 | E30: 49 | F30: 2 | G30: EVENT CLEAN | H30: FB PREP, FB GAMES, SPECIAL EVENTS
A31: DAVIS WADE - EAST GROUND | B31: 167 | C31: EAST GROUND SOUTH ELEVATOR | D31: 49 | E31: 49 | F31: 2 | G31: EVENT CLEAN | H31: FB PREP, FB GAMES, SPECIAL EVENTS
A32: DAVIS WADE - EAST GROUND | B32: 168 | C32: EAST GROUND NORTH ELEVATOR LOBBY | D32: 239 | E32: 239 | F32: 2 | G32: EVENT CLEAN | H32: FB PREP, FB GAMES, SPECIAL EVENTS
A33: DAVIS WADE - EAST GROUND | B33: 169 | C33: EAST GROUND NORTH ELEVATOR | D33: 50 | E33: 50 | F33: 2 | G33: EVENT CLEAN | H33: FB PREP, FB GAMES, SPECIAL EVENTS
A34: DAVIS WADE - EAST GROUND | B34: 170 | C34: EAST GROUND NORTH ELEVATOR | D34: 49 | E34: 49 | F34: 2 | G34: EVENT CLEAN | H34: FB PREP, FB GAMES, SPECIAL EVENTS
A35: DAVIS WADE - EAST GROUND | B35: 192 | C35: EAST GROUND CONCOURSE | D35: 47639 | E35: 47639 | F35: 2 | G35: EVENT CLEAN | H35: FB PREP, FB GAMES, SPECIAL EVENTS
D36: =SUM(D3:D35) | E36: =SUM(E3:E35)

Sheet Davis Wade - East Floyd Wade
A1: DAVIS WADE - EAST FLOYD WADE CLUB
A2: BUILDING | B2: ROOM NO | C2: SPACE DESCRIPTION | D2: NET SQ FT | E2: CLEANABLE SQ FT | F2: APPA LEVEL | G2: FREQUENCY | H2: CLEANING WINDOW
A3: DAVIS WADE - FLOYD WADE CLUB | B3: 226A | C3: FLOYD WADE - STORAGE | D3: 95 | E3: NC | F3: NC | G3: NC | H3: NC
A4: DAVIS WADE - FLOYD WADE CLUB | B4: 227 | C4: FLOYD WADE - JANITOR ROOM | D4: 76 | E4: NC | F4: NC | G4: NC | H4: NC
A5: DAVIS WADE - FLOYD WADE CLUB | B5: 228 | C5: FLOYD WADE - MECHANICAL | D5: 508 | E5: NC | F5: NC | G5: NC | H5: NC
A6: DAVIS WADE - FLOYD WADE CLUB | B6: 229 | C6: FLOYD WADE - ELECTRICAL | D6: 112 | E6: NC | F6: NC | G6: NC | H6: NC
A7: DAVIS WADE - FLOYD WADE CLUB | B7: 230 | C7: PREMIUM - FLOYD WADE PANTRY | D7: 202 | E7: NC | F7: NC | G7: NC | H7: NC
A8: DAVIS WADE - FLOYD WADE CLUB | B8: 231 | C8: PREMIUM - FLOYD WADE PANTRY | D8: 180 | E8: NC | F8: NC | G8: NC | H8: NC
A9: DAVIS WADE - FLOYD WADE CLUB | B9: 232 | C9: PREMIUM - FLOYD WADE TOILET | D9: 197 | E9: 197 | F9: 2 | G9: EVENT CLEAN | H9: FB PREP, FB GAMES, SPECIAL EVENTS
A10: DAVIS WADE - FLOYD WADE CLUB | B10: 233 | C10: PREMIUM - FLOYD WADE TOILET | D10: 196 | E10: 196 | F10: 2 | G10: EVENT CLEAN | H10: FB PREP, FB GAMES, SPECIAL EVENTS
A11: DAVIS WADE - FLOYD WADE CLUB | B11: 234 | C11: FLOYD WADE - MECHANICAL | D11: 500 | E11: NC | F11: NC | G11: NC | H11: NC
A12: DAVIS WADE - FLOYD WADE CLUB | B12: 235 | C12: PREMIUM - FLOYD WADE TOILET | D12: 189 | E12: 189 | F12: 2 | G12: EVENT CLEAN | H12: FB PREP, FB GAMES, SPECIAL EVENTS
A13: DAVIS WADE - FLOYD WADE CLUB | B13: 235A | C13: PREMIUM - FLOYD WADE CLOSET | D13: 6 | E13: NC | F13: NC | G13: NC | H13: NC
A14: DAVIS WADE - FLOYD WADE CLUB | B14: 236 | C14: PREMIUM - FLOYD WADE TOILET | D14: 188 | E14: 188 | F14: 2 | G14: EVENT CLEAN | H14: FB PREP, FB GAMES, SPECIAL EVENTS
A15: DAVIS WADE - FLOYD WADE CLUB | B15: 236A | C15: PREMIUM - FLOYD WADE CLOSET | D15: 6 | E15: NC | F15: NC | G15: NC | H15: NC
A16: DAVIS WADE - FLOYD WADE CLUB | B16: 237 | C16: PREMIUM - FLOYD WADE TOILET | D16: 188 | E16: 188 | F16: 2 | G16: EVENT CLEAN | H16: FB PREP, FB GAMES, SPECIAL EVENTS
A17: DAVIS WADE - FLOYD WADE CLUB | B17: 237A | C17: PREMIUM - FLOYD WADE CLOSET | D17: 6 | E17: NC | F17: NC | G17: NC | H17: NC
A18: DAVIS WADE - FLOYD WADE CLUB | B18: 238 | C18: PREMIUM - FLOYD WADE TOILET | D18: 189 | E18: 189 | F18: 2 | G18: EVENT CLEAN | H18: FB PREP, FB GAMES, SPECIAL EVENTS
A19: DAVIS WADE - FLOYD WADE CLUB | B19: 238A | C19: PREMIUM - FLOYD WADE CLOSET | D19: 6 | E19: NC | F19: NC | G19: NC | H19: NC
A20: DAVIS WADE - FLOYD WADE CLUB | B20: 240 | C20: PREMIUM - FLOYD WADE TOILET | D20: 196 | E20: 196 | F20: 2 | G20: EVENT CLEAN | H20: FB PREP, FB GAMES, SPECIAL EVENTS
A21: DAVIS WADE - FLOYD WADE CLUB | B21: 241 | C21: PREMIUM - FLOYD WADE TOILET | D21: 197 | E21: 197 | F21: 2 | G21: EVENT CLEAN | H21: FB PREP, FB GAMES, SPECIAL EVENTS
A22: DAVIS WADE - FLOYD WADE CLUB | B22: 242 | C22: PREMIUM - FLOYD WADE PANTRY | D22: 180 | E22: NC | F22: NC | G22: NC | H22: NC
A23: DAVIS WADE - FLOYD WADE CLUB | B23: 243 | C23: FLOYD WADE - ELECTRICAL | D23: 112 | E23: NC | F23: NC | G23: NC | H23: NC
A24: DAVIS WADE - FLOYD WADE CLUB | B24: 244 | C24: PREMIUM - FLOYD WADE PANTRY | D24: 130 | E24: NC | F24: NC | G24: NC | H24: NC
A25: DAVIS WADE - FLOYD WADE CLUB | B25: 244A | C25: PREMIUM - FLOYD WADE TOILET | D25: 78 | E25: 78 | F25: 2 | G25: EVENT CLEAN | H25: FB PREP, FB GAMES, SPECIAL EVENTS
A26: DAVIS WADE - FLOYD WADE CLUB | B26: 245 | C26: FLOYD WADE - MECHANICAL | D26: 544 | E26: NC | F26: NC | G26: NC | H26: NC
A27: DAVIS WADE - FLOYD WADE CLUB | B27: 245A | C27: FLOYD WADE - STORAGE | D27: 204 | E27: NC | F27: NC | G27: NC | H27: NC
A28: DAVIS WADE - FLOYD WADE CLUB | B28: 246 | C28: PREMIUM - FLOYD WADE JANITOR CLOSET | D28: 81 | E28: NC | F28: NC | G28: NC | H28: NC
A29: DAVIS WADE - FLOYD WADE CLUB | B29: 250 | C29: PREMIUM - FLOYD WADE ELEVATOR LOBBY NORTH | D29: 211 | E29: 211 | F29: 2 | G29: EVENT CLEAN | H29: FB PREP, FB GAMES, SPECIAL EVENTS
A30: DAVIS WADE - FLOYD WADE CLUB | B30: 251 | C30: FLOYD WADE ELEVATOR NORTH | D30: 49 | E30: 49 | F30: 2 | G30: EVENT CLEAN | H30: FB PREP, FB GAMES, SPECIAL EVENTS
A31: DAVIS WADE - FLOYD WADE CLUB | B31: 252 | C31: FLOYD WADE ELEVATOR NORTH | D31: 49 | E31: 49 | F31: 2 | G31: EVENT CLEAN | H31: FB PREP, FB GAMES, SPECIAL EVENTS
A32: DAVIS WADE - FLOYD WADE CLUB | B32: 253 | C32: PREMIUM - FLOYD WADE ELEVATOR LOBBY SOUTH | D32: 211 | E32: 211 | F32: 2 | G32: EVENT CLEAN | H32: FB PREP, FB GAMES, SPECIAL EVENTS
A33: DAVIS WADE - FLOYD WADE CLUB | B33: 254 | C33: FLOYD WADE ELEVATOR SOUTH | D33: 49 | E33: 49 | F33: 2 | G33: EVENT CLEAN | H33: FB PREP, FB GAMES, SPECIAL EVENTS
A34: DAVIS WADE - FLOYD WADE CLUB | B34: 255 | C34: FLOYD WADE ELEVATOR SOUTH | D34: 49 | E34: 49 | F34: 2 | G34: EVENT CLEAN | H34: FB PREP, FB GAMES, SPECIAL EVENTS
A35: DAVIS WADE - FLOYD WADE CLUB | B35: 998 | C35: FLOYD WADE OUTDOOR SEATING | D35: 9903 | E35: 9903 | F35: 2 | G35: EVENT CLEAN | H35: FB PREP, FB GAMES, SPECIAL EVENTS
A36: DAVIS WADE - FLOYD WADE CLUB | B36: 267 | C36: PREMIUM - FLOYD WADE CLUB OPEN SPACE | D36: 15277 | E36: 15277 | F36: 2 | G36: EVENT CLEAN | H36: FB PREP, FB GAMES, SPECIAL EVENTS
D37: =SUM(D3:D36) | E37: =SUM(E3:E36)

Sheet Davis Wade - East Suite Level 1
A1: DAVIS WADE - EAST SUITE LEVEL 1
A2: BUILDING | B2: ROOM NO | C2: SPACE DESCRIPTION | D2: NET SQ FT | E2: CLEANABLE SQ FT | F2: APPA LEVEL | G2: FREQUENCY | H2: CLEANING WINDOW
A3: DAVIS WADE - S1 | B3: 500A | C3: S1 CUSTODIAL CLOSET | D3: 77 | E3: NC | F3: NC | G3: NC | H3: NC
A4: DAVIS WADE - S1 | B4: 500B | C4: PREMIUM S1 TOILET | D4: 57 | E4: 57 | F4: 2 | G4: EVENT CLEAN | H4: FB PREP, FB GAMES, SPECIAL EVENTS
A5: DAVIS WADE - S1 | B5: 501 | C5: PREMIUM S1 SUITE | D5: 598 | E5: 598 | F5: 2 | G5: EVENT CLEAN | H5: FB PREP, FB GAMES, SPECIAL EVENTS
A6: DAVIS WADE - S1 | B6: 5011 | C6: PREMIUM S1 SUITE TOILET | D6: 76 | E6: 76 | F6: 2 | G6: EVENT CLEAN | H6: FB PREP, FB GAMES, SPECIAL EVENTS
A7: DAVIS WADE - S1 | B7: 5012 | C7: PREMIUM S1 CLOSET | D7: 11 | E7: NC | F7: NC | G7: NC | H7: NC
A8: DAVIS WADE - S1 | B8: 502 | C8: PREMIUM S1 SUITE | D8: 610 | E8: 610 | F8: 2 | G8: EVENT CLEAN | H8: FB PREP, FB GAMES, SPECIAL EVENTS
A9: DAVIS WADE - S1 | B9: 5021 | C9: PREMIUM S1 SUITE TOILET | D9: 65 | E9: 65 | F9: 2 | G9: EVENT CLEAN | H9: FB PREP, FB GAMES, SPECIAL EVENTS
A10: DAVIS WADE - S1 | B10: 5022 | C10: PREMIUM S1 CLOSET | D10: 11 | E10: NC | F10: NC | G10: NC | H10: NC
A11: DAVIS WADE - S1 | B11: 503 | C11: PREMIUM S1 SUITE | D11: 610 | E11: 610 | F11: 2 | G11: EVENT CLEAN | H11: FB PREP, FB GAMES, SPECIAL EVENTS
A12: DAVIS WADE - S1 | B12: 5031 | C12: PREMIUM S1 SUITE TOILET | D12: 65 | E12: 65 | F12: 2 | G12: EVENT CLEAN | H12: FB PREP, FB GAMES, SPECIAL EVENTS
A13: DAVIS WADE - S1 | B13: 5032 | C13: PREMIUM S1 CLOSET | D13: 11 | E13: NC | F13: NC | G13: NC | H13: NC
A14: DAVIS WADE - S1 | B14: 504 | C14: PREMIUM S1 SUITE | D14: 610 | E14: 610 | F14: 2 | G14: EVENT CLEAN | H14: FB PREP, FB GAMES, SPECIAL EVENTS
A15: DAVIS WADE - S1 | B15: 5041 | C15: PREMIUM S1 SUITE TOILET | D15: 65 | E15: 65 | F15: 2 | G15: EVENT CLEAN | H15: FB PREP, FB GAMES, SPECIAL EVENTS
A16: DAVIS WADE - S1 | B16: 5042 | C16: PREMIUM S1 CLOSET | D16: 11 | E16: NC | F16: NC | G16: NC | H16: NC
A17: DAVIS WADE - S1 | B17: 504A | C17: PREMIUM S1 CATERING PANTRY | D17: 223 | E17: NC | F17: NC | G17: NC | H17: NC
A18: DAVIS WADE - S1 | B18: 505 | C18: PREMIUM S1 SUITE | D18: 609 | E18: 609 | F18: 2 | G18: EVENT CLEAN | H18: FB PREP, FB GAMES, SPECIAL EVENTS
A19: DAVIS WADE - S1 | B19: 5051 | C19: PREMIUM S1 SUITE TOILET | D19: 65 | E19: 65 | F19: 2 | G19: EVENT CLEAN | H19: FB PREP, FB GAMES, SPECIAL EVENTS
A20: DAVIS WADE - S1 | B20: 5052 | C20: PREMIUM S1 CLOSET | D20: 11 | E20: NC | F20: NC | G20: NC | H20: NC
A21: DAVIS WADE - S1 | B21: 506 | C21: PREMIUM S1 SUITE | D21: 610 | E21: 610 | F21: 2 | G21: EVENT CLEAN | H21: FB PREP, FB GAMES, SPECIAL EVENTS
A22: DAVIS WADE - S1 | B22: 5061 | C22: PREMIUM S1 SUITE TOILET | D22: 65 | E22: 65 | F22: 2 | G22: EVENT CLEAN | H22: FB PREP, FB GAMES, SPECIAL EVENTS
A23: DAVIS WADE - S1 | B23: 5062 | C23: PREMIUM S1 CLOSET | D23: 11 | E23: NC | F23: NC | G23: NC | H23: NC
A24: DAVIS WADE - S1 | B24: 507 | C24: PREMIUM S1 SUITE | D24: 610 | E24: 610 | F24: 2 | G24: EVENT CLEAN | H24: FB PREP, FB GAMES, SPECIAL EVENTS
A25: DAVIS WADE - S1 | B25: 5071 | C25: PREMIUM S1 SUITE TOILET | D25: 65 | E25: 65 | F25: 2 | G25: EVENT CLEAN | H25: FB PREP, FB GAMES, SPECIAL EVENTS
A26: DAVIS WADE - S1 | B26: 5072 | C26: PREMIUM S1 CLOSET | D26: 11 | E26: NC | F26: NC | G26: NC | H26: NC
A27: DAVIS WADE - S1 | B27: 508 | C27: PREMIUM S1 SUITE | D27: 607 | E27: 607 | F27: 2 | G27: EVENT CLEAN | H27: FB PREP, FB GAMES, SPECIAL EVENTS
A28: DAVIS WADE - S1 | B28: 5081 | C28: PREMIUM S1 SUITE TOILET | D28: 55 | E28: 55 | F28: 2 | G28: EVENT CLEAN | H28: FB PREP, FB GAMES, SPECIAL EVENTS
A29: DAVIS WADE - S1 | B29: 5082 | C29: PREMIUM S1 CLOSET | D29: 11 | E29: NC | F29: NC | G29: NC | H29: NC
A30: DAVIS WADE - S1 | B30: 509 | C30: PREMIUM S1 SUITE | D30: 607 | E30: 607 | F30: 2 | G30: EVENT CLEAN | H30: FB PREP, FB GAMES, SPECIAL EVENTS
A31: DAVIS WADE - S1 | B31: 5091 | C31: PREMIUM S1 SUITE TOILET | D31: 55 | E31: 55 | F31: 2 | G31: EVENT CLEAN | H31: FB PREP, FB GAMES, SPECIAL EVENTS
A32: DAVIS WADE - S1 | B32: 5092 | C32: PREMIUM S1 CLOSET | D32: 11 | E32: NC | F32: NC | G32: NC | H32: NC
A33: DAVIS WADE - S1 | B33: 510 | C33: PREMIUM S1 SUITE | D33: 610 | E33: 610 | F33: 2 | G33: EVENT CLEAN | H33: FB PREP, FB GAMES, SPECIAL EVENTS
A34: DAVIS WADE - S1 | B34: 5101 | C34: PREMIUM S1 SUITE TOILET | D34: 65 | E34: 65 | F34: 2 | G34: EVENT CLEAN | H34: FB PREP, FB GAMES, SPECIAL EVENTS
A35: DAVIS WADE - S1 | B35: 5102 | C35: PREMIUM S1 CLOSET | D35: 11 | E35: NC | F35: NC | G35: NC | H35: NC
A36: DAVIS WADE - S1 | B36: 511 | C36: PREMIUM S1 SUITE | D36: 610 | E36: 610 | F36: 2 | G36: EVENT CLEAN | H36: FB PREP, FB GAMES, SPECIAL EVENTS
A37: DAVIS WADE - S1 | B37: 5111 | C37: PREMIUM S1 SUITE TOILET | D37: 65 | E37: 65 | F37: 2 | G37: EVENT CLEAN | H37: FB PREP, FB GAMES, SPECIAL EVENTS
A38: DAVIS WADE - S1 | B38: 5112 | C38: PREMIUM S1 CLOSET | D38: 11 | E38: NC | F38: NC | G38: NC | H38: NC
A39: DAVIS WADE - S1 | B39: 512 | C39: PREMIUM S1 SUITE | D39: 885 | E39: 885 | F39: 2 | G39: EVENT CLEAN | H39: FB PREP, FB GAMES, SPECIAL EVENTS
A40: DAVIS WADE - S1 | B40: 5121 | C40: PREMIUM S1 SUITE TOILET | D40: 64 | E40: 64 | F40: 2 | G40: EVENT CLEAN | H40: FB PREP, FB GAMES, SPECIAL EVENTS
A41: DAVIS WADE - S1 | B41: 5122 | C41: PREMIUM S1 SUITE CLOSET | D41: 11 | E41: NC | F41: NC | G41: NC | H41: NC
A42: DAVIS WADE - S1 | B42: 5123 | C42: PREMIUM S1 SUITE CLOSET | D42: 11 | E42: NC | F42: NC | G42: NC | H42: NC
A43: DAVIS WADE - S1 | B43: 513 | C43: PREMIUM S1 SUITE | D43: 1218 | E43: 1218 | F43: 2 | G43: EVENT CLEAN | H43: FB PREP, FB GAMES, SPECIAL EVENTS
A44: DAVIS WADE - S1 | B44: 5131 | C44: PREMIUM S1 SUITE TOILET | D44: 70 | E44: 70 | F44: 2 | G44: EVENT CLEAN | H44: FB PREP, FB GAMES, SPECIAL EVENTS
A45: DAVIS WADE - S1 | B45: 5132 | C45: PREMIUM S1 SUITE CLOSET | D45: 12 | E45: NC | F45: NC | G45: NC | H45: NC
A46: DAVIS WADE - S1 | B46: 5133 | C46: PREMIUM S1 SUITE KITCHEN | D46: 191 | E46: NC | F46: NC | G46: NC | H46: NC
A47: DAVIS WADE - S1 | B47: 5134 | C47: PREMIUM S1 SUITE CLOSET | D47: 7 | E47: NC | F47: NC | G47: NC | H47: NC
A48: DAVIS WADE - S1 | B48: 5135 | C48: PREMIUM S1 SUITE CLOSET | D48: 8 | E48: NC | F48: NC | G48: NC | H48: NC
A49: DAVIS WADE - S1 | B49: 5136 | C49: PREMIUM S1 SUITE TOILET | D49: 70 | E49: 70 | F49: 2 | G49: EVENT CLEAN | H49: FB PREP, FB GAMES, SPECIAL EVENTS
A50: DAVIS WADE - S1 | B50: 5137 | C50: PREMIUM S1 SUITE CLOSET | D50: 12 | E50: NC | F50: NC | G50: NC | H50: NC
A51: DAVIS WADE - S1 | B51: 514 | C51: PREMIUM S1 SUITE | D51: 889 | E51: 889 | F51: 2 | G51: EVENT CLEAN | H51: FB PREP, FB GAMES, SPECIAL EVENTS
A52: DAVIS WADE - S1 | B52: 5141 | C52: PREMIUM S1 SUITE TOILET | D52: 64 | E52: 64 | F52: 2 | G52: EVENT CLEAN | H52: FB PREP, FB GAMES, SPECIAL EVENTS
A53: DAVIS WADE - S1 | B53: 5142 | C53: PREMIUM S1 SUITE CLOSET | D53: 11 | E53: NC | F53: NC | G53: NC | H53: NC
A54: DAVIS WADE - S1 | B54: 5143 | C54: PREMIUM S1 SUITE CLOSET | D54: 11 | E54: NC | F54: NC | G54: NC | H54: NC
A55: DAVIS WADE - S1 | B55: 515 | C55: PREMIUM S1 SUITE | D55: 610 | E55: 610 | F55: 2 | G55: EVENT CLEAN | H55: FB PREP, FB GAMES, SPECIAL EVENTS
A56: DAVIS WADE - S1 | B56: 5151 | C56: PREMIUM S1 SUITE TOILET | D56: 65 | E56: 65 | F56: 2 | G56: EVENT CLEAN | H56: FB PREP, FB GAMES, SPECIAL EVENTS
A57: DAVIS WADE - S1 | B57: 5152 | C57: PREMIUM S1 CLOSET | D57: 11 | E57: NC | F57: NC | G57: NC | H57: NC
A58: DAVIS WADE - S1 | B58: 516 | C58: PREMIUM S1 SUITE | D58: 610 | E58: 610 | F58: 2 | G58: EVENT CLEAN | H58: FB PREP, FB GAMES, SPECIAL EVENTS
A59: DAVIS WADE - S1 | B59: 5161 | C59: PREMIUM S1 SUITE TOILET | D59: 65 | E59: 65 | F59: 2 | G59: EVENT CLEAN | H59: FB PREP, FB GAMES, SPECIAL EVENTS
A60: DAVIS WADE - S1 | B60: 5162 | C60: PREMIUM S1 CLOSET | D60: 11 | E60: NC | F60: NC | G60: NC | H60: NC
A61: DAVIS WADE - S1 | B61: 517 | C61: PREMIUM S1 SUITE | D61: 607 | E61: 607 | F61: 2 | G61: EVENT CLEAN | H61: FB PREP, FB GAMES, SPECIAL EVENTS
A62: DAVIS WADE - S1 | B62: 5171 | C62: PREMIUM S1 SUITE TOILET | D62: 55 | E62: 55 | F62: 2 | G62: EVENT CLEAN | H62: FB PREP, FB GAMES, SPECIAL EVENTS
A63: DAVIS WADE - S1 | B63: 5172 | C63: PREMIUM S1 CLOSET | D63: 11 | E63: NC | F63: NC | G63: NC | H63: NC
A64: DAVIS WADE - S1 | B64: 518 | C64: PREMIUM S1 SUITE | D64: 607 | E64: 607 | F64: 2 | G64: EVENT CLEAN | H64: FB PREP, FB GAMES, SPECIAL EVENTS
A65: DAVIS WADE - S1 | B65: 5181 | C65: PREMIUM S1 SUITE TOILET | D65: 55 | E65: 55 | F65: 2 | G65: EVENT CLEAN | H65: FB PREP, FB GAMES, SPECIAL EVENTS
A66: DAVIS WADE - S1 | B66: 5182 | C66: PREMIUM S1 CLOSET | D66: 11 | E66: NC | F66: NC | G66: NC | H66: NC
A67: DAVIS WADE - S1 | B67: 519 | C67: PREMIUM S1 SUITE | D67: 610 | E67: 610 | F67: 2 | G67: EVENT CLEAN | H67: FB PREP, FB GAMES, SPECIAL EVENTS
A68: DAVIS WADE - S1 | B68: 5191 | C68: PREMIUM S1 SUITE TOILET | D68: 65 | E68: 65 | F68: 2 | G68: EVENT CLEAN | H68: FB PREP, FB GAMES, SPECIAL EVENTS
A69: DAVIS WADE - S1 | B69: 5192 | C69: PREMIUM S1 CLOSET | D69: 11 | E69: NC | F69: NC | G69: NC | H69: NC
A70: DAVIS WADE - S1 | B70: 520 | C70: PREMIUM S1 SUITE | D70: 610 | E70: 610 | F70: 2 | G70: EVENT CLEAN | H70: FB PREP, FB GAMES, SPECIAL EVENTS
A71: DAVIS WADE - S1 | B71: 5201 | C71: PREMIUM S1 SUITE TOILET | D71: 65 | E71: 65 | F71: 2 | G71: EVENT CLEAN | H71: FB PREP, FB GAMES, SPECIAL EVENTS
A72: DAVIS WADE - S1 | B72: 5202 | C72: PREMIUM S1 CLOSET | D72: 11 | E72: NC | F72: NC | G72: NC | H72: NC
A73: DAVIS WADE - S1 | B73: 521 | C73: PREMIUM S1 SUITE | D73: 610 | E73: 610 | F73: 2 | G73: EVENT CLEAN | H73: FB PREP, FB GAMES, SPECIAL EVENTS
A74: DAVIS WADE - S1 | B74: 5211 | C74: PREMIUM S1 SUITE TOILET | D74: 65 | E74: 65 | F74: 2 | G74: EVENT CLEAN | H74: FB PREP, FB GAMES, SPECIAL EVENTS
A75: DAVIS WADE - S1 | B75: 5212 | C75: PREMIUM S1 CLOSET | D75: 11 | E75: NC | F75: NC | G75: NC | H75: NC
A76: DAVIS WADE - S1 | B76: 521A | C76: PREMIUM S1 CATERING PANTRY | D76: 217 | E76: NC | F76: NC | G76: NC | H76: NC
A77: DAVIS WADE - S1 | B77: 522 | C77: PREMIUM S1 SUITE | D77: 610 | E77: 610 | F77: 2 | G77: EVENT CLEAN | H77: FB PREP, FB GAMES, SPECIAL EVENTS
A78: DAVIS WADE - S1 | B78: 5221 | C78: PREMIUM S1 SUITE TOILET | D78: 65 | E78: 65 | F78: 2 | G78: EVENT CLEAN | H78: FB PREP, FB GAMES, SPECIAL EVENTS
A79: DAVIS WADE - S1 | B79: 5222 | C79: PREMIUM S1 CLOSET | D79: 11 | E79: NC | F79: NC | G79: NC | H79: NC
A80: DAVIS WADE - S1 | B80: 523 | C80: PREMIUM S1 SUITE | D80: 610 | E80: 610 | F80: 2 | G80: EVENT CLEAN | H80: FB PREP, FB GAMES, SPECIAL EVENTS
A81: DAVIS WADE - S1 | B81: 5231 | C81: PREMIUM S1 SUITE TOILET | D81: 65 | E81: 65 | F81: 2 | G81: EVENT CLEAN | H81: FB PREP, FB GAMES, SPECIAL EVENTS
A82: DAVIS WADE - S1 | B82: 5232 | C82: PREMIUM S1 CLOSET | D82: 11 | E82: NC | F82: NC | G82: NC | H82: NC
A83: DAVIS WADE - S1 | B83: 524 | C83: PREMIUM S1 SUITE | D83: 610 | E83: 610 | F83: 2 | G83: EVENT CLEAN | H83: FB PREP, FB GAMES, SPECIAL EVENTS
A84: DAVIS WADE - S1 | B84: 5241 | C84: PREMIUM S1 SUITE TOILET | D84: 65 | E84: 65 | F84: 2 | G84: EVENT CLEAN | H84: FB PREP, FB GAMES, SPECIAL EVENTS
A85: DAVIS WADE - S1 | B85: 5242 | C85: PREMIUM S1 CLOSET | D85: 11 | E85: NC | F85: NC | G85: NC | H85: NC
A86: DAVIS WADE - S1 | B86: 525 | C86: PREMIUM S1 SUITE | D86: 598 | E86: 598 | F86: 2 | G86: EVENT CLEAN | H86: FB PREP, FB GAMES, SPECIAL EVENTS
A87: DAVIS WADE - S1 | B87: 5251 | C87: PREMIUM S1 SUITE TOILET | D87: 76 | E87: 76 | F87: 2 | G87: EVENT CLEAN | H87: FB PREP, FB GAMES, SPECIAL EVENTS
A88: DAVIS WADE - S1 | B88: 5252 | C88: PREMIUM S1 CLOSET | D88: 11 | E88: NC | F88: NC | G88: NC | H88: NC
A89: DAVIS WADE - S1 | B89: 525A | C89: PREMIUM S1 TOILET | D89: 57 | E89: 57 | F89: 2 | G89: EVENT CLEAN | H89: FB PREP, FB GAMES, SPECIAL EVENTS
A90: DAVIS WADE - S1 | B90: 525B | C90: PREMIUM S1 CUSTODIAL CLOSET | D90: 77 | E90: NC | F90: NC | G90: NC | H90: NC
A91: DAVIS WADE - S1 | B91: 526 | C91: S1 ELECTRICAL NORTH | D91: 44 | E91: NC | F91: NC | G91: NC | H91: NC
A92: DAVIS WADE - S1 | B92: 528 | C92: S1 ELECTRICAL SOUTH | D92: 41 | E92: NC | F92: NC | G92: NC | H92: NC
A93: DAVIS WADE - S1 | B93: 540 | C93: PREMIUM S1 NORTH ELEVATOR | D93: 49 | E93: 49 | F93: 2 | G93: EVENT CLEAN | H93: FB PREP, FB GAMES, SPECIAL EVENTS
A94: DAVIS WADE - S1 | B94: 541 | C94: PREMIUM S1 NORTH ELEVATOR | D94: 49 | E94: 49 | F94: 2 | G94: EVENT CLEAN | H94: FB PREP, FB GAMES, SPECIAL EVENTS
A95: DAVIS WADE - S1 | B95: 542 | C95: PREMIUM S1 CORRIDOR | D95: 4041 | E95: 4041 | F95: 2 | G95: EVENT CLEAN | H95: FB PREP, FB GAMES, SPECIAL EVENTS
A96: DAVIS WADE - S1 | B96: 542A | C96: PREMIUM S1 MECHANICAL | D96: 18 | E96: NC | F96: NC | G96: NC | H96: NC
A97: DAVIS WADE - S1 | B97: 542B | C97: PREMIUM S1 MECHANICAL | D97: 19 | E97: NC | F97: NC | G97: NC | H97: NC
A98: DAVIS WADE - S1 | B98: 542C | C98: PREMIUM S1 MECHANICAL | D98: 20 | E98: NC | F98: NC | G98: NC | H98: NC
A99: DAVIS WADE - S1 | B99: 542D | C99: PREMIUM S1 MECHANICAL | D99: 21 | E99: NC | F99: NC | G99: NC | H99: NC
A100: DAVIS WADE - S1 | B100: 542E | C100: PREMIUM S1 MECHANICAL | D100: 22 | E100: NC | F100: NC | G100: NC | H100: NC
...

Sheet Davis Wade - East Suite Level 2
A1: DAVIS WADE - EAST SUITE LEVEL 2
A2: BUILDING | B2: ROOM NO | C2: SPACE DESCRIPTION | D2: NET SQ FT | E2: CLEANABLE SQ FT | F2: APPA LEVEL | G2: FREQUENCY | H2: CLEANING WINDOW
A3: DAVIS WADE - S2 | B3: 601 | C3: PREMIUM S2 SUITE | D3: 662 | E3: 662 | F3: 2 | G3: EVENT CLEAN | H3: FB PREP, FB GAMES, SPECIAL EVENTS
A4: DAVIS WADE - S2 | B4: 6011 | C4: PREMIUM S2 SUITE TOILET | D4: 76 | E4: 76 | F4: 2 | G4: EVENT CLEAN | H4: FB PREP, FB GAMES, SPECIAL EVENTS
A5: DAVIS WADE - S2 | B5: 6012 | C5: PREMIUM S2 SUITE CLOSET | D5: 11 | E5: NC | F5: NC | G5: NC | H5: NC
A6: DAVIS WADE - S2 | B6: 601A | C6: PREMIUM S2 CUSTODIAL STORAGE | D6: 77 | E6: NC | F6: NC | G6: NC | H6: NC
A7: DAVIS WADE - S2 | B7: 601B | C7: PREMIUM S2 TOILET | D7: 57 | E7: 57 | F7: 2 | G7: EVENT CLEAN | H7: FB PREP, FB GAMES, SPECIAL EVENTS
A8: DAVIS WADE - S2 | B8: 602 | C8: PREMIUM S2 SUITE | D8: 681 | E8: 681 | F8: 2 | G8: EVENT CLEAN | H8: FB PREP, FB GAMES, SPECIAL EVENTS
A9: DAVIS WADE - S2 | B9: 6021 | C9: PREMIUM S2 SUITE TOILET | D9: 65 | E9: 65 | F9: 2 | G9: EVENT CLEAN | H9: FB PREP, FB GAMES, SPECIAL EVENTS
A10: DAVIS WADE - S2 | B10: 6022 | C10: PREMIUM S2 SUITE CLOSET | D10: 11 | E10: NC | F10: NC | G10: NC | H10: NC
A11: DAVIS WADE - S2 | B11: 603 | C11: PREMIUM S2 SUITE | D11: 681 | E11: 681 | F11: 2 | G11: EVENT CLEAN | H11: FB PREP, FB GAMES, SPECIAL EVENTS
A12: DAVIS WADE - S2 | B12: 6031 | C12: PREMIUM S2 SUITE TOILET | D12: 65 | E12: 65 | F12: 2 | G12: EVENT CLEAN | H12: FB PREP, FB GAMES, SPECIAL EVENTS
A13: DAVIS WADE - S2 | B13: 6032 | C13: PREMIUM S2 SUITE CLOSET | D13: 11 | E13: NC | F13: NC | G13: NC | H13: NC
A14: DAVIS WADE - S2 | B14: 604 | C14: PREMIUM S2 SUITE | D14: 681 | E14: 681 | F14: 2 | G14: EVENT CLEAN | H14: FB PREP, FB GAMES, SPECIAL EVENTS
A15: DAVIS WADE - S2 | B15: 6041 | C15: PREMIUM S2 SUITE TOILET | D15: 65 | E15: 65 | F15: 2 | G15: EVENT CLEAN | H15: FB PREP, FB GAMES, SPECIAL EVENTS
A16: DAVIS WADE - S2 | B16: 6042 | C16: PREMIUM S2 SUITE CLOSET | D16: 11 | E16: NC | F16: NC | G16: NC | H16: NC
A17: DAVIS WADE - S2 | B17: 604A | C17: PREMIUM S2 CATERING PANTRY | D17: 209 | E17: NC | F17: NC | G17: NC | H17: NC
A18: DAVIS WADE - S2 | B18: 605 | C18: PREMIUM S2 SUITE | D18: 681 | E18: 681 | F18: 2 | G18: EVENT CLEAN | H18: FB PREP, FB GAMES, SPECIAL EVENTS
A19: DAVIS WADE - S2 | B19: 6051 | C19: PREMIUM S2 SUITE TOILET | D19: 65 | E19: 65 | F19: 2 | G19: EVENT CLEAN | H19: FB PREP, FB GAMES, SPECIAL EVENTS
A20: DAVIS WADE - S2 | B20: 6052 | C20: PREMIUM S2 SUITE CLOSET | D20: 11 | E20: NC | F20: NC | G20: NC | H20: NC
A21: DAVIS WADE - S2 | B21: 606 | C21: PREMIUM S2 SUITE | D21: 681 | E21: 681 | F21: 2 | G21: EVENT CLEAN | H21: FB PREP, FB GAMES, SPECIAL EVENTS
A22: DAVIS WADE - S2 | B22: 6061 | C22: PREMIUM S2 SUITE TOILET | D22: 65 | E22: 65 | F22: 2 | G22: EVENT CLEAN | H22: FB PREP, FB GAMES, SPECIAL EVENTS
A23: DAVIS WADE - S2 | B23: 6062 | C23: PREMIUM S2 SUITE CLOSET | D23: 11 | E23: NC | F23: NC | G23: NC | H23: NC
A24: DAVIS WADE - S2 | B24: 607 | C24: PREMIUM S2 SUITE | D24: 681 | E24: 681 | F24: 2 | G24: EVENT CLEAN | H24: FB PREP, FB GAMES, SPECIAL EVENTS
A25: DAVIS WADE - S2 | B25: 6071 | C25: PREMIUM S2 SUITE TOILET | D25: 65 | E25: 65 | F25: 2 | G25: EVENT CLEAN | H25: FB PREP, FB GAMES, SPECIAL EVENTS
A26: DAVIS WADE - S2 | B26: 6072 | C26: PREMIUM S2 SUITE CLOSET | D26: 11 | E26: NC | F26: NC | G26: NC | H26: NC
A27: DAVIS WADE - S2 | B27: 608 | C27: PREMIUM S2 SUITE | D27: 678 | E27: 678 | F27: 2 | G27: EVENT CLEAN | H27: FB PREP, FB GAMES, SPECIAL EVENTS
A28: DAVIS WADE - S2 | B28: 6081 | C28: PREMIUM S2 SUITE TOILET | D28: 65 | E28: 65 | F28: 2 | G28: EVENT CLEAN | H28: FB PREP, FB GAMES, SPECIAL EVENTS
A29: DAVIS WADE - S2 | B29: 6082 | C29: PREMIUM S2 SUITE CLOSET | D29: 11 | E29: NC | F29: NC | G29: NC | H29: NC
A30: DAVIS WADE - S2 | B30: 609 | C30: PREMIUM S2 SUITE | D30: 678 | E30: 678 | F30: 2 | G30: EVENT CLEAN | H30: FB PREP, FB GAMES, SPECIAL EVENTS
A31: DAVIS WADE - S2 | B31: 6091 | C31: PREMIUM S2 SUITE TOILET | D31: 65 | E31: 65 | F31: 2 | G31: EVENT CLEAN | H31: FB PREP, FB GAMES, SPECIAL EVENTS
A32: DAVIS WADE - S2 | B32: 6092 | C32: PREMIUM S2 SUITE CLOSET | D32: 11 | E32: NC | F32: NC | G32: NC | H32: NC
A33: DAVIS WADE - S2 | B33: 610 | C33: PREMIUM S2 SUITE | D33: 681 | E33: 681 | F33: 2 | G33: EVENT CLEAN | H33: FB PREP, FB GAMES, SPECIAL EVENTS
A34: DAVIS WADE - S2 | B34: 6101 | C34: PREMIUM S2 SUITE TOILET | D34: 65 | E34: 65 | F34: 2 | G34: EVENT CLEAN | H34: FB PREP, FB GAMES, SPECIAL EVENTS
A35: DAVIS WADE - S2 | B35: 6102 | C35: PREMIUM S2 SUITE CLOSET | D35: 11 | E35: NC | F35: NC | G35: NC | H35: NC
A36: DAVIS WADE - S2 | B36: 611 | C36: PREMIUM S2 SUITE | D36: 681 | E36: 681 | F36: 2 | G36: EVENT CLEAN | H36: FB PREP, FB GAMES, SPECIAL EVENTS
A37: DAVIS WADE - S2 | B37: 6111 | C37: PREMIUM S2 SUITE TOILET | D37: 65 | E37: 65 | F37: 2 | G37: EVENT CLEAN | H37: FB PREP, FB GAMES, SPECIAL EVENTS
A38: DAVIS WADE - S2 | B38: 6112 | C38: PREMIUM S2 SUITE CLOSET | D38: 11 | E38: NC | F38: NC | G38: NC | H38: NC
A39: DAVIS WADE - S2 | B39: 612 | C39: PREMIUM S2 SUITE | D39: 687 | E39: 687 | F39: 2 | G39: EVENT CLEAN | H39: FB PREP, FB GAMES, SPECIAL EVENTS
A40: DAVIS WADE - S2 | B40: 6121 | C40: PREMIUM S2 SUITE TOILET | D40: 64 | E40: 64 | F40: 2 | G40: EVENT CLEAN | H40: FB PREP, FB GAMES, SPECIAL EVENTS
A41: DAVIS WADE - S2 | B41: 6122 | C41: PREMIUM S2 SUITE CLOSET | D41: 11 | E41: NC | F41: NC | G41: NC | H41: NC
A42: DAVIS WADE - S2 | B42: 613 | C42: PREMIUM S2 SUITE | D42: 2033 | E42: 2033 | F42: 2 | G42: EVENT CLEAN | H42: FB PREP, FB GAMES, SPECIAL EVENTS
A43: DAVIS WADE - S2 | B43: 6131 | C43: PREMIUM S2 SUITE TOILET | D43: 70 | E43: 70 | F43: 2 | G43: EVENT CLEAN | H43: FB PREP, FB GAMES, SPECIAL EVENTS
A44: DAVIS WADE - S2 | B44: 6133 | C44: PREMIUM S2 SUITE KITCHEN | D44: 195 | E44: 195 | F44: 2 | G44: EVENT CLEAN | H44: FB PREP, FB GAMES, SPECIAL EVENTS
A45: DAVIS WADE - S2 | B45: 6134 | C45: PREMIUM S2 SUITE CLOSET | D45: 7 | E45: NC | F45: NC | G45: NC | H45: NC
A46: DAVIS WADE - S2 | B46: 6135 | C46: PREMIUM S2 SUITE CLOSET | D46: 7 | E46: NC | F46: NC | G46: NC | H46: NC
A47: DAVIS WADE - S2 | B47: 6136 | C47: PREMIUM S2 SUITE TOILET | D47: 70 | E47: 70 | F47: 2 | G47: EVENT CLEAN | H47: FB PREP, FB GAMES, SPECIAL EVENTS
A48: DAVIS WADE - S2 | B48: 614 | C48: PREMIUM S2 SUITE | D48: 686 | E48: 686 | F48: 2 | G48: EVENT CLEAN | H48: FB PREP, FB GAMES, SPECIAL EVENTS
A49: DAVIS WADE - S2 | B49: 6141 | C49: PREMIUM S2 SUITE TOILET | D49: 64 | E49: 64 | F49: 2 | G49: EVENT CLEAN | H49: FB PREP, FB GAMES, SPECIAL EVENTS
A50: DAVIS WADE - S2 | B50: 6143 | C50: PREMIUM S2 SUITE CLOSET | D50: 11 | E50: NC | F50: NC | G50: NC | H50: NC
A51: DAVIS WADE - S2 | B51: 615 | C51: PREMIUM S2 SUITE | D51: 681 | E51: 681 | F51: 2 | G51: EVENT CLEAN | H51: FB PREP, FB GAMES, SPECIAL EVENTS
A52: DAVIS WADE - S2 | B52: 6151 | C52: PREMIUM S2 SUITE TOILET | D52: 65 | E52: 65 | F52: 2 | G52: EVENT CLEAN | H52: FB PREP, FB GAMES, SPECIAL EVENTS
A53: DAVIS WADE - S2 | B53: 6152 | C53: PREMIUM S2 SUITE CLOSET | D53: 11 | E53: NC | F53: NC | G53: NC | H53: NC
A54: DAVIS WADE - S2 | B54: 616 | C54: PREMIUM S2 SUITE | D54: 681 | E54: 681 | F54: 2 | G54: EVENT CLEAN | H54: FB PREP, FB GAMES, SPECIAL EVENTS
A55: DAVIS WADE - S2 | B55: 6161 | C55: PREMIUM S2 SUITE TOILET | D55: 65 | E55: 65 | F55: 2 | G55: EVENT CLEAN | H55: FB PREP, FB GAMES, SPECIAL EVENTS
A56: DAVIS WADE - S2 | B56: 6162 | C56: PREMIUM S2 SUITE CLOSET | D56: 11 | E56: NC | F56: NC | G56: NC | H56: NC
A57: DAVIS WADE - S2 | B57: 617 | C57: PREMIUM S2 SUITE | D57: 678 | E57: 678 | F57: 2 | G57: EVENT CLEAN | H57: FB PREP, FB GAMES, SPECIAL EVENTS
A58: DAVIS WADE - S2 | B58: 6171 | C58: PREMIUM S2 SUITE TOILET | D58: 65 | E58: 65 | F58: 2 | G58: EVENT CLEAN | H58: FB PREP, FB GAMES, SPECIAL EVENTS
A59: DAVIS WADE - S2 | B59: 6172 | C59: PREMIUM S2 SUITE CLOSET | D59: 11 | E59: NC | F59: NC | G59: NC | H59: NC
A60: DAVIS WADE - S2 | B60: 618 | C60: PREMIUM S2 SUITE | D60: 678 | E60: 678 | F60: 2 | G60: EVENT CLEAN | H60: FB PREP, FB GAMES, SPECIAL EVENTS
A61: DAVIS WADE - S2 | B61: 6181 | C61: PREMIUM S2 SUITE TOILET | D61: 65 | E61: 65 | F61: 2 | G61: EVENT CLEAN | H61: FB PREP, FB GAMES, SPECIAL EVENTS
A62: DAVIS WADE - S2 | B62: 6182 | C62: PREMIUM S2 SUITE CLOSET | D62: 11 | E62: NC | F62: NC | G62: NC | H62: NC
A63: DAVIS WADE - S2 | B63: 619 | C63: PREMIUM S2 SUITE | D63: 681 | E63: 681 | F63: 2 | G63: EVENT CLEAN | H63: FB PREP, FB GAMES, SPECIAL EVENTS
A64: DAVIS WADE - S2 | B64: 6191 | C64: PREMIUM S2 SUITE TOILET | D64: 65 | E64: 65 | F64: 2 | G64: EVENT CLEAN | H64: FB PREP, FB GAMES, SPECIAL EVENTS
A65: DAVIS WADE - S2 | B65: 6192 | C65: PREMIUM S2 SUITE CLOSET | D65: 11 | E65: NC | F65: NC | G65: NC | H65: NC
A66: DAVIS WADE - S2 | B66: 620 | C66: PREMIUM S2 SUITE | D66: 681 | E66: 681 | F66: 2 | G66: EVENT CLEAN | H66: FB PREP, FB GAMES, SPECIAL EVENTS
A67: DAVIS WADE - S2 | B67: 6201 | C67: PREMIUM S2 SUITE TOILET | D67: 65 | E67: 65 | F67: 2 | G67: EVENT CLEAN | H67: FB PREP, FB GAMES, SPECIAL EVENTS
A68: DAVIS WADE - S2 | B68: 6202 | C68: PREMIUM S2 SUITE CLOSET | D68: 11 | E68: NC | F68: NC | G68: NC | H68: NC
A69: DAVIS WADE - S2 | B69: 621 | C69: PREMIUM S2 SUITE | D69: 681 | E69: 681 | F69: 2 | G69: EVENT CLEAN | H69: FB PREP, FB GAMES, SPECIAL EVENTS
A70: DAVIS WADE - S2 | B70: 6211 | C70: PREMIUM S2 SUITE TOILET | D70: 65 | E70: 65 | F70: 2 | G70: EVENT CLEAN | H70: FB PREP, FB GAMES, SPECIAL EVENTS
A71: DAVIS WADE - S2 | B71: 6212 | C71: PREMIUM S2 SUITE CLOSET | D71: 11 | E71: NC | F71: NC | G71: NC | H71: NC
A72: DAVIS WADE - S2 | B72: 621A | C72: PREMIUM S2 CATERING PANTRY | D72: 209 | E72: NC | F72: NC | G72: NC | H72: NC
A73: DAVIS WADE - S2 | B73: 622 | C73: PREMIUM S2 SUITE | D73: 681 | E73: 681 | F73: 2 | G73: EVENT CLEAN | H73: FB PREP, FB GAMES, SPECIAL EVENTS
A74: DAVIS WADE - S2 | B74: 6221 | C74: PREMIUM S2 SUITE TOILET | D74: 65 | E74: 65 | F74: 2 | G74: EVENT CLEAN | H74: FB PREP, FB GAMES, SPECIAL EVENTS
A75: DAVIS WADE - S2 | B75: 6222 | C75: PREMIUM S2 SUITE CLOSET | D75: 11 | E75: NC | F75: NC | G75: NC | H75: NC
A76: DAVIS WADE - S2 | B76: 623 | C76: PREMIUM S2 SUITE | D76: 681 | E76: 681 | F76: 2 | G76: EVENT CLEAN | H76: FB PREP, FB GAMES, SPECIAL EVENTS
A77: DAVIS WADE - S2 | B77: 6231 | C77: PREMIUM S2 SUITE TOILET | D77: 65 | E77: 65 | F77: 2 | G77: EVENT CLEAN | H77: FB PREP, FB GAMES, SPECIAL EVENTS
A78: DAVIS WADE - S2 | B78: 6232 | C78: PREMIUM S2 SUITE CLOSET | D78: 11 | E78: NC | F78: NC | G78: NC | H78: NC
A79: DAVIS WADE - S2 | B79: 624 | C79: PREMIUM S2 SUITE | D79: 681 | E79: 681 | F79: 2 | G79: EVENT CLEAN | H79: FB PREP, FB GAMES, SPECIAL EVENTS
A80: DAVIS WADE - S2 | B80: 6241 | C80: PREMIUM S2 SUITE TOILET | D80: 65 | E80: 65 | F80: 2 | G80: EVENT CLEAN | H80: FB PREP, FB GAMES, SPECIAL EVENTS
A81: DAVIS WADE - S2 | B81: 6242 | C81: PREMIUM S2 SUITE CLOSET | D81: 11 | E81: NC | F81: NC | G81: NC | H81: NC
A82: DAVIS WADE - S2 | B82: 625 | C82: PREMIUM S2 SUITE | D82: 662 | E82: 662 | F82: 2 | G82: EVENT CLEAN | H82: FB PREP, FB GAMES, SPECIAL EVENTS
A83: DAVIS WADE - S2 | B83: 6251 | C83: PREMIUM S2 SUITE TOILET | D83: 73 | E83: 73 | F83: 2 | G83: EVENT CLEAN | H83: FB PREP, FB GAMES, SPECIAL EVENTS
A84: DAVIS WADE - S2 | B84: 6252 | C84: PREMIUM S2 SUITE CLOSET | D84: 11 | E84: NC | F84: NC | G84: NC | H84: NC
A85: DAVIS WADE - S2 | B85: 625A | C85: PUBLIC REST ROOM | D85: 54 | E85: 54 | F85: 2 | G85: EVENT CLEAN | H85: FB PREP, FB GAMES, SPECIAL EVENTS
A86: DAVIS WADE - S2 | B86: 646 | C86: PREMIUM S2 NORTH ELEVATOR LOBBY | D86: 218 | E86: 218 | F86: 2 | G86: EVENT CLEAN | H86: FB PREP, FB GAMES, SPECIAL EVENTS
A87: DAVIS WADE - S2 | B87: 647 | C87: PREMIUM S2 NORTH ELEVATOR | D87: 49 | E87: 49 | F87: 2 | G87: EVENT CLEAN | H87: FB PREP, FB GAMES, SPECIAL EVENTS
A88: DAVIS WADE - S2 | B88: 648 | C88: PREMIUM S2 NORTH ELEVATOR | D88: 49 | E88: 49 | F88: 2 | G88: EVENT CLEAN | H88: FB PREP, FB GAMES, SPECIAL EVENTS
A89: DAVIS WADE - S2 | B89: 649 | C89: PREMIUM S2 CORRIDOR | D89: 3997 | E89: 3997 | F89: 2 | G89: EVENT CLEAN | H89: FB PREP, FB GAMES, SPECIAL EVENTS
A90: DAVIS WADE - S2 | B90: 650 | C90: PREMIUM S2 SOUTH ELEVATOR LOBBY | D90: 218 | E90: 218 | F90: 2 | G90: EVENT CLEAN | H90: FB PREP, FB GAMES, SPECIAL EVENTS
A91: DAVIS WADE - S2 | B91: 651 | C91: PREMIUM S2 SOUTH ELEVATOR | D91: 49 | E91: 49 | F91: 2 | G91: EVENT CLEAN | H91: FB PREP, FB GAMES, SPECIAL EVENTS
A92: DAVIS WADE - S2 | B92: 652 | C92: PREMIUM S2 SOUTH ELEVATOR | D92: 49 | E92: 49 | F92: 2 | G92: EVENT CLEAN | H92: FB PREP, FB GAMES, SPECIAL EVENTS
D93: =SUM(D3:D92) | E93: =SUM(E3:E92)

Sheet Davis Wade - East Skydeck
A1: DAVIS WADE - EAST SKYDECK
A2: BUILDING | B2: ROOM NO | C2: SPACE DESCRIPTION | D2: NET SQ FT | E2: CLEANABLE SQ FT | F2: APPA LEVEL | G2: FREQUENCY | H2: CLEANING WINDOW
A3: DAVIS WADE - SKY DECK | B3: 428 | C3: SKY DECK CUSTODIAL CLOSET | D3: 81 | E3: NC | F3: NC | G3: NC | H3: NC
A4: DAVIS WADE - SKY DECK | B4: 429 | C4: SKY DECK CUSTODIAL CLOSET | D4: 92 | E4: NC | F4: NC | G4: NC | H4: NC
A5: DAVIS WADE - SKY DECK | B5: 430 | C5: SKY DECK TOILET | D5: 788 | E5: 788 | F5: 2 | G5: EVENT CLEAN | H5: FB PREP, FB GAMES, SPECIAL EVENTS
A6: DAVIS WADE - SKY DECK | B6: 431 | C6: SKY DECK TOILET | D6: 651 | E6: 651 | F6: 2 | G6: EVENT CLEAN | H6: FB PREP, FB GAMES, SPECIAL EVENTS
A7: DAVIS WADE - SKY DECK | B7: 431A | C7: SKY DECK TOILET CLOSET | D7: 14 | E7: NC | F7: NC | G7: NC | H7: NC
A8: DAVIS WADE - SKY DECK | B8: 432 | C8: SKY DECK STORAGE | D8: 39 | E8: NC | F8: NC | G8: NC | H8: NC
A9: DAVIS WADE - SKY DECK | B9: 433 | C9: SKY DECK TOILET | D9: 911 | E9: 911 | F9: 2 | G9: EVENT CLEAN | H9: FB PREP, FB GAMES, SPECIAL EVENTS
A10: DAVIS WADE - SKY DECK | B10: 434 | C10: SKY DECK STORAGE | D10: 39 | E10: NC | F10: NC | G10: NC | H10: NC
A11: DAVIS WADE - SKY DECK | B11: 436 | C11: SKY DECK CONCESSION STORAGE | D11: 162 | E11: NC | F11: NC | G11: NC | H11: NC
A12: DAVIS WADE - SKY DECK | B12: 437 | C12: SKY DECK STORAGE | D12: 181 | E12: NC | F12: NC | G12: NC | H12: NC
A13: DAVIS WADE - SKY DECK | B13: 438 | C13: SKY DECK CONCESSIONS | D13: 873 | E13: NC | F13: NC | G13: NC | H13: NC
A14: DAVIS WADE - SKY DECK | B14: 438A | C14: SKY DECK CONCESSIONS TOILET | D14: 26 | E14: 26 | F14: 2 | G14: EVENT CLEAN | H14: FB PREP, FB GAMES, SPECIAL EVENTS
A15: DAVIS WADE - SKY DECK | B15: 439 | C15: SKY DECK CONCESSIONS | D15: 872 | E15: NC | F15: NC | G15: NC | H15: NC
A16: DAVIS WADE - SKY DECK | B16: 439A | C16: SKY DECK CONCESSIONS TOILET | D16: 26 | E16: 26 | F16: 2 | G16: EVENT CLEAN | H16: FB PREP, FB GAMES, SPECIAL EVENTS
A17: DAVIS WADE - SKY DECK | B17: 440 | C17: SKY DECK FIRST AID | D17: 181 | E17: 181 | F17: 2 | G17: EVENT CLEAN | H17: FB PREP, FB GAMES, SPECIAL EVENTS
A18: DAVIS WADE - SKY DECK | B18: 441 | C18: SKY DECK ELECTRICAL | D18: 101 | E18: NC | F18: NC | G18: NC | H18: NC
A19: DAVIS WADE - SKY DECK | B19: 442 | C19: SKY DECK CONCESSION STORAGE | D19: 162 | E19: NC | F19: NC | G19: NC | H19: NC
A20: DAVIS WADE - SKY DECK | B20: 443 | C20: SKY DECK STORAGE | D20: 39 | E20: NC | F20: NC | G20: NC | H20: NC
A21: DAVIS WADE - SKY DECK | B21: 444 | C21: SKY DECK TOILET | D21: 915 | E21: 915 | F21: 2 | G21: EVENT CLEAN | H21: FB PREP, FB GAMES, SPECIAL EVENTS
A22: DAVIS WADE - SKY DECK | B22: 445 | C22: SKY DECK STORAGE | D22: 39 | E22: NC | F22: NC | G22: NC | H22: NC
A23: DAVIS WADE - SKY DECK | B23: 446 | C23: SKY DECK TOILET | D23: 825 | E23: 825 | F23: 2 | G23: EVENT CLEAN | H23: FB PREP, FB GAMES, SPECIAL EVENTS
A24: DAVIS WADE - SKY DECK | B24: 447 | C24: SKY DECK TOILET | D24: 655 | E24: 655 | F24: 2 | G24: EVENT CLEAN | H24: FB PREP, FB GAMES, SPECIAL EVENTS
A25: DAVIS WADE - SKY DECK | B25: 447A | C25: SKY DECK TOILET CLOSET | D25: 14 | E25: 14 | F25: 2 | G25: EVENT CLEAN | H25: FB PREP, FB GAMES, SPECIAL EVENTS
A26: DAVIS WADE - SKY DECK | B26: 448 | C26: SKY DECK CUSTODIAL CLOSET | D26: 81 | E26: NC | F26: NC | G26: NC | H26: NC
A27: DAVIS WADE - SKY DECK | B27: 449 | C27: SKY DECK CUSTODIAL CLOSET | D27: 92 | E27: NC | F27: NC | G27: NC | H27: NC
A28: DAVIS WADE - SKY DECK | B28: 450 | C28: SKY DECK NORTH ELEVATOR LOBBY | D28: 171 | E28: 171 | F28: 2 | G28: EVENT CLEAN | H28: FB PREP, FB GAMES, SPECIAL EVENTS
A29: DAVIS WADE - SKY DECK | B29: 453 | C29: SKY DECK SOUTH ELEVATOR LOBBY | D29: 171 | E29: 171 | F29: 2 | G29: EVENT CLEAN | H29: FB PREP, FB GAMES, SPECIAL EVENTS
A30: DAVIS WADE - SKY DECK | B30: 454 | C30: SKY DECK SOUTH ELEVATOR | D30: 49 | E30: 49 | F30: 2 | G30: EVENT CLEAN | H30: FB PREP, FB GAMES, SPECIAL EVENTS
A31: DAVIS WADE - SKY DECK | B31: 455 | C31: SKY DECK SOUTH ELEVATOR | D31: 49 | E31: 49 | F31: 2 | G31: EVENT CLEAN | H31: FB PREP, FB GAMES, SPECIAL EVENTS
A32: DAVIS WADE - SKY DECK | B32: 465 | C32: SKY DECK OPEN SPACE | D32: 12504 | E32: 12504 | F32: 2 | G32: EVENT CLEAN | H32: FB PREP, FB GAMES, SPECIAL EVENTS
A33: DAVIS WADE - SKY DECK | B33: 467 | C33: SKY DECK CLOSET | D33: 17 | E33: NC | F33: NC | G33: NC | H33: NC
A34: DAVIS WADE - SKY DECK | B34: 468 | C34: SKY DECK CLOSET | D34: 15 | E34: NC | F34: NC | G34: NC | H34: NC
A35: DAVIS WADE - SKY DECK | B35: 470 | C35: SKY DECK CLOSET | D35: 17 | E35: NC | F35: NC | G35: NC | H35: NC
A36: DAVIS WADE - SKY DECK | B36: 471 | C36: SKY DECK CLOSET | D36: 15 | E36: NC | F36: NC | G36: NC | H36: NC
A37: DAVIS WADE - SKY DECK | B37: 472 | C37: SKY DECK NORTH ELEVATOR | D37: 49 | E37: 49 | F37: 2 | G37: EVENT CLEAN | H37: FB PREP, FB GAMES, SPECIAL EVENTS
A38: DAVIS WADE - SKY DECK | B38: 473 | C38: SKY DECK NORTH ELEVATOR | D38: 49 | E38: 49 | F38: 2 | G38: EVENT CLEAN | H38: FB PREP, FB GAMES, SPECIAL EVENTS
A39: DAVIS WADE - SKY DECK | B39: 999 | C39: SKY DECK SEATING | D39: 35329 | E39: 35329 | F39: 2 | G39: EVENT CLEAN | H39: FB PREP, FB GAMES, SPECIAL EVENTS
D40: =SUM(D3:D39) | E40: =SUM(E3:E39)

Sheet M-Club
A1: DAVIS WADE - MCLUB BUILDING
A2: BUILDING | B2: ROOM NO | C2: SPACE DESCRIPTION | D2: NET SQ FT | E2: CLEANABLE SQ FT | F2: APPA LEVEL | G2: FREQUENCY | H2: CLEANING WINDOW
A3: SEAL M CLUB | B3: 1 | C3: OFFICE | D3: 205 | E3: 205 | F3: 2 | G3: DAILY CLEAN | H3: 7:00PM-7:00AM
A4: SEAL M CLUB | B4: 2 | C4: LOBBY | D4: 182 | E4: 182 | F4: 2 | G4: EVENT CLEAN | H4: FB PREP, FB GAMES, SPECIAL EVENTS
A5: SEAL M CLUB | B5: 4 | C5: STORAGE | D5: 134 | E5: NC | F5: NC | G5: NC | H5: NC
A6: SEAL M CLUB | B6: 5 | C6: MEETING ROOM | D6: 928 | E6: 928 | F6: 2 | G6: EVENT CLEAN | H6: FB PREP, FB GAMES, SPECIAL EVENTS
A7: SEAL M CLUB | B7: 6 | C7: MEETING ROOM | D7: 966 | E7: 966 | F7: 2 | G7: EVENT CLEAN | H7: FB PREP, FB GAMES, SPECIAL EVENTS
A8: SEAL M CLUB | B8: 7 | C8: TOILET | D8: 87 | E8: 87 | F8: 2 | G8: EVENT CLEAN | H8: FB PREP, FB GAMES, SPECIAL EVENTS
A9: SEAL M CLUB | B9: 8 | C9: TOILET | D9: 153 | E9: 153 | F9: 2 | G9: EVENT CLEAN | H9: FB PREP, FB GAMES, SPECIAL EVENTS
A10: SEAL M CLUB | B10: 9 | C10: COMMUNICATIONS | D10: 29 | E10: NC | F10: NC | G10: NC | H10: NC
A11: SEAL M CLUB | B11: 10 | C11: TOILET | D11: 103 | E11: 103 | F11: 2 | G11: EVENT CLEAN | H11: FB PREP, FB GAMES, SPECIAL EVENTS
A12: SEAL M CLUB | B12: 11 | C12: TOILET | D12: 137 | E12: 137 | F12: 2 | G12: EVENT CLEAN | H12: FB PREP, FB GAMES, SPECIAL EVENTS
A13: SEAL M CLUB | B13: 12 | C13: CUSTODIAL CLOSET | D13: 27 | E13: NC | F13: NC | G13: NC | H13: NC
A14: SEAL M CLUB | B14: 13 | C14: MEETING ROOM | D14: 1003 | E14: 1003 | F14: 2 | G14: EVENT CLEAN | H14: FB PREP, FB GAMES, SPECIAL EVENTS
A15: SEAL M CLUB | B15: 14 | C15: LOBBY | D15: 736 | E15: 736 | F15: 2 | G15: EVENT CLEAN | H15: FB PREP, FB GAMES, SPECIAL EVENTS
A16: SEAL M CLUB | B16: 15 | C16: MEETING ROOM | D16: 1788 | E16: 1788 | F16: 2 | G16: EVENT CLEAN | H16: FB PREP, FB GAMES, SPECIAL EVENTS
A17: SEAL M CLUB | B17: 17 | C17: BAR | D17: 206 | E17: 206 | F17: 2 | G17: EVENT CLEAN | H17: FB PREP, FB GAMES, SPECIAL EVENTS
A18: SEAL M CLUB | B18: 17A | C18: CLOSET | D18: 46 | E18: NC | F18: NC | G18: NC | H18: NC
A19: SEAL M CLUB | B19: 18 | C19: KITCHEN | D19: 944 | E19: NC | F19: NC | G19: NC | H19: NC
A20: SEAL M CLUB | B20: 19 | C20: KITCHEN | D20: 179 | E20: NC | F20: NC | G20: NC | H20: NC
A21: SEAL M CLUB | B21: 20 | C21: STORAGE | D21: 69 | E21: NC | F21: NC | G21: NC | H21: NC
A22: SEAL M CLUB | B22: 21 | C22: STORAGE | D22: 99 | E22: NC | F22: NC | G22: NC | H22: NC
A23: SEAL M CLUB | B23: 22 | C23: CORRIDOR | D23: 1125 | E23: 1125 | F23: 2 | G23: EVENT CLEAN | H23: FB PREP, FB GAMES, SPECIAL EVENTS
A24: SEAL M CLUB | B24: 23 | C24: CORRIDOR | D24: 82 | E24: 82 | F24: 2 | G24: EVENT CLEAN | H24: FB PREP, FB GAMES, SPECIAL EVENTS
A25: SEAL M CLUB | B25: 24 | C25: LOBBY | D25: 104 | E25: 104 | F25: 2 | G25: EVENT CLEAN | H25: FB PREP, FB GAMES, SPECIAL EVENTS
A26: SEAL M CLUB | B26: 25 | C26: LOBBY | D26: 88 | E26: 88 | F26: 2 | G26: EVENT CLEAN | H26: FB PREP, FB GAMES, SPECIAL EVENTS
A27: SEAL M CLUB | B27: 30 | C27: STAIRWAY | D27: 201 | E27: 201 | F27: 2 | G27: EVENT CLEAN | H27: FB PREP, FB GAMES, SPECIAL EVENTS
A28: SEAL M CLUB | B28: 31 | C28: STAIRWAY | D28: 186 | E28: 186 | F28: 2 | G28: EVENT CLEAN | H28: FB PREP, FB GAMES, SPECIAL EVENTS
A29: SEAL M CLUB | B29: 40 | C29: ELEVATOR | D29: 70 | E29: 70 | F29: 2 | G29: EVENT CLEAN | H29: FB PREP, FB GAMES, SPECIAL EVENTS
D30: =SUM(D3:D29) | E30: =SUM(E3:E29)

Sheet Turman Fieldhouse
A1: DAVIS WADE - TURMAN FIELDHOUSE
A2: BUILDING | B2: ROOM NO | C2: SPACE DESCRIPTION | D2: NET SQ FT | E2: CLEANABLE SQ FT | F2: APPA LEVEL | G2: FREQUENCY | H2: CLEANING WINDOW
A3: TURMAN FIELD HOUSE | B3: 100 | C3: SOUTH LOGE LOCKER ROOM | D3: 211 | E3: 211 | F3: 2 | G3: EVENT CLEAN | H3: FB PREP, FB GAMES, SPECIAL EVENTS
A4: TURMAN FIELD HOUSE | B4: 100A | C4: TOILET | D4: 37 | E4: 37 | F4: 2 | G4: EVENT CLEAN | H4: FB PREP, FB GAMES, SPECIAL EVENTS
A5: TURMAN FIELD HOUSE | B5: 100B | C5: STORAGE | D5: 16 | E5: NC | F5: NC | G5: NC | H5: NC
A6: TURMAN FIELD HOUSE | B6: 101 | C6: MECHANICAL | D6: 535 | E6: NC | F6: NC | G6: NC | H6: NC
A7: TURMAN FIELD HOUSE | B7: 102 | C7: VISITING TEAM LOCKER ROOM | D7: 535 | E7: 535 | F7: 2 | G7: EVENT CLEAN | H7: FB PREP, FB GAMES, SPECIAL EVENTS
A8: TURMAN FIELD HOUSE | B8: 103 | C8: VISITING TEAM TRAINING ROOM | D8: 263 | E8: 263 | F8: 2 | G8: EVENT CLEAN | H8: FB PREP, FB GAMES, SPECIAL EVENTS
A9: TURMAN FIELD HOUSE | B9: 104 | C9: VISITING TEAM TOILET | D9: 359 | E9: 359 | F9: 2 | G9: EVENT CLEAN | H9: FB PREP, FB GAMES, SPECIAL EVENTS
A10: TURMAN FIELD HOUSE | B10: 104A | C10: VISITING TEAM SHOWER | D10: 214 | E10: 214 | F10: 2 | G10: EVENT CLEAN | H10: FB PREP, FB GAMES, SPECIAL EVENTS
A11: TURMAN FIELD HOUSE | B11: 105 | C11: VISITING TEAM LOCKER ROOM | D11: 1717 | E11: 1717 | F11: 2 | G11: EVENT CLEAN | H11: FB PREP, FB GAMES, SPECIAL EVENTS
A12: TURMAN FIELD HOUSE | B12: 106 | C12: VISITING COACHES LOCKER ROOM | D12: 209 | E12: 209 | F12: 2 | G12: EVENT CLEAN | H12: FB PREP, FB GAMES, SPECIAL EVENTS
A13: TURMAN FIELD HOUSE | B13: 106A | C13: VISITING COACHES TOILET | D13: 91 | E13: 91 | F13: 2 | G13: EVENT CLEAN | H13: FB PREP, FB GAMES, SPECIAL EVENTS
A14: TURMAN FIELD HOUSE | B14: 107 | C14: STAIRWAY | D14: 163 | E14: 163 | F14: 2 | G14: EVENT CLEAN | H14: FB PREP, FB GAMES, SPECIAL EVENTS
A15: TURMAN FIELD HOUSE | B15: 108 | C15: CORRIDOR | D15: 187 | E15: 187 | F15: 2 | G15: EVENT CLEAN | H15: FB PREP, FB GAMES, SPECIAL EVENTS
A16: TURMAN FIELD HOUSE | B16: 110 | C16: VISITING TEAM LOCKER ROOM | D16: 632 | E16: 632 | F16: 2 | G16: EVENT CLEAN | H16: FB PREP, FB GAMES, SPECIAL EVENTS
A17: TURMAN FIELD HOUSE | B17: 111 | C17: VISITING TEAM EQUIPMENT ROOM | D17: 267 | E17: 267 | F17: 2 | G17: EVENT CLEAN | H17: FB PREP, FB GAMES, SPECIAL EVENTS
A18: TURMAN FIELD HOUSE | B18: 112 | C18: SCOREBOARD CONTROLS | D18: 342 | E18: NC | F18: NC | G18: NC | H18: NC
A19: TURMAN FIELD HOUSE | B19: 112A | C19: ELECTRICAL | D19: 120 | E19: NC | F19: NC | G19: NC | H19: NC
A20: TURMAN FIELD HOUSE | B20: 114 | C20: VISITING TEAM TOILET | D20: 358 | E20: 358 | F20: 2 | G20: EVENT CLEAN | H20: FB PREP, FB GAMES, SPECIAL EVENTS
A21: TURMAN FIELD HOUSE | B21: 114A | C21: VISITING TEAM SHOWER | D21: 214 | E21: 214 | F21: 2 | G21: EVENT CLEAN | H21: FB PREP, FB GAMES, SPECIAL EVENTS
A22: TURMAN FIELD HOUSE | B22: 130 | C22: STAIRWAY | D22: 211 | E22: 211 | F22: 2 | G22: EVENT CLEAN | H22: FB PREP, FB GAMES, SPECIAL EVENTS
A23: TURMAN FIELD HOUSE | B23: 140 | C23: STAIRWAY | D23: 211 | E23: 211 | F23: 2 | G23: EVENT CLEAN | H23: FB PREP, FB GAMES, SPECIAL EVENTS
A24: TURMAN FIELD HOUSE | B24: 150 | C24: ELEVATOR | D24: 73 | E24: 73 | F24: 2 | G24: EVENT CLEAN | H24: FB PREP, FB GAMES, SPECIAL EVENTS
A25: TURMAN FIELD HOUSE | B25: 160 | C25: ELEVATOR | D25: 73 | E25: 73 | F25: 2 | G25: EVENT CLEAN | H25: FB PREP, FB GAMES, SPECIAL EVENTS
A26: TURMAN FIELD HOUSE | B26: 200 | C26: MECHANICAL | D26: 272 | E26: NC | F26: NC | G26: NC | H26: NC
A27: TURMAN FIELD HOUSE | B27: 201 | C27: CONFERENCE ROOM | D27: 327 | E27: 327 | F27: 2 | G27: DAILY CLEAN | H27: 7:00PM-7:00AM
A28: TURMAN FIELD HOUSE | B28: 202 | C28: OFFICES | D28: 972 | E28: 972 | F28: 2 | G28: DAILY CLEAN | H28: 7:00PM-7:00AM
A29: TURMAN FIELD HOUSE | B29: 202A | C29: TOILET | D29: 129 | E29: 129 | F29: 2 | G29: DAILY CLEAN | H29: 7:00PM-7:00AM
A30: TURMAN FIELD HOUSE | B30: 203 | C30: CORRIDOR | D30: 126 | E30: 126 | F30: 2 | G30: DAILY CLEAN | H30: 7:00PM-7:00AM
A31: TURMAN FIELD HOUSE | B31: 204 | C31: STORAGE | D31: 148 | E31: NC | F31: NC | G31: NC | H31: NC
A32: TURMAN FIELD HOUSE | B32: 204A | C32: STORAGE | D32: 251 | E32: NC | F32: NC | G32: NC | H32: NC
A33: TURMAN FIELD HOUSE | B33: 205 | C33: OFFICIALS LOCKER ROOM | D33: 646 | E33: 646 | F33: 2 | G33: EVENT CLEAN | H33: FB PREP, FB GAMES, SPECIAL EVENTS
A34: TURMAN FIELD HOUSE | B34: 205A | C34: OFFICIALS TOILET | D34: 120 | E34: 120 | F34: 2 | G34: EVENT CLEAN | H34: FB PREP, FB GAMES, SPECIAL EVENTS
A35: TURMAN FIELD HOUSE | B35: 206 | C35: OFFICES | D35: 186 | E35: 186 | F35: 2 | G35: DAILY CLEAN | H35: 7:00PM-7:00AM
A36: TURMAN FIELD HOUSE | B36: 207 | C36: LOBBY | D36: 392 | E36: 392 | F36: 2 | G36: DAILY CLEAN | H36: 7:00PM-7:00AM
A37: TURMAN FIELD HOUSE | B37: 208 | C37: CORRIDOR | D37: 235 | E37: 235 | F37: 2 | G37: DAILY CLEAN | H37: 7:00PM-7:00AM
A38: TURMAN FIELD HOUSE | B38: 208A | C38: STAIRWAY | D38: 101 | E38: 101 | F38: 2 | G38: DAILY CLEAN | H38: 7:00PM-7:00AM
A39: TURMAN FIELD HOUSE | B39: 209 | C39: VISITING COACHES LOCKER ROOM | D39: 268 | E39: 268 | F39: 2 | G39: EVENT CLEAN | H39: FB PREP, FB GAMES, SPECIAL EVENTS
A40: TURMAN FIELD HOUSE | B40: 209A | C40: VISITING COACHES TOILET/SHOWER | D40: 161 | E40: 161 | F40: 2 | G40: EVENT CLEAN | H40: FB PREP, FB GAMES, SPECIAL EVENTS
A41: TURMAN FIELD HOUSE | B41: 212 | C41: SOUTH LOGE LOUNGE | D41: 2442 | E41: 2442 | F41: 2 | G41: EVENT CLEAN | H41: FB PREP, FB GAMES, SPECIAL EVENTS
A42: TURMAN FIELD HOUSE | B42: 212A | C42: SOUTH LOGE TOILET | D42: 129 | E42: 129 | F42: 2 | G42: EVENT CLEAN | H42: FB PREP, FB GAMES, SPECIAL EVENTS
A43: TURMAN FIELD HOUSE | B43: 212B | C43: SOUTH LOGE TOILET | D43: 172 | E43: 172 | F43: 2 | G43: EVENT CLEAN | H43: FB PREP, FB GAMES, SPECIAL EVENTS
A44: TURMAN FIELD HOUSE | B44: 230 | C44: STAIRWAY | D44: 211 | E44: 211 | F44: 2 | G44: DAILY CLEAN | H44: 7:00PM-7:00AM
A45: TURMAN FIELD HOUSE | B45: 250 | C45: ELEVATOR | D45: 73 | E45: 73 | F45: 2 | G45: DAILY CLEAN | H45: 7:00PM-7:00AM
A46: TURMAN FIELD HOUSE | B46: 260 | C46: ELEVATOR | D46: 73 | E46: 73 | F46: 2 | G46: DAILY CLEAN | H46: 7:00PM-7:00AM
D47: =SUM(D3:D46) | E47: =SUM(E3:E46)

Sheet Dudy Noble Field
A1: DUDY NOBLE FIELD - POLK DEMENT STADIUM
A2: BUILDING | B2: ROOM NO | C2: SPACE DESCRIPTION | D2: NET SQ FT | E2: CLEANABLE SQ FT | F2: APPA LEVEL | G2: FREQUENCY | H2: CLEANING WINDOW
A3: POLK-DEMENT BASEBALL STADIUM | B3: 1010 | C3: MECHANICAL | D3: 1921 | E3: NC | F3: NC | G3: NC | H3: NC
A4: POLK-DEMENT BASEBALL STADIUM | B4: 1020 | C4: TEAM MEETING ROOM | D4: 843 | E4: 843 | F4: 1 | G4: DAILY CLEAN | H4: 7:00PM-7:00AM
A5: POLK-DEMENT BASEBALL STADIUM | B5: 1030 | C5: STORAGE | D5: 262 | E5: NC | F5: NC | G5: NC | H5: NC
A6: POLK-DEMENT BASEBALL STADIUM | B6: 1100 | C6: CORRIDOR | D6: 553 | E6: 553 | F6: 2 | G6: DAILY CLEAN | H6: 7:00PM-7:00AM
A7: POLK-DEMENT BASEBALL STADIUM | B7: 1101 | C7: CORRIDOR | D7: 1133 | E7: 1133 | F7: 2 | G7: DAILY CLEAN | H7: 7:00PM-7:00AM
A8: POLK-DEMENT BASEBALL STADIUM | B8: 1110 | C8: STAIRWAY | D8: 304 | E8: 304 | F8: 2 | G8: EVENT CLEAN | H8: GAMEDAYS; 7:00PM-7:00AM
A9: POLK-DEMENT BASEBALL STADIUM | B9: 1120 | C9: CUSTODIAL CLOSET | D9: 12 | E9: NC | F9: NC | G9: NC | H9: NC
A10: POLK-DEMENT BASEBALL STADIUM | B10: 1130 | C10: TOILET | D10: 64 | E10: 64 | F10: 2 | G10: DAILY CLEAN | H10: 7:00PM-7:00AM
A11: POLK-DEMENT BASEBALL STADIUM | B11: 1210 | C11: TEAM LOUNGE | D11: 960 | E11: 960 | F11: 2 | G11: DAILY CLEAN | H11: 7:00PM-7:00AM
A12: POLK-DEMENT BASEBALL STADIUM | B12: 1220 | C12: BATTING LAB | D12: 1707 | E12: 1707 | F12: 2 | G12: DAILY CLEAN | H12: 7:00PM-7:00AM
A13: POLK-DEMENT BASEBALL STADIUM | B13: 1310 | C13: TRAINING | D13: 812 | E13: 812 | F13: 2 | G13: DAILY CLEAN | H13: 7:00PM-7:00AM
A14: POLK-DEMENT BASEBALL STADIUM | B14: 1312 | C14: POOL ROOM | D14: 183 | E14: 183 | F14: 2 | G14: DAILY CLEAN | H14: 7:00PM-7:00AM
A15: POLK-DEMENT BASEBALL STADIUM | B15: 1313 | C15: STORAGE | D15: 85 | E15: NC | F15: NC | G15: NC | H15: NC
A16: POLK-DEMENT BASEBALL STADIUM | B16: 1315 | C16: OFFICE | D16: 172 | E16: 172 | F16: 2 | G16: DAILY CLEAN | H16: 7:00PM-7:00AM
A17: POLK-DEMENT BASEBALL STADIUM | B17: 1320 | C17: TEAM LOCKER ROOM | D17: 2044 | E17: 2044 | F17: 2 | G17: DAILY CLEAN | H17: 7:00PM-7:00AM
A18: POLK-DEMENT BASEBALL STADIUM | B18: 1322 | C18: TEAM TOILET | D18: 234 | E18: 234 | F18: 2 | G18: DAILY CLEAN | H18: 7:00PM-7:00AM
A19: POLK-DEMENT BASEBALL STADIUM | B19: 1324 | C19: TEAM SHOWER | D19: 246 | E19: 246 | F19: 2 | G19: DAILY CLEAN | H19: 7:00PM-7:00AM
A20: POLK-DEMENT BASEBALL STADIUM | B20: 1326 | C20: CUSTODIAL CLOSET | D20: 10 | E20: NC | F20: NC | G20: NC | H20: NC
A21: POLK-DEMENT BASEBALL STADIUM | B21: 1330 | C21: TEAM NUTRITION CENTER | D21: 502 | E21: 502 | F21: 2 | G21: DAILY CLEAN | H21: 7:00PM-7:00AM
A22: POLK-DEMENT BASEBALL STADIUM | B22: 1342 | C22: MUD ROOM | D22: 497 | E22: 497 | F22: 2 | G22: DAILY CLEAN | H22: 7:00PM-7:00AM
A23: POLK-DEMENT BASEBALL STADIUM | B23: 1343 | C23: TOILET | D23: 36 | E23: 36 | F23: 2 | G23: DAILY CLEAN | H23: 7:00PM-7:00AM
A24: POLK-DEMENT BASEBALL STADIUM | B24: 1344 | C24: STORAGE | D24: 80 | E24: NC | F24: NC | G24: NC | H24: NC
A25: POLK-DEMENT BASEBALL STADIUM | B25: 1345 | C25: STORAGE | D25: 246 | E25: NC | F25: NC | G25: NC | H25: NC
A26: POLK-DEMENT BASEBALL STADIUM | B26: 1350 | C26: EQUIPMENT LAUNDRY | D26: 331 | E26: NC | F26: NC | G26: NC | H26: NC
A27: POLK-DEMENT BASEBALL STADIUM | B27: 1352 | C27: EQUIPMENT LAUNDRY | D27: 552 | E27: NC | F27: NC | G27: NC | H27: NC
A28: POLK-DEMENT BASEBALL STADIUM | B28: 1355 | C28: OFFICE | D28: 162 | E28: 162 | F28: 2 | G28: DAILY CLEAN | H28: 7:00PM-7:00AM
A29: POLK-DEMENT BASEBALL STADIUM | B29: 1400 | C29: CORRIDOR | D29: 525 | E29: 525 | F29: 2 | G29: DAILY CLEAN | H29: 7:00PM-7:00AM
A30: POLK-DEMENT BASEBALL STADIUM | B30: 1401 | C30: CORRIDOR | D30: 309 | E30: 309 | F30: 2 | G30: DAILY CLEAN | H30: 7:00PM-7:00AM
A31: POLK-DEMENT BASEBALL STADIUM | B31: 1410 | C31: OFFICIALS LOCKER ROOM | D31: 457 | E31: 457 | F31: 2 | G31: WEEKLY CLEAN | H31: 7:00PM-7:00AM
A32: POLK-DEMENT BASEBALL STADIUM | B32: 1420 | C32: OFFICIALS TOILET/SHOWER | D32: 234 | E32: 234 | F32: 2 | G32: WEEKLY CLEAN | H32: 7:00PM-7:00AM
A33: POLK-DEMENT BASEBALL STADIUM | B33: 1430 | C33: CUSTODIAL CLOSET | D33: 29 | E33: NC | F33: NC | G33: NC | H33: NC
A34: POLK-DEMENT BASEBALL STADIUM | B34: 1440 | C34: GAME OPERATIONS ROOM | D34: 447 | E34: 447 | F34: 2 | G34: EVENT CLEAN | H34: GAMEDAYS; 7:00PM-7:00AM
A35: POLK-DEMENT BASEBALL STADIUM | B35: 1450 | C35: CATERING PANTRY | D35: 636 | E35: NC | F35: NC | G35: NC | H35: NC
A36: POLK-DEMENT BASEBALL STADIUM | B36: 1510 | C36: STAIRWAY | D36: 275 | E36: 275 | F36: 2 | G36: EVENT CLEAN | H36: GAMEDAYS; 7:00PM-7:00AM
A37: POLK-DEMENT BASEBALL STADIUM | B37: 1520 | C37: TRIPLE CROWN ELEVATOR LOBBY | D37: 1385 | E37: 1385 | F37: 2 | G37: EVENT CLEAN | H37: GAMEDAYS; 7:00PM-7:00AM
A38: POLK-DEMENT BASEBALL STADIUM | B38: 1530 | C38: ELEVATOR | D38: 65 | E38: 65 | F38: 2 | G38: EVENT CLEAN | H38: GAMEDAYS; 7:00PM-7:00AM
A39: POLK-DEMENT BASEBALL STADIUM | B39: 1600 | C39: TRIPLE CROWN CORRIDOR | D39: 369 | E39: 369 | F39: 2 | G39: EVENT CLEAN | H39: GAMEDAYS; 7:00PM-7:00AM
A40: POLK-DEMENT BASEBALL STADIUM | B40: 1610 | C40: TRIPLE CROWN CLUB | D40: 5744 | E40: 5744 | F40: 2 | G40: EVENT CLEAN | H40: GAMEDAYS; 7:00PM-7:00AM
A41: POLK-DEMENT BASEBALL STADIUM | B41: 1620 | C41: PREMIUM STORAGE | D41: 368 | E41: NC | F41: NC | G41: NC | H41: NC
A42: POLK-DEMENT BASEBALL STADIUM | B42: 1630 | C42: STORAGE | D42: 165 | E42: NC | F42: NC | G42: NC | H42: NC
A43: POLK-DEMENT BASEBALL STADIUM | B43: 1650 | C43: TRIPLE CROWN CLUB LOCKER ROOM | D43: 623 | E43: 623 | F43: 2 | G43: EVENT CLEAN | H43: GAMEDAYS; 7:00PM-7:00AM
A44: POLK-DEMENT BASEBALL STADIUM | B44: 1660 | C44: TOILET | D44: 238 | E44: 238 | F44: 2 | G44: EVENT CLEAN | H44: GAMEDAYS; 7:00PM-7:00AM
A45: POLK-DEMENT BASEBALL STADIUM | B45: 1670 | C45: TOILET | D45: 272 | E45: 272 | F45: 2 | G45: EVENT CLEAN | H45: GAMEDAYS; 7:00PM-7:00AM
A46: POLK-DEMENT BASEBALL STADIUM | B46: 1680 | C46: TOILET | D46: 59 | E46: 59 | F46: 2 | G46: EVENT CLEAN | H46: GAMEDAYS; 7:00PM-7:00AM
A47: POLK-DEMENT BASEBALL STADIUM | B47: 1690 | C47: JANITOR CLOSET | D47: 59 | E47: NC | F47: NC | G47: NC | H47: NC
A48: POLK-DEMENT BASEBALL STADIUM | B48: 1700 | C48: CORRIDOR | D48: 2251 | E48: 2251 | F48: 2 | G48: DAILY CLEAN | H48: 7:00PM-7:00AM
A49: POLK-DEMENT BASEBALL STADIUM | B49: 1710 | C49: PITCHING LAB | D49: 4135 | E49: NC | F49: NC | G49: NC | H49: NC
A50: POLK-DEMENT BASEBALL STADIUM | B50: 1720 | C50: MECHANICAL | D50: 680 | E50: NC | F50: NC | G50: NC | H50: NC
A51: POLK-DEMENT BASEBALL STADIUM | B51: 1730 | C51: STORAGE | D51: 534 | E51: NC | F51: NC | G51: NC | H51: NC
A52: POLK-DEMENT BASEBALL STADIUM | B52: 1740 | C52: TOILET | D52: 173 | E52: 173 | F52: 2 | G52: DAILY CLEAN | H52: 7:00PM-7:00AM
A53: POLK-DEMENT BASEBALL STADIUM | B53: 1750 | C53: STORAGE | D53: 365 | E53: NC | F53: NC | G53: NC | H53: NC
A54: POLK-DEMENT BASEBALL STADIUM | B54: 1760 | C54: COMMUNICATIONS | D54: 380 | E54: NC | F54: NC | G54: NC | H54: NC
A55: POLK-DEMENT BASEBALL STADIUM | B55: 1770 | C55: MECHANICAL | D55: 1876 | E55: NC | F55: NC | G55: NC | H55: NC
A56: POLK-DEMENT BASEBALL STADIUM | B56: 1780 | C56: MECHANICAL | D56: 339 | E56: NC | F56: NC | G56: NC | H56: NC
A57: POLK-DEMENT BASEBALL STADIUM | B57: 1785 | C57: STORAGE | D57: 56 | E57: NC | F57: NC | G57: NC | H57: NC
A58: POLK-DEMENT BASEBALL STADIUM | B58: 1790 | C58: GENERATOR | D58: 1063 | E58: NC | F58: NC | G58: NC | H58: NC
A59: POLK-DEMENT BASEBALL STADIUM | B59: 1800 | C59: STORAGE | D59: 2188 | E59: NC | F59: NC | G59: NC | H59: NC
A60: POLK-DEMENT BASEBALL STADIUM | B60: 1810 | C60: STAIRWAY | D60: 304 | E60: 304 | F60: 2 | G60: WEEKLY CLEAN | H60: 7:00PM-7:00AM
A61: POLK-DEMENT BASEBALL STADIUM | B61: 1820 | C61: CORRIDOR | D61: 746 | E61: 746 | F61: 2 | G61: DAILY CLEAN | H61: 7:00PM-7:00AM
A62: POLK-DEMENT BASEBALL STADIUM | B62: 1830 | C62: ELEVATOR | D62: 77 | E62: 77 | F62: 2 | G62: WEEKLY CLEAN | H62: 7:00PM-7:00AM
A63: POLK-DEMENT BASEBALL STADIUM | B63: 1840 | C63: MECHANICAL | D63: 97 | E63: NC | F63: NC | G63: NC | H63: NC
A64: POLK-DEMENT BASEBALL STADIUM | B64: 1910 | C64: TURF GRASS STORAGE | D64: 2991 | E64: NC | F64: NC | G64: NC | H64: NC
A65: POLK-DEMENT BASEBALL STADIUM | B65: 1915 | C65: OFFICE | D65: 102 | E65: NC | F65: NC | G65: NC | H65: NC
A66: POLK-DEMENT BASEBALL STADIUM | B66: 1925 | C66: ELECTRICAL | D66: 291 | E66: NC | F66: NC | G66: NC | H66: NC
A67: POLK-DEMENT BASEBALL STADIUM | B67: 1930 | C67: MECHANICAL | D67: 152 | E67: NC | F67: NC | G67: NC | H67: NC
A68: POLK-DEMENT BASEBALL STADIUM | B68: 1970 | C68: SHOP | D68: 735 | E68: NC | F68: NC | G68: NC | H68: NC
A69: POLK-DEMENT BASEBALL STADIUM | B69: 1975 | C69: STORAGE | D69: 604 | E69: NC | F69: NC | G69: NC | H69: NC
A70: POLK-DEMENT BASEBALL STADIUM | B70: 1980 | C70: PLAYER BULLPEN LOUNGE/TOILET | D70: 336 | E70: 336 | F70: 2 | G70: DAILY CLEAN | H70: 7:00PM-7:00AM
A71: POLK-DEMENT BASEBALL STADIUM | B71: 2110 | C71: STAIRWAY | D71: 304 | E71: 304 | F71: 2 | G71: WEEKLY CLEAN | H71: 7:00PM-7:00AM
A72: POLK-DEMENT BASEBALL STADIUM | B72: 2115 | C72: OFFICE | D72: 167 | E72: 167 | F72: 2 | G72: QUARTERLY CLEAN | H72: 7:00PM-7:00AM
A73: POLK-DEMENT BASEBALL STADIUM | B73: 2116 | C73: ELECTRICAL | D73: 112 | E73: NC | F73: NC | G73: NC | H73: NC
A74: POLK-DEMENT BASEBALL STADIUM | B74: 2117 | C74: COMMUNICATIONS | D74: 88 | E74: NC | F74: NC | G74: NC | H74: NC
A75: POLK-DEMENT BASEBALL STADIUM | B75: 2210 | C75: TOILET | D75: 992 | E75: 992 | F75: 2 | G75: EVENT CLEAN | H75: GAMEDAYS; 7:00PM-7:00AM
A76: POLK-DEMENT BASEBALL STADIUM | B76: 2220 | C76: TOILET | D76: 60 | E76: 60 | F76: 2 | G76: EVENT CLEAN | H76: GAMEDAYS; 7:00PM-7:00AM
A77: POLK-DEMENT BASEBALL STADIUM | B77: 2230 | C77: TOILET | D77: 60 | E77: 60 | F77: 2 | G77: EVENT CLEAN | H77: GAMEDAYS; 7:00PM-7:00AM
A78: POLK-DEMENT BASEBALL STADIUM | B78: 2240 | C78: TOILET | D78: 624 | E78: 624 | F78: 2 | G78: EVENT CLEAN | H78: GAMEDAYS; 7:00PM-7:00AM
A79: POLK-DEMENT BASEBALL STADIUM | B79: 2250 | C79: CUSTODIAL CLOSET | D79: 18 | E79: NC | F79: NC | G79: NC | H79: NC
A80: POLK-DEMENT BASEBALL STADIUM | B80: 2280 | C80: CONCESSIONS | D80: 1669 | E80: NC | F80: NC | G80: NC | H80: NC
A81: POLK-DEMENT BASEBALL STADIUM | B81: 2410 | C81: OFFICE | D81: 250 | E81: 250 | F81: 2 | G81: EVENT CLEAN | H81: GAMEDAYS; 7:00PM-7:00AM
A82: POLK-DEMENT BASEBALL STADIUM | B82: 2420 | C82: TOILET | D82: 734 | E82: 734 | F82: 2 | G82: EVENT CLEAN | H82: GAMEDAYS; 7:00PM-7:00AM
A83: POLK-DEMENT BASEBALL STADIUM | B83: 2430 | C83: CUSTODIAL CLOSET | D83: 18 | E83: NC | F83: NC | G83: NC | H83: NC
A84: POLK-DEMENT BASEBALL STADIUM | B84: 2440 | C84: CONCESSIONS | D84: 97 | E84: NC | F84: NC | G84: NC | H84: NC
A85: POLK-DEMENT BASEBALL STADIUM | B85: 2510 | C85: STAIRWAY | D85: 229 | E85: 229 | F85: 2 | G85: WEEKLY CLEAN | H85: 7:00PM-7:00AM
A86: POLK-DEMENT BASEBALL STADIUM | B86: 2520 | C86: ELEVATOR | D86: 65 | E86: 65 | F86: 2 | G86: WEEKLY CLEAN | H86: 7:00PM-7:00AM
A87: POLK-DEMENT BASEBALL STADIUM | B87: 2530 | C87: STORAGE | D87: 121 | E87: NC | F87: NC | G87: NC | H87: NC
A88: POLK-DEMENT BASEBALL STADIUM | B88: 2540 | C88: MECHANICAL | D88: 231 | E88: NC | F88: NC | G88: NC | H88: NC
A89: POLK-DEMENT BASEBALL STADIUM | B89: 2550 | C89: ELECTRICAL | D89: 235 | E89: NC | F89: NC | G89: NC | H89: NC
A90: POLK-DEMENT BASEBALL STADIUM | B90: 2560 | C90: COMMUNICATIONS | D90: 98 | E90: NC | F90: NC | G90: NC | H90: NC
A91: POLK-DEMENT BASEBALL STADIUM | B91: 2605 | C91: CORRIDOR | D91: 82 | E91: 82 | F91: 2 | G91: EVENT CLEAN | H91: GAMEDAYS; 7:00PM-7:00AM
A92: POLK-DEMENT BASEBALL STADIUM | B92: 2610 | C92: TICKET OFFICE | D92: 469 | E92: 469 | F92: 2 | G92: EVENT CLEAN | H92: GAMEDAYS; 7:00PM-7:00AM
A93: POLK-DEMENT BASEBALL STADIUM | B93: 2620 | C93: NURSE STATION | D93: 143 | E93: 143 | F93: 2 | G93: EVENT CLEAN | H93: GAMEDAYS; 7:00PM-7:00AM
A94: POLK-DEMENT BASEBALL STADIUM | B94: 2622 | C94: TOILET | D94: 51 | E94: 51 | F94: 2 | G94: EVENT CLEAN | H94: GAMEDAYS; 7:00PM-7:00AM
A95: POLK-DEMENT BASEBALL STADIUM | B95: 2630 | C95: OFFICE | D95: 220 | E95: 220 | F95: 2 | G95: EVENT CLEAN | H95: GAMEDAYS; 7:00PM-7:00AM
A96: POLK-DEMENT BASEBALL STADIUM | B96: 2632 | C96: STORAGE | D96: 22 | E96: NC | F96: NC | G96: NC | H96: NC
A97: POLK-DEMENT BASEBALL STADIUM | B97: 2640 | C97: TOILET | D97: 824 | E97: 824 | F97: 2 | G97: EVENT CLEAN | H97: GAMEDAYS; 7:00PM-7:00AM
A98: POLK-DEMENT BASEBALL STADIUM | B98: 2650 | C98: CONCESSIONS | D98: 97 | E98: NC | F98: NC | G98: NC | H98: NC
A99: POLK-DEMENT BASEBALL STADIUM | B99: 2660 | C99: CUSTODIAL CLOSET | D99: 18 | E99: NC | F99: NC | G99: NC | H99: NC
A100: POLK-DEMENT BASEBALL STADIUM | B100: 2670 | C100: CONCESSIONS STORAGE | D100: 249 | E100: NC | F100: NC | G100: NC | H100: NC
...

Sheet Humphrey Coliseum
A1: HUMPHREY COLISEUM
A2: BUILDING | B2: ROOM NO | C2: SPACE DESCRIPTION | D2: NET SQ FT | E2: CLEANABLE SQ FT | F2: APPA LEVEL | G2: FREQUENCY | H2: CLEANING WINDOW
A3: HUMPHREY COLISEUM | B3: 1 | C3: PLAYING SURFACE | D3: 7196 | E3: NC | F3: NC | G3: NC | H3: NC
A4: HUMPHREY COLISEUM | B4: 1A | C4: PLAYING SURFACE PERIMETER/LOWER SEATING | D4: 4166 | E4: 4166 | F4: 2 | G4: EVENT CLEAN | H4: GAMEDAYS; 7:00PM-7:00AM
A5: HUMPHREY COLISEUM | B5: 100 | C5: LOBBY | D5: 61 | E5: 61 | F5: 1 | G5: DAILY CLEAN | H5: 7:00PM-7:00AM
A6: HUMPHREY COLISEUM | B6: 100A | C6: LOBBY | D6: 380 | E6: 380 | F6: 1 | G6: DAILY CLEAN | H6: 7:00PM-7:00AM
A7: HUMPHREY COLISEUM | B7: 101 | C7: HALLWAY | D7: 212 | E7: 212 | F7: 2 | G7: EVENT CLEAN | H7: GAMEDAYS; 7:00PM-7:00AM
A8: HUMPHREY COLISEUM | B8: 101A | C8: VISITING TEAM LOCKER ROOM | D8: 560 | E8: 560 | F8: 2 | G8: EVENT CLEAN | H8: GAMEDAYS; 7:00PM-7:00AM
A9: HUMPHREY COLISEUM | B9: 101B | C9: TOILET | D9: 177 | E9: 177 | F9: 2 | G9: EVENT CLEAN | H9: GAMEDAYS; 7:00PM-7:00AM
A10: HUMPHREY COLISEUM | B10: 101C | C10: SHOWER | D10: 81 | E10: 81 | F10: 2 | G10: EVENT CLEAN | H10: GAMEDAYS; 7:00PM-7:00AM
A11: HUMPHREY COLISEUM | B11: 101D | C11: SHOWER | D11: 104 | E11: 104 | F11: 2 | G11: EVENT CLEAN | H11: GAMEDAYS; 7:00PM-7:00AM
A12: HUMPHREY COLISEUM | B12: 101E | C12: VISITING COACHES LOCKER ROOM | D12: 184 | E12: 184 | F12: 2 | G12: EVENT CLEAN | H12: GAMEDAYS; 7:00PM-7:00AM
A13: HUMPHREY COLISEUM | B13: 101F | C13: TOILET / SHOWER | D13: 119 | E13: 119 | F13: 2 | G13: EVENT CLEAN | H13: GAMEDAYS; 7:00PM-7:00AM
A14: HUMPHREY COLISEUM | B14: 101G | C14: EQUIPMENT STORAGE | D14: 173 | E14: NC | F14: NC | G14: NC | H14: NC
A15: HUMPHREY COLISEUM | B15: 102 | C15: EQUIPMENT LAUNDRY | D15: 199 | E15: NC | F15: NC | G15: NC | H15: NC
A16: HUMPHREY COLISEUM | B16: 103 | C16: MBK TEAM MEETING ROOM | D16: 497 | E16: 497 | F16: 2 | G16: DAILY CLEAN | H16: 7:00PM-7:00AM
A17: HUMPHREY COLISEUM | B17: 103A | C17: CLOSET | D17: 62 | E17: NC | F17: NC | G17: NC | H17: NC
A18: HUMPHREY COLISEUM | B18: 104 | C18: MBK SHOWER | D18: 92 | E18: 92 | F18: 2 | G18: DAILY CLEAN | H18: 7:00PM-7:00AM
A19: HUMPHREY COLISEUM | B19: 105 | C19: MBK TOILET | D19: 202 | E19: 202 | F19: 2 | G19: DAILY CLEAN | H19: 7:00PM-7:00AM
A20: HUMPHREY COLISEUM | B20: 105A | C20: CLOSET | D20: 17 | E20: NC | F20: NC | G20: NC | H20: NC
A21: HUMPHREY COLISEUM | B21: 106 | C21: LOCKER ROOM | D21: 238 | E21: 238 | F21: 2 | G21: DAILY CLEAN | H21: 7:00PM-7:00AM
A22: HUMPHREY COLISEUM | B22: 106A | C22: TOILET | D22: 58 | E22: 58 | F22: 2 | G22: DAILY CLEAN | H22: 7:00PM-7:00AM
A23: HUMPHREY COLISEUM | B23: 106B | C23: STORAGE | D23: 58 | E23: NC | F23: NC | G23: NC | H23: NC
A24: HUMPHREY COLISEUM | B24: 107 | C24: MBK COACHES LOCKER ROOM | D24: 186 | E24: 186 | F24: 2 | G24: DAILY CLEAN | H24: 7:00PM-7:00AM
A25: HUMPHREY COLISEUM | B25: 107A | C25: MBK COACHES TOILET /SHOWER | D25: 83 | E25: 83 | F25: 2 | G25: DAILY CLEAN | H25: 7:00PM-7:00AM
A26: HUMPHREY COLISEUM | B26: 108 | C26: TRAINING EXAM ROOM | D26: 127 | E26: 127 | F26: 2 | G26: DAILY CLEAN | H26: 7:00PM-7:00AM
A27: HUMPHREY COLISEUM | B27: 108A | C27: TRAINING OFFICE | D27: 174 | E27: 174 | F27: 2 | G27: DAILY CLEAN | H27: 7:00PM-7:00AM
A28: HUMPHREY COLISEUM | B28: 109 | C28: TRAINING | D28: 711 | E28: 711 | F28: 2 | G28: DAILY CLEAN | H28: 7:00PM-7:00AM
A29: HUMPHREY COLISEUM | B29: 109A | C29: POOL ROOM | D29: 403 | E29: 403 | F29: 2 | G29: DAILY CLEAN | H29: 7:00PM-7:00AM
A30: HUMPHREY COLISEUM | B30: 109B | C30: STORAGE | D30: 88 | E30: NC | F30: NC | G30: NC | H30: NC
A31: HUMPHREY COLISEUM | B31: 110 | C31: PUBLIC CORRIDOR | D31: 466 | E31: 466 | F31: 2 | G31: DAILY CLEAN | H31: 7:00PM-7:00AM
A32: HUMPHREY COLISEUM | B32: 110A | C32: CUSTODIAL CLOSET | D32: 30 | E32: NC | F32: NC | G32: NC | H32: NC
A33: HUMPHREY COLISEUM | B33: 110B | C33: TOILET | D33: 55 | E33: 55 | F33: 2 | G33: DAILY CLEAN | H33: 7:00PM-7:00AM
A34: HUMPHREY COLISEUM | B34: 110C | C34: TOILET | D34: 64 | E34: 64 | F34: 2 | G34: DAILY CLEAN | H34: 7:00PM-7:00AM
A35: HUMPHREY COLISEUM | B35: 111 | C35: VISITING TEAM LOCKER ROOM | D35: 311 | E35: 311 | F35: 2 | G35: EVENT CLEAN | H35: GAMEDAYS; 7:00PM-7:00AM
A36: HUMPHREY COLISEUM | B36: 111A | C36: VISITING TEAM TOILET/SHOWER | D36: 120 | E36: 120 | F36: 2 | G36: EVENT CLEAN | H36: GAMEDAYS; 7:00PM-7:00AM
A37: HUMPHREY COLISEUM | B37: 112 | C37: VISITING TEAM LOCKER ROOM | D37: 368 | E37: 368 | F37: 2 | G37: EVENT CLEAN | H37: GAMEDAYS; 7:00PM-7:00AM
A38: HUMPHREY COLISEUM | B38: 112A | C38: VISTING TEAM TOILET/SHOWER | D38: 120 | E38: 120 | F38: 2 | G38: EVENT CLEAN | H38: GAMEDAYS; 7:00PM-7:00AM
A39: HUMPHREY COLISEUM | B39: 113 | C39: OFFICIALS LOCKER ROOM | D39: 215 | E39: 215 | F39: 2 | G39: EVENT CLEAN | H39: GAMEDAYS; 7:00PM-7:00AM
A40: HUMPHREY COLISEUM | B40: 114 | C40: OFFICIALS TOILET/SHOWER | D40: 91 | E40: 91 | F40: 2 | G40: EVENT CLEAN | H40: GAMEDAYS; 7:00PM-7:00AM
A41: HUMPHREY COLISEUM | B41: 115 | C41: OFFICIALS DRESSING ROOM | D41: 83 | E41: 83 | F41: 2 | G41: EVENT CLEAN | H41: GAMEDAYS; 7:00PM-7:00AM
A42: HUMPHREY COLISEUM | B42: 115A | C42: OFFICIALS TOILET/SHOWER | D42: 41 | E42: 41 | F42: 2 | G42: EVENT CLEAN | H42: GAMEDAYS; 7:00PM-7:00AM
A43: HUMPHREY COLISEUM | B43: 116 | C43: WBK TEAM LOUNGE | D43: 717 | E43: 717 | F43: 2 | G43: DAILY CLEAN | H43: 7:00PM-7:00AM
A44: HUMPHREY COLISEUM | B44: 116A | C44: WBK TEAM NUTRITION | D44: 545 | E44: 545 | F44: 2 | G44: DAILY CLEAN | H44: 7:00PM-7:00AM
A45: HUMPHREY COLISEUM | B45: 116B | C45: WBK TEAM MEETING ROOM | D45: 457 | E45: 457 | F45: 2 | G45: DAILY CLEAN | H45: 7:00PM-7:00AM
A46: HUMPHREY COLISEUM | B46: 116C | C46: WBK EQUIPMENT ROOM | D46: 62 | E46: NC | F46: NC | G46: NC | H46: NC
A47: HUMPHREY COLISEUM | B47: 116D | C47: WBK EQUIPMENT ROOM | D47: 135 | E47: NC | F47: NC | G47: NC | H47: NC
A48: HUMPHREY COLISEUM | B48: 116E | C48: WBK LOCKER ROOM | D48: 659 | E48: 659 | F48: 2 | G48: DAILY CLEAN | H48: 7:00PM-7:00AM
A49: HUMPHREY COLISEUM | B49: 116F | C49: WBK EQUIPMENT ROOM | D49: 159 | E49: NC | F49: NC | G49: NC | H49: NC
A50: HUMPHREY COLISEUM | B50: 116G | C50: WBK TOILET/SHOWER | D50: 152 | E50: 152 | F50: 2 | G50: DAILY CLEAN | H50: 7:00PM-7:00AM
A51: HUMPHREY COLISEUM | B51: 116H | C51: CUSTODIAL CLOSET | D51: 13 | E51: NC | F51: NC | G51: NC | H51: NC
A52: HUMPHREY COLISEUM | B52: 116J | C52: WBK TOILET/SHOWER | D52: 233 | E52: 233 | F52: 2 | G52: DAILY CLEAN | H52: 7:00PM-7:00AM
A53: HUMPHREY COLISEUM | B53: 117 | C53: CLUB PANTRY | D53: 137 | E53: NC | F53: NC | G53: NC | H53: NC
A54: HUMPHREY COLISEUM | B54: 118 | C54: CLUB BAR | D54: 202 | E54: 202 | F54: 1 | G54: EVENT CLEAN | H54: GAMEDAYS; 7:00PM-7:00AM
A55: HUMPHREY COLISEUM | B55: 119 | C55: CLUB | D55: 794 | E55: 794 | F55: 1 | G55: EVENT CLEAN | H55: GAMEDAYS; 7:00PM-7:00AM
A56: HUMPHREY COLISEUM | B56: 119A | C56: CLUB CLOSET | D56: 10 | E56: NC | F56: NC | G56: NC | H56: NC
A57: HUMPHREY COLISEUM | B57: 120 | C57: MBK HALLWAY | D57: 45 | E57: 45 | F57: 2 | G57: DAILY CLEAN | H57: 7:00PM-7:00AM
A58: HUMPHREY COLISEUM | B58: 120A | C58: MBK EQUIPMENT STORAGE | D58: 250 | E58: NC | F58: NC | G58: NC | H58: NC
A59: HUMPHREY COLISEUM | B59: 120B | C59: MBK EQUIPMENT STORAGE | D59: 145 | E59: NC | F59: NC | G59: NC | H59: NC
A60: HUMPHREY COLISEUM | B60: 121 | C60: MBK HALLWAY | D60: 103 | E60: 103 | F60: 2 | G60: DAILY CLEAN | H60: 7:00PM-7:00AM
A61: HUMPHREY COLISEUM | B61: 122 | C61: MBK LOCKER ROOM | D61: 697 | E61: 697 | F61: 2 | G61: DAILY CLEAN | H61: 7:00PM-7:00AM
A62: HUMPHREY COLISEUM | B62: 123 | C62: MBK TEAM LOUNGE | D62: 991 | E62: 991 | F62: 2 | G62: DAILY CLEAN | H62: 7:00PM-7:00AM
A63: HUMPHREY COLISEUM | B63: 123A | C63: MBK TEAM NUTRITION | D63: 200 | E63: 200 | F63: 2 | G63: DAILY CLEAN | H63: 7:00PM-7:00AM
A64: HUMPHREY COLISEUM | B64: 125 | C64: TOILET | D64: 84 | E64: 84 | F64: 2 | G64: DAILY CLEAN | H64: 7:00PM-7:00AM
A65: HUMPHREY COLISEUM | B65: 126 | C65: TOILET | D65: 84 | E65: 84 | F65: 2 | G65: DAILY CLEAN | H65: 7:00PM-7:00AM
A66: HUMPHREY COLISEUM | B66: 130 | C66: STORAGE | D66: 1464 | E66: NC | F66: NC | G66: NC | H66: NC
A67: HUMPHREY COLISEUM | B67: 131 | C67: STORAGE | D67: 1855 | E67: NC | F67: NC | G67: NC | H67: NC
A68: HUMPHREY COLISEUM | B68: 132 | C68: COMMUNICATIONS | D68: 467 | E68: NC | F68: NC | G68: NC | H68: NC
A69: HUMPHREY COLISEUM | B69: 133 | C69: TV PRODUCTION | D69: 216 | E69: NC | F69: NC | G69: NC | H69: NC
A70: HUMPHREY COLISEUM | B70: 134 | C70: STORAGE | D70: 144 | E70: NC | F70: NC | G70: NC | H70: NC
A71: HUMPHREY COLISEUM | B71: 135 | C71: STORAGE | D71: 397 | E71: NC | F71: NC | G71: NC | H71: NC
A72: HUMPHREY COLISEUM | B72: 143 | C72: CORRIDOR | D72: 384 | E72: 384 | F72: 2 | G72: DAILY CLEAN | H72: 7:00PM-7:00AM
A73: HUMPHREY COLISEUM | B73: 144 | C73: STAIRWAY | D73: 83 | E73: 83 | F73: 2 | G73: DAILY CLEAN | H73: 7:00PM-7:00AM
A74: HUMPHREY COLISEUM | B74: 145 | C74: STAIRWAY | D74: 141 | E74: 141 | F74: 2 | G74: DAILY CLEAN | H74: 7:00PM-7:00AM
A75: HUMPHREY COLISEUM | B75: 146 | C75: CORRIDOR | D75: 531 | E75: 531 | F75: 2 | G75: DAILY CLEAN | H75: 7:00PM-7:00AM
A76: HUMPHREY COLISEUM | B76: 147 | C76: LOBBY | D76: 250 | E76: 250 | F76: 2 | G76: DAILY CLEAN | H76: 7:00PM-7:00AM
A77: HUMPHREY COLISEUM | B77: 148 | C77: CORRIDOR | D77: 425 | E77: 425 | F77: 2 | G77: DAILY CLEAN | H77: 7:00PM-7:00AM
A78: HUMPHREY COLISEUM | B78: 149 | C78: CORRIDOR | D78: 77 | E78: 77 | F78: 2 | G78: DAILY CLEAN | H78: 7:00PM-7:00AM
A79: HUMPHREY COLISEUM | B79: 150 | C79: ELEVATOR | D79: 36 | E79: 36 | F79: 2 | G79: DAILY CLEAN | H79: 7:00PM-7:00AM
A80: HUMPHREY COLISEUM | B80: 151 | C80: LOADING/UNLOADING | D80: 1253 | E80: NC | F80: NC | G80: NC | H80: NC
A81: HUMPHREY COLISEUM | B81: 152 | C81: CORRIDOR | D81: 395 | E81: 395 | F81: 2 | G81: DAILY CLEAN | H81: 7:00PM-7:00AM
A82: HUMPHREY COLISEUM | B82: 200 | C82: PRESS ROOM | D82: 579 | E82: 579 | F82: 2 | G82: DAILY CLEAN | H82: 7:00PM-7:00AM
A83: HUMPHREY COLISEUM | B83: 200A | C83: STORAGE | D83: 200 | E83: NC | F83: NC | G83: NC | H83: NC
A84: HUMPHREY COLISEUM | B84: 200B | C84: COPIER | D84: 83 | E84: 83 | F84: 2 | G84: DAILY CLEAN | H84: 7:00PM-7:00AM
A85: HUMPHREY COLISEUM | B85: 200C | C85: STORAGE | D85: 310 | E85: NC | F85: NC | G85: NC | H85: NC
A86: HUMPHREY COLISEUM | B86: 201 | C86: OFFICE | D86: 85 | E86: 85 | F86: 2 | G86: DAILY CLEAN | H86: 7:00PM-7:00AM
A87: HUMPHREY COLISEUM | B87: 202 | C87: OFFICE | D87: 239 | E87: 239 | F87: 2 | G87: DAILY CLEAN | H87: 7:00PM-7:00AM
A88: HUMPHREY COLISEUM | B88: 202A | C88: STORAGE | D88: 150 | E88: NC | F88: NC | G88: NC | H88: NC
A89: HUMPHREY COLISEUM | B89: 203 | C89: OFFICE | D89: 147 | E89: 147 | F89: 2 | G89: DAILY CLEAN | H89: 7:00PM-7:00AM
A90: HUMPHREY COLISEUM | B90: 204 | C90: OFFICE | D90: 127 | E90: 127 | F90: 2 | G90: DAILY CLEAN | H90: 7:00PM-7:00AM
A91: HUMPHREY COLISEUM | B91: 205 | C91: OFFICE | D91: 159 | E91: 159 | F91: 2 | G91: DAILY CLEAN | H91: 7:00PM-7:00AM
A92: HUMPHREY COLISEUM | B92: 206 | C92: OFFICE | D92: 159 | E92: 159 | F92: 2 | G92: DAILY CLEAN | H92: 7:00PM-7:00AM
A93: HUMPHREY COLISEUM | B93: 207 | C93: LOBBY | D93: 226 | E93: 226 | F93: 2 | G93: DAILY CLEAN | H93: 7:00PM-7:00AM
A94: HUMPHREY COLISEUM | B94: 207A | C94: OFFICE | D94: 208 | E94: 208 | F94: 2 | G94: DAILY CLEAN | H94: 7:00PM-7:00AM
A95: HUMPHREY COLISEUM | B95: 207B | C95: OFFICE | D95: 441 | E95: 441 | F95: 2 | G95: DAILY CLEAN | H95: 7:00PM-7:00AM
A96: HUMPHREY COLISEUM | B96: 207C | C96: TOILET/SHOWER | D96: 93 | E96: 93 | F96: 2 | G96: DAILY CLEAN | H96: 7:00PM-7:00AM
A97: HUMPHREY COLISEUM | B97: 208 | C97: OFFICE | D97: 238 | E97: 238 | F97: 2 | G97: DAILY CLEAN | H97: 7:00PM-7:00AM
A98: HUMPHREY COLISEUM | B98: 208A | C98: TOILET/SHOWER | D98: 58 | E98: 58 | F98: 2 | G98: DAILY CLEAN | H98: 7:00PM-7:00AM
A99: HUMPHREY COLISEUM | B99: 209 | C99: TOILET | D99: 30 | E99: 30 | F99: 2 | G99: DAILY CLEAN | H99: 7:00PM-7:00AM
A100: HUMPHREY COLISEUM | B100: 210 | C100: OFFICE | D100: 105 | E100: 105 | F100: 2 | G100: DAILY CLEAN | H100: 7:00PM-7:00AM
...

Sheet Mize Pavilion
A1: MIZE PAVILION
A2: BUILDING | B2: ROOM NO | C2: SPACE DESCRIPTION | D2: NET SQ FT | E2: CLEANABLE SQ FT | F2: APPA LEVEL | G2: FREQUENCY | H2: CLEANING WINDOW
A3: MIZE PAVILION | B3: 1 | C3: PARKING GARAGE | D3: 28307 | E3: NC | F3: NC | G3: NC | H3: NC
B4: 2 | C4: STORAGE | D4: 158 | E4: NC | F4: NC | G4: NC | H4: NC
A5: MIZE PAVILION | B5: 3 | C5: LOBBY | D5: 173 | E5: 173 | F5: 2 | G5: DAILY CLEAN | H5: 7:00PM-7:00AM
A6: MIZE PAVILION | B6: 4 | C6: ELEVATOR | D6: 83 | E6: 83 | F6: 2 | G6: DAILY CLEAN | H6: 7:00PM-7:00AM
A7: MIZE PAVILION | B7: 5 | C7: MECHANICAL | D7: 157 | E7: NC | F7: NC | G7: NC | H7: NC
A8: MIZE PAVILION | B8: 6 | C8: STAIRWAY | D8: 152 | E8: 152 | F8: 2 | G8: DAILY CLEAN | H8: 7:00PM-7:00AM
A9: MIZE PAVILION | B9: 102 | C9: WEIGHT ROOM | D9: 3919 | E9: 3919 | F9: 2 | G9: DAILY CLEAN | H9: 7:00PM-7:00AM
A10: MIZE PAVILION | B10: 103 | C10: MBK PLAYING SURFACE | D10: 11686 | E10: NC | F10: NC | G10: NC | H10: NC
A11: MIZE PAVILION | B11: 104 | C11: WBK PLAYING SURFACE | D11: 11686 | E11: NC | F11: NC | G11: NC | H11: NC
A12: MIZE PAVILION | B12: 104A | C12: STORAGE | D12: 24 | E12: NC | F12: NC | G12: NC | H12: NC
A13: MIZE PAVILION | B13: 106 | C13: LOBBY | D13: 82 | E13: 82 | F13: 2 | G13: DAILY CLEAN | H13: 7:00PM-7:00AM
A14: MIZE PAVILION | B14: 107 | C14: MECHANICAL | D14: 1737 | E14: NC | F14: NC | G14: NC | H14: NC
A15: MIZE PAVILION | B15: 108 | C15: STORAGE | D15: 1064 | E15: NC | F15: NC | G15: NC | H15: NC
A16: MIZE PAVILION | B16: 109 | C16: UTILITY | D16: 109 | E16: NC | F16: NC | G16: NC | H16: NC
A17: MIZE PAVILION | B17: 110 | C17: UTILITY | D17: 104 | E17: NC | F17: NC | G17: NC | H17: NC
A18: MIZE PAVILION | B18: 111 | C18: WBK LOCKER/SHOWER | D18: 103 | E18: 103 | F18: 2 | G18: DAILY CLEAN | H18: 7:00PM-7:00AM
A19: MIZE PAVILION | B19: 112 | C19: WBK TOILET | D19: 154 | E19: 154 | F19: 2 | G19: DAILY CLEAN | H19: 7:00PM-7:00AM
A20: MIZE PAVILION | B20: 113 | C20: WBK TOILET | D20: 59 | E20: 59 | F20: 2 | G20: DAILY CLEAN | H20: 7:00PM-7:00AM
A21: MIZE PAVILION | B21: 114 | C21: CUSTODIAL CLOSET | D21: 20 | E21: NC | F21: NC | G21: NC | H21: NC
A22: MIZE PAVILION | B22: 115 | C22: STORAGE | D22: 105 | E22: NC | F22: NC | G22: NC | H22: NC
A23: MIZE PAVILION | B23: 116 | C23: TOILET | D23: 238 | E23: 238 | F23: 2 | G23: DAILY CLEAN | H23: 7:00PM-7:00AM
A24: MIZE PAVILION | B24: 117 | C24: TOILET | D24: 203 | E24: 203 | F24: 2 | G24: DAILY CLEAN | H24: 7:00PM-7:00AM
A25: MIZE PAVILION | B25: 118 | C25: ELECTRICAL | D25: 157 | E25: NC | F25: NC | G25: NC | H25: NC
A26: MIZE PAVILION | B26: 119 | C26: TRAINING | D26: 140 | E26: 140 | F26: 2 | G26: DAILY CLEAN | H26: 7:00PM-7:00AM
A27: MIZE PAVILION | B27: 120 | C27: TRAINING | D27: 232 | E27: 232 | F27: 2 | G27: DAILY CLEAN | H27: 7:00PM-7:00AM
A28: MIZE PAVILION | B28: 121 | C28: CORRIDOR | D28: 322 | E28: 322 | F28: 2 | G28: DAILY CLEAN | H28: 7:00PM-7:00AM
A29: MIZE PAVILION | B29: 121A | C29: LOBBY | D29: 1930 | E29: 1930 | F29: 2 | G29: DAILY CLEAN | H29: 7:00PM-7:00AM
A30: MIZE PAVILION | B30: 121B | C30: OFFICE | D30: 378 | E30: 378 | F30: 2 | G30: DAILY CLEAN | H30: 7:00PM-7:00AM
A31: MIZE PAVILION | B31: 121C | C31: OFFICE | D31: 401 | E31: 401 | F31: 2 | G31: DAILY CLEAN | H31: 7:00PM-7:00AM
A32: MIZE PAVILION | B32: 121D | C32: LOBBY | D32: 4359 | E32: 4359 | F32: 2 | G32: DAILY CLEAN | H32: 7:00PM-7:00AM
A33: MIZE PAVILION | B33: 122 | C33: CORRIDOR | D33: 322 | E33: 322 | F33: 2 | G33: DAILY CLEAN | H33: 7:00PM-7:00AM
A34: MIZE PAVILION | B34: 123 | C34: CORRIDOR | D34: 74 | E34: 74 | F34: 2 | G34: DAILY CLEAN | H34: 7:00PM-7:00AM
A35: MIZE PAVILION | B35: 124 | C35: MBK TOILET | D35: 56 | E35: 56 | F35: 2 | G35: DAILY CLEAN | H35: 7:00PM-7:00AM
A36: MIZE PAVILION | B36: 125 | C36: MBK TOILET | D36: 94 | E36: 94 | F36: 2 | G36: DAILY CLEAN | H36: 7:00PM-7:00AM
A37: MIZE PAVILION | B37: 126 | C37: MBK LOCKER/SHOWER | D37: 108 | E37: 108 | F37: 2 | G37: DAILY CLEAN | H37: 7:00PM-7:00AM
A38: MIZE PAVILION | B38: 127 | C38: OFFICE | D38: 176 | E38: 176 | F38: 2 | G38: DAILY CLEAN | H38: 7:00PM-7:00AM
A39: MIZE PAVILION | B39: 128 | C39: OFFICE | D39: 127 | E39: 127 | F39: 2 | G39: DAILY CLEAN | H39: 7:00PM-7:00AM
A40: MIZE PAVILION | B40: 130 | C40: ELEVATOR | D40: 83 | E40: 83 | F40: 2 | G40: DAILY CLEAN | H40: 7:00PM-7:00AM
A41: MIZE PAVILION | B41: 131 | C41: STAIRWAY | D41: 87 | E41: 87 | F41: 2 | G41: DAILY CLEAN | H41: 7:00PM-7:00AM
A42: MIZE PAVILION | B42: 132 | C42: CORRIDOR | D42: 69 | E42: 69 | F42: 2 | G42: DAILY CLEAN | H42: 7:00PM-7:00AM
A43: MIZE PAVILION | B43: 201 | C43: LOBBY | D43: 3469 | E43: 3469 | F43: 2 | G43: DAILY CLEAN | H43: 7:00PM-7:00AM
A44: MIZE PAVILION | B44: 202 | C44: LOUNGE | D44: 1156 | E44: 1156 | F44: 2 | G44: DAILY CLEAN | H44: 7:00PM-7:00AM
... A47: MIZE PAVILION | B47: 205 | C47: WBK OFFICE | D47: 471 | E47: 471 | F47: 2 | G47: DAILY CLEAN | H47: 7:00PM-7:00AM
A48: MIZE PAVILION | B48: 205A | C48: WBK BALCONY | D48: 552 | E48: 552 | F48: 2 | G48: DAILY CLEAN | H48: 7:00PM-7:00AM
A49: MIZE PAVILION | B49: 206 | C49: WBK COACHES LOCKER | D49: 93 | E49: 93 | F49: 2 | G49: DAILY CLEAN | H49: 7:00PM-7:00AM
A50: MIZE PAVILION | B50: 207 | C50: WBK COACHES TOILET/SHOWER | D50: 97 | E50: 97 | F50: 2 | G50: DAILY CLEAN | H50: 7:00PM-7:00AM
A51: MIZE PAVILION | B51: 208 | C51: WBK BREAK ROOM | D51: 131 | E51: 131 | F51: 2 | G51: DAILY CLEAN | H51: 7:00PM-7:00AM
A52: MIZE PAVILION | B52: 209 | C52: WBK COPIER ROOM | D52: 128 | E52: 128 | F52: 2 | G52: DAILY CLEAN | H52: 7:00PM-7:00AM
A53: MIZE PAVILION | B53: 210 | C53: CUSTODIAL CLOSET | D53: 27 | E53: NC | F53: NC | G53: NC | H53: NC
A54: MIZE PAVILION | B54: 211 | C54: WBK LOBBY | D54: 551 | E54: 551 | F54: 2 | G54: DAILY CLEAN | H54: 7:00PM-7:00AM
A55: MIZE PAVILION | B55: 212 | C55: TOILET | D55: 49 | E55: 49 | F55: 2 | G55: DAILY CLEAN | H55: 7:00PM-7:00AM
A56: MIZE PAVILION | B56: 213 | C56: WBK OFFICE | D56: 181 | E56: 181 | F56: 2 | G56: DAILY CLEAN | H56: 7:00PM-7:00AM
A57: MIZE PAVILION | B57: 214 | C57: WBK OFFICE | D57: 181 | E57: 181 | F57: 2 | G57: DAILY CLEAN | H57: 7:00PM-7:00AM
A58: MIZE PAVILION | B58: 215 | C58: WBK OFFICE | D58: 181 | E58: 181 | F58: 2 | G58: DAILY CLEAN | H58: 7:00PM-7:00AM
A59: MIZE PAVILION | B59: 216 | C59: WBK OFFICE | D59: 181 | E59: 181 | F59: 2 | G59: DAILY CLEAN | H59: 7:00PM-7:00AM
A60: MIZE PAVILION | B60: 217 | C60: WBK CONFERENCE ROOM | D60: 308 | E60: 308 | F60: 2 | G60: DAILY CLEAN | H60: 7:00PM-7:00AM
A61: MIZE PAVILION | B61: 218 | C61: MBK CONFERENCE ROOM | D61: 308 | E61: 308 | F61: 2 | G61: DAILY CLEAN | H61: 7:00PM-7:00AM
A62: MIZE PAVILION | B62: 219 | C62: MBK OFFICE | D62: 181 | E62: 181 | F62: 2 | G62: DAILY CLEAN | H62: 7:00PM-7:00AM
A63: MIZE PAVILION | B63: 220 | C63: MBK OFFICE | D63: 181 | E63: 181 | F63: 2 | G63: DAILY CLEAN | H63: 7:00PM-7:00AM
A64: MIZE PAVILION | B64: 221 | C64: MBK OFFICE | D64: 181 | E64: 181 | F64: 2 | G64: DAILY CLEAN | H64: 7:00PM-7:00AM
A65: MIZE PAVILION | B65: 222 | C65: MBK OFFICE | D65: 181 | E65: 181 | F65: 2 | G65: DAILY CLEAN | H65: 7:00PM-7:00AM
A66: MIZE PAVILION | B66: 223 | C66: MBK OFFICE | D66: 471 | E66: 471 | F66: 2 | G66: DAILY CLEAN | H66: 7:00PM-7:00AM
A67: MIZE PAVILION | B67: 223A | C67: MBK BALCONY | D67: 661 | E67: 661 | F67: 2 | G67: DAILY CLEAN | H67: 7:00PM-7:00AM
A68: MIZE PAVILION | B68: 224 | C68: MBK COACHES LOCKER | D68: 93 | E68: 93 | F68: 2 | G68: DAILY CLEAN | H68: 7:00PM-7:00AM
A69: MIZE PAVILION | B69: 225 | C69: MBK COACHES TOILET/SHOWER | D69: 97 | E69: 97 | F69: 2 | G69: DAILY CLEAN | H69: 7:00PM-7:00AM
A70: MIZE PAVILION | B70: 226 | C70: MBK OFFICE | D70: 115 | E70: 115 | F70: 2 | G70: DAILY CLEAN | H70: 7:00PM-7:00AM
A71: MIZE PAVILION | B71: 227 | C71: CUSTODIAL CLOSET | D71: 31 | E71: NC | F71: NC | G71: NC | H71: NC
A72: MIZE PAVILION | B72: 228 | C72: MBK OFFICE | D72: 71 | E72: 71 | F72: 2 | G72: DAILY CLEAN | H72: 7:00PM-7:00AM
A73: MIZE PAVILION | B73: 228A | C73: MBK CLOSET | D73: 57 | E73: NC | F73: NC | G73: NC | H73: NC
A74: MIZE PAVILION | B74: 229 | C74: MBK LOBBY | D74: 567 | E74: 567 | F74: 2 | G74: DAILY CLEAN | H74: 7:00PM-7:00AM
A75: MIZE PAVILION | B75: 230 | C75: TEAM NUTRITION | D75: 179 | E75: 179 | F75: 2 | G75: DAILY CLEAN | H75: 7:00PM-7:00AM
A76: MIZE PAVILION | B76: 231 | C76: TOILET | D76: 49 | E76: 49 | F76: 2 | G76: DAILY CLEAN | H76: 7:00PM-7:00AM
A77: MIZE PAVILION | B77: 232 | C77: OFFICE | D77: 179 | E77: 179 | F77: 2 | G77: DAILY CLEAN | H77: 7:00PM-7:00AM
A78: MIZE PAVILION | B78: 233 | C78: OFFICE | D78: 145 | E78: 145 | F78: 2 | G78: DAILY CLEAN | H78: 7:00PM-7:00AM
A79: MIZE PAVILION | B79: 234 | C79: OFFICE | D79: 231 | E79: 231 | F79: 2 | G79: DAILY CLEAN | H79: 7:00PM-7:00AM
A80: MIZE PAVILION | B80: 235 | C80: OFFICE | D80: 344 | E80: 344 | F80: 2 | G80: DAILY CLEAN | H80: 7:00PM-7:00AM
A81: MIZE PAVILION | B81: 240 | C81: ELEVATOR | D81: 83 | E81: 83 | F81: 2 | G81: DAILY CLEAN | H81: 7:00PM-7:00AM
A82: MIZE PAVILION | B82: 241 | C82: LOBBY | D82: 165 | E82: 165 | F82: 2 | G82: DAILY CLEAN | H82: 7:00PM-7:00AM
D83: =SUM(D3:D82) | E83: =SUM(E3:E82)

Sheet Nusz Park
A1: NUSZ PARK SOFTBALL STADIUM
A2: BUILDING | B2: ROOM NO | C2: SPACE DESCRIPTION | D2: NET SQ FT | E2: CLEANABLE SQ FT | F2: APPA LEVEL | G2: FREQUENCY | H2: CLEANING WINDOW
A3: NUSZ PARK SOFTBALL STADIUM | B3: 100 | C3: TICKET OFFICE | D3: 102 | E3: 102 | F3: 2 | G3: EVENT CLEAN | H3: GAMEDAYS; 7:00PM-7:00AM
A4: NUSZ PARK SOFTBALL STADIUM | B4: 101 | C4: TOILET | D4: 597 | E4: 597 | F4: 2 | G4: EVENT CLEAN | H4: GAMEDAYS; 7:00PM-7:00AM
A5: NUSZ PARK SOFTBALL STADIUM | B5: 102 | C5: UTILITY | D5: 61 | E5: NC | F5: NC | G5: NC | H5: NC
A6: NUSZ PARK SOFTBALL STADIUM | B6: 103 | C6: DUGOUT TOILET | D6: 62 | E6: 62 | F6: 2 | G6: DAILY CLEAN | H6: 7:00PM-7:00AM
A7: NUSZ PARK SOFTBALL STADIUM | B7: 105 | C7: TOILET | D7: 360 | E7: 360 | F7: 2 | G7: EVENT CLEAN | H7: GAMEDAYS; 7:00PM-7:00AM
A8: NUSZ PARK SOFTBALL STADIUM | B8: 106 | C8: CONCESSIONS | D8: 211 | E8: NC | F8: NC | G8: NC | H8: NC
A9: NUSZ PARK SOFTBALL STADIUM | B9: 107 | C9: CONCESSIONS | D9: 348 | E9: NC | F9: NC | G9: NC | H9: NC
A10: NUSZ PARK SOFTBALL STADIUM | B10: 108 | C10: ELECTRICAL | D10: 98 | E10: NC | F10: NC | G10: NC | H10: NC
A11: NUSZ PARK SOFTBALL STADIUM | B11: 109 | C11: ELECTRICAL | D11: 72 | E11: NC | F11: NC | G11: NC | H11: NC
A12: NUSZ PARK SOFTBALL STADIUM | B12: 110 | C12: COMMUNICATIONS | D12: 72 | E12: NC | F12: NC | G12: NC | H12: NC
A13: NUSZ PARK SOFTBALL STADIUM | B13: 111 | C13: STORAGE | D13: 98 | E13: NC | F13: NC | G13: NC | H13: NC
A14: NUSZ PARK SOFTBALL STADIUM | B14: 112 | C14: CUSTODIAL CLOSET | D14: 64 | E14: NC | F14: NC | G14: NC | H14: NC
A15: NUSZ PARK SOFTBALL STADIUM | B15: 114 | C15: VISITING COACHES LOCKER ROOM | D15: 431 | E15: 431 | F15: 2 | G15: EVENT CLEAN | H15: GAMEDAYS; 7:00PM-7:00AM
A16: NUSZ PARK SOFTBALL STADIUM | B16: 116 | C16: TOILET | D16: 57 | E16: 57 | F16: 2 | G16: EVENT CLEAN | H16: GAMEDAYS; 7:00PM-7:00AM
A17: NUSZ PARK SOFTBALL STADIUM | B17: 117 | C17: POOL ROOM | D17: 242 | E17: 242 | F17: 2 | G17: DAILY CLEAN | H17: 7:00PM-7:00AM
A18: NUSZ PARK SOFTBALL STADIUM | B18: 118 | C18: OFFICIALS TOILET | D18: 208 | E18: 208 | F18: 2 | G18: EVENT CLEAN | H18: GAMEDAYS; 7:00PM-7:00AM
A19: NUSZ PARK SOFTBALL STADIUM | B19: 119 | C19: OFFICIALS LOCKER ROOM | D19: 497 | E19: 497 | F19: 2 | G19: EVENT CLEAN | H19: GAMEDAYS; 7:00PM-7:00AM
A20: NUSZ PARK SOFTBALL STADIUM | B20: 122 | C20: DUGOUT TOILET | D20: 67 | E20: 67 | F20: 2 | G20: DAILY CLEAN | H20: 7:00PM-7:00AM
A21: NUSZ PARK SOFTBALL STADIUM | B21: 123 | C21: UTILITY | D21: 153 | E21: NC | F21: NC | G21: NC | H21: NC
A22: NUSZ PARK SOFTBALL STADIUM | B22: 124 | C22: CORRIDOR | D22: 213 | E22: 213 | F22: 2 | G22: EVENT CLEAN | H22: GAMEDAYS; 7:00PM-7:00AM
A23: NUSZ PARK SOFTBALL STADIUM | B23: 125 | C23: ELEVATOR | D23: 40 | E23: 40 | F23: 2 | G23: EVENT CLEAN | H23: GAMEDAYS; 7:00PM-7:00AM
A24: NUSZ PARK SOFTBALL STADIUM | B24: 200 | C24: CORRIDOR | D24: 116 | E24: 116 | F24: 2 | G24: EVENT CLEAN | H24: GAMEDAYS; 7:00PM-7:00AM
A25: NUSZ PARK SOFTBALL STADIUM | B25: 201 | C25: TOILET | D25: 47 | E25: 47 | F25: 2 | G25: EVENT CLEAN | H25: GAMEDAYS; 7:00PM-7:00AM
A26: NUSZ PARK SOFTBALL STADIUM | B26: 203 | C26: STORAGE | D26: 35 | E26: NC | F26: NC | G26: NC | H26: NC
A27: NUSZ PARK SOFTBALL STADIUM | B27: 204 | C27: PRESSBOX | D27: 119 | E27: 119 | F27: 2 | G27: EVENT CLEAN | H27: GAMEDAYS; 7:00PM-7:00AM
A28: NUSZ PARK SOFTBALL STADIUM | B28: 205 | C28: PRESSBOX | D28: 110 | E28: 110 | F28: 2 | G28: EVENT CLEAN | H28: GAMEDAYS; 7:00PM-7:00AM
A29: NUSZ PARK SOFTBALL STADIUM | B29: 206 | C29: PRESSBOX | D29: 210 | E29: 210 | F29: 2 | G29: EVENT CLEAN | H29: GAMEDAYS; 7:00PM-7:00AM
A30: NUSZ PARK SOFTBALL STADIUM | B30: 207 | C30: PRESSBOX | D30: 95 | E30: 95 | F30: 2 | G30: EVENT CLEAN | H30: GAMEDAYS; 7:00PM-7:00AM
A31: NUSZ PARK SOFTBALL STADIUM | B31: 208 | C31: PRESSBOX | D31: 274 | E31: 274 | F31: 2 | G31: EVENT CLEAN | H31: GAMEDAYS; 7:00PM-7:00AM
D32: =SUM(D3:D31) | E32: =SUM(E3:E31)

Sheet Softball Indoor Clubhouse
A1: SOFTBALL INDOOR CLUBHOUSE
A2: BUILDING | B2: ROOM NO | C2: SPACE DESCRIPTION | D2: NET SQ FT | E2: CLEANABLE SQ FT | F2: APPA LEVEL | G2: FREQUENCY | H2: CLEANING WINDOW
A3: SOFTBALL FIELD HOUSE | B3: 101 | C3: LOBBY | D3: 428 | E3: 428 | F3: 2 | G3: DAILY CLEAN | H3: 7:00PM-7:00AM
A4: SOFTBALL FIELD HOUSE | B4: 102 | C4: TEAM LOUNGE | D4: 960 | E4: 960 | F4: 2 | G4: DAILY CLEAN | H4: 7:00PM-7:00AM
A5: SOFTBALL FIELD HOUSE | B5: 103 | C5: TEAM NUTRITION | D5: 173 | E5: 173 | F5: 2 | G5: DAILY CLEAN | H5: 7:00PM-7:00AM
A6: SOFTBALL FIELD HOUSE | B6: 104 | C6: CORRIDOR | D6: 241 | E6: 241 | F6: 2 | G6: DAILY CLEAN | H6: 7:00PM-7:00AM
A7: SOFTBALL FIELD HOUSE | B7: 105 | C7: MUD ROOM | D7: 143 | E7: 143 | F7: 2 | G7: DAILY CLEAN | H7: 7:00PM-7:00AM
A8: SOFTBALL FIELD HOUSE | B8: 106 | C8: TEAM LOCKER ROOM | D8: 992 | E8: 992 | F8: 2 | G8: DAILY CLEAN | H8: 7:00PM-7:00AM
A9: SOFTBALL FIELD HOUSE | B9: 107 | C9: MECHANICAL | D9: 83 | E9: NC | F9: NC | G9: NC | H9: NC
A10: SOFTBALL FIELD HOUSE | B10: 108 | C10: ELECRICAL | D10: 42 | E10: NC | F10: NC | G10: NC | H10: NC
A11: SOFTBALL FIELD HOUSE | B11: 109 | C11: TEAM TOILET | D11: 230 | E11: 230 | F11: 2 | G11: DAILY CLEAN | H11: 7:00PM-7:00AM
A12: SOFTBALL FIELD HOUSE | B12: 110 | C12: CUSTODIAL CLOSET | D12: 15 | E12: NC | F12: NC | G12: NC | H12: NC
A13: SOFTBALL FIELD HOUSE | B13: 111 | C13: TEAM SHOWER | D13: 203 | E13: 203 | F13: 2 | G13: DAILY CLEAN | H13: 7:00PM-7:00AM
A14: SOFTBALL FIELD HOUSE | B14: 112 | C14: EQUIPMENT ROOM | D14: 688 | E14: NC | F14: NC | G14: NC | H14: NC
A15: SOFTBALL FIELD HOUSE | B15: 113 | C15: TEAM MEETING ROOM | D15: 526 | E15: 526 | F15: 2 | G15: DAILY CLEAN | H15: 7:00PM-7:00AM
A16: SOFTBALL FIELD HOUSE | B16: 114 | C16: COMMUNICATIONS | D16: 51 | E16: NC | F16: NC | G16: NC | H16: NC
A17: SOFTBALL FIELD HOUSE | B17: 115 | C17: TOILET | D17: 56 | E17: 56 | F17: 2 | G17: DAILY CLEAN | H17: 7:00PM-7:00AM
A18: SOFTBALL FIELD HOUSE | B18: 116 | C18: TRAINING | D18: 648 | E18: 648 | F18: 2 | G18: DAILY CLEAN | H18: 7:00PM-7:00AM
A19: SOFTBALL FIELD HOUSE | B19: 117 | C19: CORRIDOR | D19: 190 | E19: 190 | F19: 2 | G19: DAILY CLEAN | H19: 7:00PM-7:00AM
A20: SOFTBALL FIELD HOUSE | B20: 118 | C20: INDOOR HITTING ROOM | D20: 5933 | E20: 5933 | F20: 2 | G20: DAILY CLEAN | H20: 7:00PM-7:00AM
D21: =SUM(D3:D20) | E21: =SUM(E3:E20)

Sheet Rula Tennis Center
A1: RULA INDOOR TENNIS
A2: BUILDING | B2: ROOM NO | C2: SPACE DESCRIPTION | D2: NET SQ FT | E2: CLEANABLE SQ FT | F2: APPA LEVEL | G2: FREQUENCY | H2: CLEANING WINDOW
A3: INDOOR TENNIS FACILITY | B3: 1000 | C3: LOBBY | D3: 538 | E3: 538 | F3: 2 | G3: DAILY CLEAN | H3: 7:00PM-7:00AM
A4: INDOOR TENNIS FACILITY | B4: 1001 | C4: CLOSET | D4: 48 | E4: NC | F4: NC | G4: NC | H4: NC
A5: INDOOR TENNIS FACILITY | B5: 1002 | C5: ELECTRICAL | D5: 25 | E5: NC | F5: NC | G5: NC | H5: NC
A6: INDOOR TENNIS FACILITY | B6: 1004 | C6: TOILET | D6: 183 | E6: 183 | F6: 2 | G6: DAILY CLEAN | H6: 7:00PM-7:00AM
A7: INDOOR TENNIS FACILITY | B7: 1005 | C7: TOILET | D7: 270 | E7: 270 | F7: 2 | G7: DAILY CLEAN | H7: 7:00PM-7:00AM
A8: INDOOR TENNIS FACILITY | B8: 1006 | C8: MECHANICAL | D8: 62 | E8: NC | F8: NC | G8: NC | H8: NC
A9: INDOOR TENNIS FACILITY | B9: 1008 | C9: CUSTODIAL CLOSET | D9: 48 | E9: NC | F9: NC | G9: NC | H9: NC
A10: INDOOR TENNIS FACILITY | B10: 1010 | C10: CORRIDOR | D10: 81 | E10: 81 | F10: 2 | G10: EVENT CLEAN | H10: GAMEDAYS; 7:00PM-7:00AM
A11: INDOOR TENNIS FACILITY | B11: 1013 | C11: STAIRWAY | D11: 151 | E11: 151 | F11: 2 | G11: EVENT CLEAN | H11: GAMEDAYS; 7:00PM-7:00AM
A12: INDOOR TENNIS FACILITY | B12: 1014 | C12: ELEVATOR | D12: 35 | E12: 35 | F12: 2 | G12: EVENT CLEAN | H12: GAMEDAYS; 7:00PM-7:00AM
A13: INDOOR TENNIS FACILITY | B13: 1015 | C13: STORAGE | D13: 59 | E13: NC | F13: NC | G13: NC | H13: NC
A14: INDOOR TENNIS FACILITY | B14: 1016 | C14: UTILITY | D14: 75 | E14: NC | F14: NC | G14: NC | H14: NC
A15: INDOOR TENNIS FACILITY | B15: 1017 | C15: STORAGE | D15: 59 | E15: NC | F15: NC | G15: NC | H15: NC
A16: INDOOR TENNIS FACILITY | B16: 1018 | C16: MECHANICAL | D16: 188 | E16: NC | F16: NC | G16: NC | H16: NC
A17: INDOOR TENNIS FACILITY | B17: 1019 | C17: COMMUNICATIONS | D17: 152 | E17: NC | F17: NC | G17: NC | H17: NC
A18: INDOOR TENNIS FACILITY | B18: 1020 | C18: CORRIDOR | D18: 183 | E18: 183 | F18: 2 | G18: EVENT CLEAN | H18: GAMEDAYS; 7:00PM-7:00AM
A19: INDOOR TENNIS FACILITY | B19: 1022 | C19: STAIRWAY | D19: 127 | E19: 127 | F19: 2 | G19: EVENT CLEAN | H19: GAMEDAYS; 7:00PM-7:00AM
A20: INDOOR TENNIS FACILITY | B20: 1023 | C20: MECHANICAL | D20: 201 | E20: NC | F20: NC | G20: NC | H20: NC
A21: INDOOR TENNIS FACILITY | B21: 1024 | C21: MECHANICAL | D21: 205 | E21: NC | F21: NC | G21: NC | H21: NC
A22: INDOOR TENNIS FACILITY | B22: 1030 | C22: PLAYING SURFACE | D22: 37621 | E22: NC | F22: NC | G22: NC | H22: NC
A23: INDOOR TENNIS FACILITY | B23: 1030A | C23: TRAINING / SUPPORT | D23: 2917 | E23: 2917 | F23: 2 | G23: DAILY CLEAN | H23: 7:00PM-7:00AM
A24: INDOOR TENNIS FACILITY | B24: 2000 | C24: UPPER LOBBY | D24: 309 | E24: 309 | F24: 2 | G24: EVENT CLEAN | H24: GAMEDAYS; 7:00PM-7:00AM
A25: INDOOR TENNIS FACILITY | B25: 2001 | C25: STORAGE | D25: 48 | E25: NC | F25: NC | G25: NC | H25: NC
A26: INDOOR TENNIS FACILITY | B26: 2002 | C26: ELECTRICAL | D26: 25 | E26: NC | F26: NC | G26: NC | H26: NC
A27: INDOOR TENNIS FACILITY | B27: 2003 | C27: BALCONY SEATING | D27: 4072 | E27: 4072 | F27: 2 | G27: EVENT CLEAN | H27: GAMEDAYS; 7:00PM-7:00AM
A28: INDOOR TENNIS FACILITY | B28: 2004 | C28: STORAGE | D28: 150 | E28: NC | F28: NC | G28: NC | H28: NC
A29: INDOOR TENNIS FACILITY | B29: 2013 | C29: STAIRWAY | D29: 154 | E29: 154 | F29: 2 | G29: EVENT CLEAN | H29: GAMEDAYS; 7:00PM-7:00AM
A30: INDOOR TENNIS FACILITY | B30: 2014 | C30: ELEVATOR | D30: 35 | E30: 35 | F30: 2 | G30: EVENT CLEAN | H30: GAMEDAYS; 7:00PM-7:00AM
A31: INDOOR TENNIS FACILITY | B31: 2022 | C31: STAIRWAY | D31: 127 | E31: 127 | F31: 2 | G31: EVENT CLEAN | H31: GAMEDAYS; 7:00PM-7:00AM
D32: =SUM(D3:D31) | E32: =SUM(E3:E31)

Sheet A.J. Pitts Tennis Center
A1: AJ PITTS TENNIS FACILITY
A2: BUILDING | B2: ROOM NO | C2: SPACE DESCRIPTION | D2: NET SQ FT | E2: CLEANABLE SQ FT | F2: APPA LEVEL | G2: FREQUENCY | H2: CLEANING WINDOW
A3: A.J. PITTS FIELD HOUSE | B3: 1 | C3: OFFICIALS ROOM | D3: 163 | E3: 163 | F3: 2 | G3: EVENT CLEAN | H3: GAMEDAYS; 7:00PM-7:00AM
A4: A.J. PITTS FIELD HOUSE | B4: 2 | C4: WT LOCKER ROOM | D4: 292 | E4: 292 | F4: 2 | G4: DAILY CLEAN | H4: 7:00PM-7:00AM
A5: A.J. PITTS FIELD HOUSE | B5: 002A | C5: WT LOCKER ROOM | D5: 37 | E5: 37 | F5: 2 | G5: DAILY CLEAN | H5: 7:00PM-7:00AM
A6: A.J. PITTS FIELD HOUSE | B6: 3 | C6: WT LOCKER ROOM | D6: 35 | E6: 35 | F6: 2 | G6: DAILY CLEAN | H6: 7:00PM-7:00AM
A7: A.J. PITTS FIELD HOUSE | B7: 4 | C7: WT TOILET | D7: 69 | E7: 69 | F7: 2 | G7: DAILY CLEAN | H7: 7:00PM-7:00AM
A8: A.J. PITTS FIELD HOUSE | B8: 004A | C8: WT SHOWER | D8: 75 | E8: 75 | F8: 2 | G8: DAILY CLEAN | H8: 7:00PM-7:00AM
A9: A.J. PITTS FIELD HOUSE | B9: 5 | C9: STORAGE | D9: 105 | E9: NC | F9: NC | G9: NC | H9: NC
A10: A.J. PITTS FIELD HOUSE | B10: 7 | C10: TOILET | D10: 148 | E10: 148 | F10: 2 | G10: EVENT CLEAN | H10: GAMEDAYS; 7:00PM-7:00AM
A11: A.J. PITTS FIELD HOUSE | B11: 8 | C11: TOILET | D11: 152 | E11: 152 | F11: 2 | G11: EVENT CLEAN | H11: GAMEDAYS; 7:00PM-7:00AM
A12: A.J. PITTS FIELD HOUSE | B12: 008A | C12: CLOSET | D12: 13 | E12: NC | F12: NC | G12: NC | H12: NC
A13: A.J. PITTS FIELD HOUSE | B13: 9 | C13: UTILITY | D13: 32 | E13: NC | F13: NC | G13: NC | H13: NC
A14: A.J. PITTS FIELD HOUSE | B14: 10 | C14: EQUIPMENT | D14: 202 | E14: NC | F14: NC | G14: NC | H14: NC
A15: A.J. PITTS FIELD HOUSE | B15: 11 | C15: MT LOCKER ROOM | D15: 104 | E15: 104 | F15: 2 | G15: DAILY CLEAN | H15: 7:00PM-7:00AM
A16: A.J. PITTS FIELD HOUSE | B16: 011A | C16: MT LOCKER ROOM | D16: 16 | E16: 16 | F16: 2 | G16: DAILY CLEAN | H16: 7:00PM-7:00AM
A17: A.J. PITTS FIELD HOUSE | B17: 011B | C17: MT LOCKER ROOM | D17: 20 | E17: 20 | F17: 2 | G17: DAILY CLEAN | H17: 7:00PM-7:00AM
A18: A.J. PITTS FIELD HOUSE | B18: 12 | C18: MT LOCKER ROOM | D18: 114 | E18: 114 | F18: 2 | G18: DAILY CLEAN | H18: 7:00PM-7:00AM
A19: A.J. PITTS FIELD HOUSE | B19: 012A | C19: MT LOCKER ROOM | D19: 21 | E19: 21 | F19: 2 | G19: DAILY CLEAN | H19: 7:00PM-7:00AM
A20: A.J. PITTS FIELD HOUSE | B20: 13 | C20: MT LOCKER ROOM | D20: 25 | E20: 25 | F20: 2 | G20: DAILY CLEAN | H20: 7:00PM-7:00AM
A21: A.J. PITTS FIELD HOUSE | B21: 14 | C21: MT TOILET | D21: 78 | E21: 78 | F21: 2 | G21: DAILY CLEAN | H21: 7:00PM-7:00AM
A22: A.J. PITTS FIELD HOUSE | B22: 014A | C22: MT SHOWER | D22: 66 | E22: 66 | F22: 2 | G22: DAILY CLEAN | H22: 7:00PM-7:00AM
A23: A.J. PITTS FIELD HOUSE | B23: 15 | C23: VISITING TEAM TOILET | D23: 78 | E23: 78 | F23: 2 | G23: EVENT CLEAN | H23: GAMEDAYS; 7:00PM-7:00AM
A24: A.J. PITTS FIELD HOUSE | B24: 015A | C24: VISITING TEAM SHOWER | D24: 66 | E24: 66 | F24: 2 | G24: EVENT CLEAN | H24: GAMEDAYS; 7:00PM-7:00AM
A25: A.J. PITTS FIELD HOUSE | B25: 16 | C25: VISITING TEAM LOCKER ROOM | D25: 113 | E25: 113 | F25: 2 | G25: EVENT CLEAN | H25: GAMEDAYS; 7:00PM-7:00AM
A26: A.J. PITTS FIELD HOUSE | B26: 016A | C26: CLOSET | D26: 21 | E26: NC | F26: NC | G26: NC | H26: NC
A27: A.J. PITTS FIELD HOUSE | B27: 17 | C27: VISITING TEAM LOCKER ROOM | D27: 25 | E27: 25 | F27: 2 | G27: EVENT CLEAN | H27: GAMEDAYS; 7:00PM-7:00AM
A28: A.J. PITTS FIELD HOUSE | B28: 100 | C28: PRESSBOX | D28: 144 | E28: 144 | F28: 2 | G28: EVENT CLEAN | H28: GAMEDAYS; 7:00PM-7:00AM
A29: A.J. PITTS FIELD HOUSE | C29: BLEACHER SEATING | D29: 3490 | E29: 3490 | F29: 2 | G29: EVENT CLEAN | H29: GAMEDAYS; 7:00PM-7:00AM
A30: A.J. PITTS FIELD HOUSE | C30: STAIRS | D30: 125 | E30: 125 | F30: 2 | G30: EVENT CLEAN | H30: GAMEDAYS; 7:00PM-7:00AM
A31: AJ | C31: STAIRS | D31: 139 | E31: 139 | F31: 2 | G31: EVENT CLEAN | H31: GAMEDAYS; 7:00PM-7:00AM
D32: =SUM(D3:D31) | E32: =SUM(E3:E31)

Sheet Newell-Grissom Building
A1: NEWELL-GRISSOM BUILDING
A2: BUILDING | B2: ROOM NO | C2: SPACE DESCRIPTION | D2: NET SQ FT | E2: CLEANABLE SQ FT | F2: APPA LEVEL | G2: FREQUENCY | H2: CLEANING WINDOW
A3: NEWELL-GRISSOM BUILDING | B3: 1020 | C3: CUSTODIAL CLOSET | D3: 26 | E3: NC | F3: NC | G3: NC | H3: NC
A4: NEWELL-GRISSOM BUILDING | B4: 1030 | C4: TOILET | D4: 541 | E4: 541 | F4: 2 | G4: DAILY CLEAN | H4: 7:00PM-7:00AM
A5: NEWELL-GRISSOM BUILDING | B5: 1031 | C5: CLOSET | D5: 65 | E5: NC | F5: NC | G5: NC | H5: NC
A6: NEWELL-GRISSOM BUILDING | B6: 1040 | C6: CORRIDOR | D6: 300 | E6: 300 | F6: 2 | G6: DAILY CLEAN | H6: 7:00PM-7:00AM
A7: NEWELL-GRISSOM BUILDING | B7: 1041 | C7: STORAGE | D7: 212 | E7: NC | F7: NC | G7: NC | H7: NC
A8: NEWELL-GRISSOM BUILDING | B8: 1042 | C8: TOILET | D8: 77 | E8: 77 | F8: 2 | G8: DAILY CLEAN | H8: 7:00PM-7:00AM
A9: NEWELL-GRISSOM BUILDING | B9: 1043 | C9: TOILET | D9: 78 | E9: 78 | F9: 2 | G9: DAILY CLEAN | H9: 7:00PM-7:00AM
A10: NEWELL-GRISSOM BUILDING | B10: 1045 | C10: OFFICIALS LOCKER | D10: 266 | E10: 266 | F10: 2 | G10: DAILY CLEAN | H10: 7:00PM-7:00AM
A11: NEWELL-GRISSOM BUILDING | B11: 1050 | C11: OFFICE | D11: 285 | E11: 285 | F11: 2 | G11: DAILY CLEAN | H11: 7:00PM-7:00AM
A12: NEWELL-GRISSOM BUILDING | B12: 1055 | C12: OFFICE | D12: 377 | E12: 377 | F12: 2 | G12: DAILY CLEAN | H12: 7:00PM-7:00AM
A13: NEWELL-GRISSOM BUILDING | B13: 1060 | C13: OFFICE | D13: 103 | E13: 103 | F13: 2 | G13: DAILY CLEAN | H13: 7:00PM-7:00AM
A14: NEWELL-GRISSOM BUILDING | B14: 1100 | C14: LOBBY | D14: 360 | E14: 360 | F14: 2 | G14: DAILY CLEAN | H14: 7:00PM-7:00AM
A15: NEWELL-GRISSOM BUILDING | B15: 1101 | C15: STORAGE | D15: 45 | E15: NC | F15: NC | G15: NC | H15: NC
A16: NEWELL-GRISSOM BUILDING | B16: 1102 | C16: STORAGE | D16: 45 | E16: NC | F16: NC | G16: NC | H16: NC
A17: NEWELL-GRISSOM BUILDING | B17: 1110 | C17: OFFICE | D17: 123 | E17: 123 | F17: 2 | G17: DAILY CLEAN | H17: 7:00PM-7:00AM
A18: NEWELL-GRISSOM BUILDING | B18: 1115 | C18: OFFICE | D18: 254 | E18: 254 | F18: 2 | G18: DAILY CLEAN | H18: 7:00PM-7:00AM
A19: NEWELL-GRISSOM BUILDING | B19: 1120 | C19: OFFICE | D19: 131 | E19: 131 | F19: 2 | G19: DAILY CLEAN | H19: 7:00PM-7:00AM
A20: NEWELL-GRISSOM BUILDING | B20: 1130 | C20: STORAGE | D20: 531 | E20: NC | F20: NC | G20: NC | H20: NC
A21: NEWELL-GRISSOM BUILDING | B21: 1140 | C21: CORRIDOR | D21: 278 | E21: 278 | F21: 2 | G21: DAILY CLEAN | H21: 7:00PM-7:00AM
A22: NEWELL-GRISSOM BUILDING | B22: 1150 | C22: STORAGE | D22: 196 | E22: NC | F22: NC | G22: NC | H22: NC
A23: NEWELL-GRISSOM BUILDING | B23: 1151 | C23: MECHANICAL | D23: 116 | E23: NC | F23: NC | G23: NC | H23: NC
A24: NEWELL-GRISSOM BUILDING | B24: 1160 | C24: VISITING TEAM TOILET | D24: 360 | E24: 360 | F24: 2 | G24: EVENT CLEAN | H24: GAMEDAYS; 7:00PM-7:00AM
A25: NEWELL-GRISSOM BUILDING | B25: 1161 | C25: VISITING TEAM SHOWER | D25: 177 | E25: 177 | F25: 2 | G25: EVENT CLEAN | H25: GAMEDAYS; 7:00PM-7:00AM
A26: NEWELL-GRISSOM BUILDING | B26: 1170 | C26: CORRIDOR | D26: 122 | E26: 122 | F26: 2 | G26: DAILY CLEAN | H26: 7:00PM-7:00AM
A27: NEWELL-GRISSOM BUILDING | B27: 1200 | C27: LOBBY | D27: 682 | E27: 682 | F27: 2 | G27: DAILY CLEAN | H27: 7:00PM-7:00AM
A28: NEWELL-GRISSOM BUILDING | B28: 1210 | C28: CORRIDOR | D28: 387 | E28: 387 | F28: 2 | G28: DAILY CLEAN | H28: 7:00PM-7:00AM
A29: NEWELL-GRISSOM BUILDING | B29: 1220 | C29: VB SHOWER | D29: 155 | E29: 155 | F29: 2 | G29: DAILY CLEAN | H29: 7:00PM-7:00AM
A30: NEWELL-GRISSOM BUILDING | B30: 1230 | C30: VB TOILET | D30: 360 | E30: 360 | F30: 2 | G30: DAILY CLEAN | H30: 7:00PM-7:00AM
A31: NEWELL-GRISSOM BUILDING | B31: 1240 | C31: VB TRAINING | D31: 249 | E31: 249 | F31: 2 | G31: DAILY CLEAN | H31: 7:00PM-7:00AM
A32: NEWELL-GRISSOM BUILDING | B32: 1241 | C32: MECHANICAL | D32: 73 | E32: NC | F32: NC | G32: NC | H32: NC
A33: NEWELL-GRISSOM BUILDING | B33: 1242 | C33: STORAGE | D33: 194 | E33: NC | F33: NC | G33: NC | H33: NC
A34: NEWELL-GRISSOM BUILDING | B34: 1250 | C34: VB LOCKER ROOM | D34: 773 | E34: 773 | F34: 2 | G34: DAILY CLEAN | H34: 7:00PM-7:00AM
A35: NEWELL-GRISSOM BUILDING | B35: 1260 | C35: VB PLAYER DRESSING | D35: 304 | E35: 304 | F35: 2 | G35: DAILY CLEAN | H35: 7:00PM-7:00AM
A36: NEWELL-GRISSOM BUILDING | B36: 1261 | C36: STORAGE | D36: 110 | E36: NC | F36: NC | G36: NC | H36: NC
A37: NEWELL-GRISSOM BUILDING | B37: 1300 | C37: LOBBY | D37: 338 | E37: 338 | F37: 2 | G37: DAILY CLEAN | H37: 7:00PM-7:00AM
A38: NEWELL-GRISSOM BUILDING | B38: 1301 | C38: CONCESSION STAND | D38: 84 | E38: NC | F38: NC | G38: NC | H38: NC
A39: NEWELL-GRISSOM BUILDING | B39: 1310 | C39: VB TEAM MEETING ROOM | D39: 422 | E39: 422 | F39: 2 | G39: DAILY CLEAN | H39: 7:00PM-7:00AM
A40: NEWELL-GRISSOM BUILDING | B40: 1320 | C40: VB TEAM LOUNGE & NUTRITION | D40: 748 | E40: 748 | F40: 2 | G40: DAILY CLEAN | H40: 7:00PM-7:00AM
A41: NEWELL-GRISSOM BUILDING | B41: 1330 | C41: CORRIDOR | D41: 219 | E41: 219 | F41: 2 | G41: DAILY CLEAN | H41: 7:00PM-7:00AM
A42: NEWELL-GRISSOM BUILDING | B42: 1331 | C42: CLOSET | D42: 26 | E42: NC | F42: NC | G42: NC | H42: NC
A43: NEWELL-GRISSOM BUILDING | B43: 1340 | C43: TOILET | D43: 540 | E43: 540 | F43: 2 | G43: DAILY CLEAN | H43: 7:00PM-7:00AM
A44: NEWELL-GRISSOM BUILDING | B44: 1341 | C44: CLOSET | D44: 65 | E44: NC | F44: NC | G44: NC | H44: NC
A45: NEWELL-GRISSOM BUILDING | B45: 1400 | C45: PLAYING SURFACE | D45: 12329 | E45: NC | F45: NC | G45: NC | H45: NC
A46: NEWELL-GRISSOM BUILDING | B46: 2000 | C46: MEETING ROOM | D46: 1047 | E46: 1047 | F46: 2 | G46: DAILY CLEAN | H46: 7:00PM-7:00AM
A47: NEWELL-GRISSOM BUILDING | B47: 2001 | C47: BOWL SEATING WEST | D47: 6327 | E47: 6327 | F47: 2 | G47: EVENT CLEAN | H47: GAMEDAYS; 7:00PM-7:00AM
A48: NEWELL-GRISSOM BUILDING | B48: 2003 | C48: MEDIA PRODUCTION | D48: 62 | E48: NC | F48: NC | G48: NC | H48: NC
A49: NEWELL-GRISSOM BUILDING | B49: 2004 | C49: BOWL SEATING EAST | D49: 6306 | E49: 6306 | F49: 2 | G49: EVENT CLEAN | H49: GAMEDAYS; 7:00PM-7:00AM
A50: NEWELL-GRISSOM BUILDING | B50: 2010 | C50: STAIRWELL | D50: 99 | E50: 99 | F50: 2 | G50: EVENT CLEAN | H50: GAMEDAYS; 7:00PM-7:00AM
A51: NEWELL-GRISSOM BUILDING | B51: 2011 | C51: INNER CONCOURSE WEST | D51: 989 | E51: 989 | F51: 2 | G51: EVENT CLEAN | H51: GAMEDAYS; 7:00PM-7:00AM
A52: NEWELL-GRISSOM BUILDING | B52: 2012 | C52: INNER CONCOURSE EAST | D52: 1010 | E52: 1010 | F52: 2 | G52: EVENT CLEAN | H52: GAMEDAYS; 7:00PM-7:00AM
D53: =SUM(D3:D52) | E53: =SUM(E3:E52)

Sheet Soccer Stadium
A1: SOCCER STADIUM
A2: BUILDING | B2: ROOM NO | C2: SPACE DESCRIPTION | D2: NET SQ FT | E2: CLEANABLE SQ FT | F2: APPA LEVEL | G2: FREQUENCY | H2: CLEANING WINDOW
A3: SOCCER PRESS BOX | B3: 101 | C3: CONCESSION STAND | D3: 360 | E3: NC | F3: NC | G3: NC | H3: NC
A4: SOCCER PRESS BOX | B4: 102 | C4: TOILET | D4: 242 | E4: 242 | F4: 2 | G4: EVENT CLEAN | H4: GAMEDAYS; 7:00PM-7:00AM
A5: SOCCER PRESS BOX | B5: 103 | C5: ELECTRICAL | D5: 88 | E5: NC | F5: NC | G5: NC | H5: NC
A6: SOCCER PRESS BOX | B6: 104 | C6: TOILET | D6: 282 | E6: 282 | F6: 2 | G6: EVENT CLEAN | H6: GAMEDAYS; 7:00PM-7:00AM
A7: SOCCER PRESS BOX | B7: 105 | C7: STORAGE | D7: 103 | E7: NC | F7: NC | G7: NC | H7: NC
A8: SOCCER PRESS BOX | B8: 201 | C8: CORRIDOR | D8: 345 | E8: 345 | F8: 2 | G8: EVENT CLEAN | H8: GAMEDAYS; 7:00PM-7:00AM
A9: SOCCER PRESS BOX | B9: 202 | C9: STORAGE | D9: 61 | E9: NC | F9: NC | G9: NC | H9: NC
A10: SOCCER PRESS BOX | B10: 203 | C10: PRESSBOX | D10: 301 | E10: 301 | F10: 2 | G10: EVENT CLEAN | H10: GAMEDAYS; 7:00PM-7:00AM
A11: SOCCER PRESS BOX | B11: 204 | C11: PRESSBOX | D11: 140 | E11: 140 | F11: 2 | G11: EVENT CLEAN | H11: GAMEDAYS; 7:00PM-7:00AM
A12: SOCCER PRESS BOX | B12: 205 | C12: PRESSBOX | D12: 200 | E12: 200 | F12: 2 | G12: EVENT CLEAN | H12: GAMEDAYS; 7:00PM-7:00AM
A13: SOCCER PRESS BOX | B13: 206 | C13: PRESSBOX | D13: 200 | E13: 200 | F13: 2 | G13: EVENT CLEAN | H13: GAMEDAYS; 7:00PM-7:00AM
D14: =SUM(D3:D13) | E14: =SUM(E3:E13)

Sheet Soccer Clubhouse
A1: SOCCER CLUBHOUSE
A2: BUILDING | B2: ROOM NO | C2: SPACE DESCRIPTION | D2: NET SQ FT | E2: CLEANABLE SQ FT | F2: APPA LEVEL | G2: FREQUENCY | H2: CLEANING WINDOW
A3: SOCCER CLUBHOUSE | B3: 100 | C3: LOBBY | D3: 109 | E3: 109 | F3: 2 | G3: DAILY CLEAN | H3: 7:00PM-7:00AM
A4: SOCCER CLUBHOUSE | B4: 101 | C4: CORRIDOR | D4: 153 | E4: 153 | F4: 2 | G4: DAILY CLEAN | H4: 7:00PM-7:00AM
A5: SOCCER CLUBHOUSE | B5: 102 | C5: MUD ROOM | D5: 62 | E5: 62 | F5: 2 | G5: DAILY CLEAN | H5: 7:00PM-7:00AM
A6: SOCCER CLUBHOUSE | B6: 102A | C6: MUD ROOM | D6: 11 | E6: 11 | F6: 2 | G6: DAILY CLEAN | H6: 7:00PM-7:00AM
A7: SOCCER CLUBHOUSE | B7: 103 | C7: CUSTODIAL CLOSET | D7: 9 | E7: NC | F7: NC | G7: NC | H7: NC
A8: SOCCER CLUBHOUSE | B8: 104 | C8: MECHANICAL | D8: 62 | E8: NC | F8: NC | G8: NC | H8: NC
A9: SOCCER CLUBHOUSE | B9: 105 | C9: TEAM TOILET | D9: 227 | E9: 227 | F9: 2 | G9: DAILY CLEAN | H9: 7:00PM-7:00AM
A10: SOCCER CLUBHOUSE | B10: 106 | C10: TEAM SHOWER | D10: 138 | E10: 138 | F10: 2 | G10: DAILY CLEAN | H10: 7:00PM-7:00AM
A11: SOCCER CLUBHOUSE | B11: 107 | C11: TEAM LOCKER ROOM | D11: 674 | E11: 674 | F11: 2 | G11: DAILY CLEAN | H11: 7:00PM-7:00AM
A12: SOCCER CLUBHOUSE | B12: 108 | C12: EQUIPMENT | D12: 243 | E12: NC | F12: NC | G12: NC | H12: NC
A13: SOCCER CLUBHOUSE | B13: 109 | C13: CLOSET | D13: 45 | E13: NC | F13: NC | G13: NC | H13: NC
A14: SOCCER CLUBHOUSE | B14: 110 | C14: LOBBY | D14: 48 | E14: 48 | F14: 2 | G14: DAILY CLEAN | H14: 7:00PM-7:00AM
A15: SOCCER CLUBHOUSE | B15: 111 | C15: TEAM LOUNGE | D15: 570 | E15: 570 | F15: 2 | G15: DAILY CLEAN | H15: 7:00PM-7:00AM
A16: SOCCER CLUBHOUSE | B16: 112 | C16: UTILITY | D16: 83 | E16: NC | F16: NC | G16: NC | H16: NC
A17: SOCCER CLUBHOUSE | B17: 113 | C17: TOILET | D17: 61 | E17: 61 | F17: 2 | G17: DAILY CLEAN | H17: 7:00PM-7:00AM
A18: SOCCER CLUBHOUSE | B18: 114 | C18: LOBBY | D18: 44 | E18: 44 | F18: 2 | G18: DAILY CLEAN | H18: 7:00PM-7:00AM
A19: SOCCER CLUBHOUSE | B19: 115 | C19: OFFICE | D19: 183 | E19: 183 | F19: 2 | G19: DAILY CLEAN | H19: 7:00PM-7:00AM
A20: SOCCER CLUBHOUSE | B20: 116 | C20: TOILET | D20: 57 | E20: 57 | F20: 2 | G20: DAILY CLEAN | H20: 7:00PM-7:00AM
A21: SOCCER CLUBHOUSE | B21: 117 | C21: POOL ROOM | D21: 60 | E21: 60 | F21: 2 | G21: DAILY CLEAN | H21: 7:00PM-7:00AM
A22: SOCCER CLUBHOUSE | B22: 118 | C22: TRAINING ROOM | D22: 386 | E22: 386 | F22: 2 | G22: DAILY CLEAN | H22: 7:00PM-7:00AM
D23: =SUM(D3:D22) | E23: =SUM(E3:E22)

Sheet Bryan Building
A1: BRYAN ATHLETIC ADMINISTRATION
A2: BUILDING | B2: ROOM NO | C2: SPACE DESCRIPTION | D2: NET SQ FT | E2: CLEANABLE SQ FT | F2: APPA LEVEL | G2: FREQUENCY | H2: CLEANING WINDOW
A3: BRYAN | B3: 101 | C3: LOBBY | D3: 1156 | E3: 1156 | F3: 1 | G3: DAILY CLEAN | H3: 7:00PM-7:00AM
A4: BRYAN | B4: 102 | C4: LOBBY | D4: 425 | E4: 425 | F4: 1 | G4: DAILY CLEAN | H4: 7:00PM-7:00AM
A5: BRYAN | B5: 103 | C5: CONFERENCE ROOM | D5: 287 | E5: 287 | F5: 2 | G5: DAILY CLEAN | H5: 7:00PM-7:00AM
A6: BRYAN | B6: 104 | C6: TICKET OFFICE LOBBY | D6: 333 | E6: 333 | F6: 2 | G6: DAILY CLEAN | H6: 7:00PM-7:00AM
A7: BRYAN | B7: 105 | C7: TICKET OFFICE | D7: 1010 | E7: 1010 | F7: 2 | G7: DAILY CLEAN | H7: 7:00PM-7:00AM
A8: BRYAN | B8: 106 | C8: OFFICE | D8: 108 | E8: 108 | F8: 2 | G8: DAILY CLEAN | H8: 7:00PM-7:00AM
A9: BRYAN | B9: 107 | C9: OFFICE | D9: 171 | E9: 171 | F9: 2 | G9: DAILY CLEAN | H9: 7:00PM-7:00AM
A10: BRYAN | B10: 108 | C10: OFFICE | D10: 196 | E10: 196 | F10: 2 | G10: DAILY CLEAN | H10: 7:00PM-7:00AM
A11: BRYAN | B11: 109 | C11: PUBLIC CORRIDOR | D11: 126 | E11: 126 | F11: 2 | G11: DAILY CLEAN | H11: 7:00PM-7:00AM
A12: BRYAN | B12: 110 | C12: PUBLIC CORRIDOR | D12: 348 | E12: 348 | F12: 2 | G12: DAILY CLEAN | H12: 7:00PM-7:00AM
A13: BRYAN | B13: 111 | C13: KITCHEN PANTRY | D13: 115 | E13: NC | F13: NC | G13: NC | H13: NC
A14: BRYAN | B14: 112 | C14: KITCHEN PANTRY | D14: 310 | E14: NC | F14: NC | G14: NC | H14: NC
A15: BRYAN | B15: 113 | C15: PUBLIC REST ROOM | D15: 40 | E15: NC | F15: NC | G15: NC | H15: NC
A16: BRYAN | B16: 114 | C16: KITCHEN PANTRY | D16: 36 | E16: NC | F16: NC | G16: NC | H16: NC
A17: BRYAN | B17: 115 | C17: PUBLIC CORRIDOR | D17: 119 | E17: NC | F17: NC | G17: NC | H17: NC
A18: BRYAN | B18: 117 | C18: ELECTRICAL | D18: 303 | E18: NC | F18: NC | G18: NC | H18: NC
A19: BRYAN | B19: 118 | C19: MECHANICAL | D19: 1263 | E19: NC | F19: NC | G19: NC | H19: NC
A20: BRYAN | B20: 119 | C20: ADMIN STORAGE | D20: 140 | E20: NC | F20: NC | G20: NC | H20: NC
A21: BRYAN | B21: 120 | C21: ADMIN STORAGE | D21: 229 | E21: NC | F21: NC | G21: NC | H21: NC
A22: BRYAN | B22: 121 | C22: PUBLIC REST ROOM | D22: 224 | E22: 224 | F22: 2 | G22: DAILY CLEAN | H22: 7:00PM-7:00AM
A23: BRYAN | B23: 124 | C23: PUBLIC REST ROOM | D23: 47 | E23: 47 | F23: 2 | G23: DAILY CLEAN | H23: 7:00PM-7:00AM
A24: BRYAN | B24: 125 | C24: PUBLIC REST ROOM | D24: 49 | E24: 49 | F24: 2 | G24: DAILY CLEAN | H24: 7:00PM-7:00AM
A25: BRYAN | B25: 126 | C25: OFFICE | D25: 122 | E25: 122 | F25: 2 | G25: DAILY CLEAN | H25: 7:00PM-7:00AM
A26: BRYAN | B26: 127 | C26: CORRIDOR | D26: 94 | E26: 94 | F26: 2 | G26: DAILY CLEAN | H26: 7:00PM-7:00AM
A27: BRYAN | B27: 128 | C27: OFFICE | D27: 142 | E27: 142 | F27: 2 | G27: DAILY CLEAN | H27: 7:00PM-7:00AM
A28: BRYAN | B28: 129 | C28: CORRIDOR | D28: 483 | E28: 483 | F28: 2 | G28: DAILY CLEAN | H28: 7:00PM-7:00AM
A29: BRYAN | B29: 129A | C29: ELECTRICAL | D29: 18 | E29: NC | F29: NC | G29: NC | H29: NC
A30: BRYAN | B30: 130 | C30: LOBBY | D30: 3278 | E30: 3278 | F30: 1 | G30: DAILY CLEAN | H30: 7:00PM-7:00AM
A31: BRYAN | B31: 130A | C31: CLOSET | D31: 12 | E31: NC | F31: NC | G31: NC | H31: NC
A32: BRYAN | B32: 130B | C32: CLOSET | D32: 12 | E32: NC | F32: NC | G32: NC | H32: NC
A33: BRYAN | B33: 131 | C33: LOBBY | D33: 236 | E33: 236 | F33: 1 | G33: DAILY CLEAN | H33: 7:00PM-7:00AM
A34: BRYAN | B34: 132 | C34: OFFICE | D34: 227 | E34: 227 | F34: 2 | G34: DAILY CLEAN | H34: 7:00PM-7:00AM
A35: BRYAN | B35: 133 | C35: JANITOR ROOM | D35: 60 | E35: NC | F35: NC | G35: NC | H35: NC
A36: BRYAN | B36: 134 | C36: OFFICE | D36: 145 | E36: 145 | F36: 2 | G36: DAILY CLEAN | H36: 7:00PM-7:00AM
A37: BRYAN | B37: 135 | C37: ELECTRICAL | D37: 54 | E37: NC | F37: NC | G37: NC | H37: NC
A38: BRYAN | B38: 137 | C38: STAIRWAY | D38: 160 | E38: 160 | F38: 2 | G38: DAILY CLEAN | H38: 7:00PM-7:00AM
A39: BRYAN | B39: 139 | C39: STAIRWAY | D39: 189 | E39: 189 | F39: 1 | G39: DAILY CLEAN | H39: 7:00PM-7:00AM
A40: BRYAN | B40: 140 | C40: LOBBY | D40: 148 | E40: 148 | F40: 2 | G40: DAILY CLEAN | H40: 7:00PM-7:00AM
A41: BRYAN | B41: 141 | C41: OFFICE | D41: 114 | E41: 114 | F41: 2 | G41: DAILY CLEAN | H41: 7:00PM-7:00AM
A42: BRYAN | B42: 142 | C42: CLOSET | D42: 93 | E42: NC | F42: NC | G42: NC | H42: NC
A43: BRYAN | B43: 143 | C43: PUBLIC REST ROOM | D43: 262 | E43: 262 | F43: 2 | G43: DAILY CLEAN | H43: 7:00PM-7:00AM
A44: BRYAN | B44: 144 | C44: PUBLIC REST ROOM | D44: 259 | E44: 259 | F44: 2 | G44: DAILY CLEAN | H44: 7:00PM-7:00AM
A45: BRYAN | B45: 145 | C45: OFFICE | D45: 138 | E45: 138 | F45: 2 | G45: DAILY CLEAN | H45: 7:00PM-7:00AM
A46: BRYAN | B46: 146 | C46: OFFICE | D46: 176 | E46: 176 | F46: 2 | G46: DAILY CLEAN | H46: 7:00PM-7:00AM
A47: BRYAN | B47: 147 | C47: OFFICE | D47: 169 | E47: 169 | F47: 2 | G47: DAILY CLEAN | H47: 7:00PM-7:00AM
A48: BRYAN | B48: 148 | C48: OFFICE | D48: 165 | E48: 165 | F48: 2 | G48: DAILY CLEAN | H48: 7:00PM-7:00AM
A49: BRYAN | B49: 149 | C49: CORRIDOR | D49: 695 | E49: 695 | F49: 2 | G49: DAILY CLEAN | H49: 7:00PM-7:00AM
A50: BRYAN | B50: 149A | C50: ELECTRICAL | D50: 27 | E50: NC | F50: NC | G50: NC | H50: NC
A51: BRYAN | B51: 149B | C51: ELECTRICAL | D51: 10 | E51: NC | F51: NC | G51: NC | H51: NC
A52: BRYAN | B52: 150 | C52: OFFICE | D52: 157 | E52: 157 | F52: 2 | G52: DAILY CLEAN | H52: 7:00PM-7:00AM
A53: BRYAN | B53: 151 | C53: OFFICE | D53: 106 | E53: 106 | F53: 2 | G53: DAILY CLEAN | H53: 7:00PM-7:00AM
A54: BRYAN | B54: 151A | C54: CLOSET | D54: 15 | E54: NC | F54: NC | G54: NC | H54: NC
A55: BRYAN | B55: 152 | C55: CLOSET | D55: 59 | E55: NC | F55: NC | G55: NC | H55: NC
A56: BRYAN | B56: 153 | C56: OFFICE | D56: 149 | E56: 149 | F56: 2 | G56: DAILY CLEAN | H56: 7:00PM-7:00AM
A57: BRYAN | B57: 154 | C57: OFFICE | D57: 243 | E57: 243 | F57: 2 | G57: DAILY CLEAN | H57: 7:00PM-7:00AM
A58: BRYAN | B58: 155 | C58: OFFICE | D58: 136 | E58: 136 | F58: 2 | G58: DAILY CLEAN | H58: 7:00PM-7:00AM
A59: BRYAN | B59: 156 | C59: OFFICE | D59: 136 | E59: 136 | F59: 2 | G59: DAILY CLEAN | H59: 7:00PM-7:00AM
A60: BRYAN | B60: 157 | C60: OFFICE | D60: 91 | E60: 91 | F60: 2 | G60: DAILY CLEAN | H60: 7:00PM-7:00AM
A61: BRYAN | B61: 159 | C61: OFFICE | D61: 169 | E61: 169 | F61: 2 | G61: DAILY CLEAN | H61: 7:00PM-7:00AM
A62: BRYAN | B62: 160 | C62: OFFICE | D62: 119 | E62: 119 | F62: 2 | G62: DAILY CLEAN | H62: 7:00PM-7:00AM
A63: BRYAN | B63: 161 | C63: BREAK ROOM | D63: 138 | E63: 138 | F63: 2 | G63: DAILY CLEAN | H63: 7:00PM-7:00AM
A64: BRYAN | B64: 162 | C64: OFFICE | D64: 141 | E64: 141 | F64: 2 | G64: DAILY CLEAN | H64: 7:00PM-7:00AM
A65: BRYAN | B65: 163 | C65: ELEVATOR | D65: 48 | E65: 48 | F65: 2 | G65: DAILY CLEAN | H65: 7:00PM-7:00AM
A66: BRYAN | B66: 200 | C66: LOBBY | D66: 640 | E66: 640 | F66: 1 | G66: DAILY CLEAN | H66: 7:00PM-7:00AM
A67: BRYAN | B67: 201 | C67: BREAK ROOM | D67: 179 | E67: 179 | F67: 2 | G67: DAILY CLEAN | H67: 7:00PM-7:00AM
... A78: BRYAN | B78: 212 | C78: OFFICE | D78: 270 | E78: 270 | F78: 2 | G78: DAILY CLEAN | H78: 7:00PM-7:00AM
A79: BRYAN | B79: 212A | C79: OFFICE | D79: 147 | E79: 147 | F79: 2 | G79: DAILY CLEAN | H79: 7:00PM-7:00AM
A80: BRYAN | B80: 213 | C80: BREAK ROOM | D80: 55 | E80: 55 | F80: 2 | G80: DAILY CLEAN | H80: 7:00PM-7:00AM
A81: BRYAN | B81: 214 | C81: OFFICE | D81: 83 | E81: 83 | F81: 2 | G81: DAILY CLEAN | H81: 7:00PM-7:00AM
A82: BRYAN | B82: 215 | C82: OFFICE | D82: 186 | E82: 186 | F82: 2 | G82: DAILY CLEAN | H82: 7:00PM-7:00AM
A83: BRYAN | B83: 216 | C83: OFFICE | D83: 105 | E83: 105 | F83: 2 | G83: DAILY CLEAN | H83: 7:00PM-7:00AM
A84: BRYAN | B84: 217 | C84: OFFICE | D84: 136 | E84: 136 | F84: 2 | G84: DAILY CLEAN | H84: 7:00PM-7:00AM
A85: BRYAN | B85: 218 | C85: TOILET | D85: 91 | E85: 91 | F85: 2 | G85: DAILY CLEAN | H85: 7:00PM-7:00AM
A86: BRYAN | B86: 219 | C86: CLOSET | D86: 71 | E86: NC | F86: NC | G86: NC | H86: NC
A87: BRYAN | B87: 220 | C87: OFFICE | D87: 280 | E87: 280 | F87: 2 | G87: DAILY CLEAN | H87: 7:00PM-7:00AM
A88: BRYAN | B88: 221 | C88: OFFICE | D88: 227 | E88: 227 | F88: 2 | G88: DAILY CLEAN | H88: 7:00PM-7:00AM
A89: BRYAN | B89: 222 | C89: CONFERENCE ROOM | D89: 315 | E89: 315 | F89: 2 | G89: DAILY CLEAN | H89: 7:00PM-7:00AM
A90: BRYAN | B90: 222A | C90: CLOSET | D90: 98 | E90: NC | F90: NC | G90: NC | H90: NC
A91: BRYAN | B91: 223 | C91: OFFICE | D91: 130 | E91: 130 | F91: 2 | G91: DAILY CLEAN | H91: 7:00PM-7:00AM
A92: BRYAN | B92: 224 | C92: OFFICE | D92: 233 | E92: 233 | F92: 2 | G92: DAILY CLEAN | H92: 7:00PM-7:00AM
A93: BRYAN | B93: 224A | C93: OFFICE | D93: 133 | E93: 133 | F93: 2 | G93: DAILY CLEAN | H93: 7:00PM-7:00AM
A94: BRYAN | B94: 225 | C94: KITCHENETTE | D94: 37 | E94: 37 | F94: 2 | G94: DAILY CLEAN | H94: 7:00PM-7:00AM
A95: BRYAN | B95: 226 | C95: OFFICE | D95: 273 | E95: 273 | F95: 2 | G95: DAILY CLEAN | H95: 7:00PM-7:00AM
A96: BRYAN | B96: 227 | C96: OFFICE | D96: 399 | E96: 399 | F96: 2 | G96: DAILY CLEAN | H96: 7:00PM-7:00AM
A97: BRYAN | B97: 228 | C97: OFFICE | D97: 129 | E97: 129 | F97: 2 | G97: DAILY CLEAN | H97: 7:00PM-7:00AM
A98: BRYAN | B98: 229 | C98: CLOSET | D98: 113 | E98: NC | F98: NC | G98: NC | H98: NC
A99: BRYAN | B99: 230 | C99: OFFICE | D99: 130 | E99: 130 | F99: 2 | G99: DAILY CLEAN | H99: 7:00PM-7:00AM
A100: BRYAN | B100: 231 | C100: TOILET | D100: 94 | E100: 94 | F100: 2 | G100: DAILY CLEAN | H100: 7:00PM-7:00AM
A101: BRYAN | B101: 233 | C101: TOILET | D101: 49 | E101: 49 | F101: 2 | G101: DAILY CLEAN | H101: 7:00PM-7:00AM
A102: BRYAN | B102: 234 | C102: LOBBY | D102: 461 | E102: 461 | F102: 2 | G102: DAILY CLEAN | H102: 7:00PM-7:00AM
A103: BRYAN | B103: 236 | C103: OFFICE | D103: 137 | E103: 137 | F103: 1 | G103: DAILY CLEAN | H103: 7:00PM-7:00AM
A104: BRYAN | B104: 238 | C104: OFFICE | D104: 229 | E104: 229 | F104: 1 | G104: DAILY CLEAN | H104: 7:00PM-7:00AM
A105: BRYAN | B105: 239 | C105: OFFICE | D105: 208 | E105: 208 | F105: 1 | G105: DAILY CLEAN | H105: 7:00PM-7:00AM
A106: BRYAN | B106: 240 | C106: TOILET | D106: 114 | E106: 114 | F106: 1 | G106: DAILY CLEAN | H106: 7:00PM-7:00AM
A107: BRYAN | B107: 241 | C107: ELECTRICAL | D107: 22 | E107: NC | F107: NC | G107: NC | H107: NC
A108: BRYAN | B108: 242 | C108: OFFICE | D108: 323 | E108: 323 | F108: 1 | G108: DAILY CLEAN | H108: 7:00PM-7:00AM
A109: BRYAN | B109: 243 | C109: OFFICE | D109: 163 | E109: 163 | F109: 1 | G109: DAILY CLEAN | H109: 7:00PM-7:00AM
A110: BRYAN | B110: 244 | C110: OFFICE | D110: 101 | E110: 101 | F110: 1 | G110: DAILY CLEAN | H110: 7:00PM-7:00AM
...

Sheet Leo Seal
A1: LEO SEAL JR FOOTBALL COMPLEX
A2: FOOTBALL BUILDING IS CLEANED 7 DAYS A WEEK, IN AND OUT OF TRADITIONAL SEASON. DURING DIFFERENT TIMES OF YEAR, TRAINING SCHEDULE WILL CHANGE AND REQUIRE FLEXIBLE TIMES OF SERVICE. DAILY PORTERING STAFF REQUIRED TO MAINTAIN HEAVILY TRAFFICKED AREAS (ENTRIES, MEAL ROOM, LOCKER ROOM, ETC.)
A4: BUILDING | B4: ROOM NO | C4: SPACE DESCRIPTION | D4: NET SQ FT | E4: CLEANABLE SQ FT | F4: APPA LEVEL | G4: FREQUENCY | H4: CLEANING WINDOW
A5: LEO W SEAL JR FOOTBALL COMPLEX | B5: 1 | C5: WEIGHT ROOM STORAGE | D5: 484 | E5: NC | F5: NC | G5: NC | H5: NC
A6: LEO W SEAL JR FOOTBALL COMPLEX | B6: 2 | C6: WEIGHT ROOM | D6: 12187 | E6: NC | F6: NC | G6: DAILY TRASH SERVICE ONLY | H6: 7:00PM-7:00AM
A7: LEO W SEAL JR FOOTBALL COMPLEX | B7: 3 | C7: STAIRWAY | D7: 233 | E7: 233 | F7: 2 | G7: DAILY CLEAN - SINGLE | H7: 7:00PM-7:00AM
A8: LEO W SEAL JR FOOTBALL COMPLEX | B8: 4 | C8: TRAINING X-RAY ROOM | D8: 198 | E8: 198 | F8: 2 | G8: DAILY CLEAN - SINGLE | H8: 7:00PM-7:00AM
A9: LEO W SEAL JR FOOTBALL COMPLEX | B9: 5 | C9: TREATMENT/EXAMINATION ROOM | D9: 147 | E9: 147 | F9: 2 | G9: DAILY CLEAN - SINGLE | H9: 7:00PM-7:00AM
A10: LEO W SEAL JR FOOTBALL COMPLEX | B10: 6 | C10: NUTRITION CENTER | D10: 314 | E10: 310 | F10: 2 | G10: DAILY CLEAN - SINGLE | H10: 7:00PM-7:00AM
A11: LEO W SEAL JR FOOTBALL COMPLEX | B11: 8 | C11: TOILET | D11: 86 | E11: 86 | F11: 2 | G11: DAILY CLEAN - SINGLE | H11: 7:00PM-7:00AM
A12: LEO W SEAL JR FOOTBALL COMPLEX | B12: 9 | C12: MECHANICAL | D12: 214 | E12: NC | F12: NC | G12: NC | H12: NC
A13: LEO W SEAL JR FOOTBALL COMPLEX | B13: 10 | C13: TRAINING STORAGE | D13: 454 | E13: NC | F13: NC | G13: NC | H13: NC
A14: LEO W SEAL JR FOOTBALL COMPLEX | B14: 11 | C14: CUSTODIAL CLOSET | D14: 78 | E14: NC | F14: NC | G14: NC | H14: NC
A15: LEO W SEAL JR FOOTBALL COMPLEX | B15: 011A | C15: STORAGE | D15: 43 | E15: NC | F15: NC | G15: NC | H15: NC
A16: LEO W SEAL JR FOOTBALL COMPLEX | B16: 12 | C16: CONFERENCE ROOM | D16: 232 | E16: 232 | F16: 2 | G16: DAILY CLEAN - SINGLE | H16: 7:00PM-7:00AM
A17: LEO W SEAL JR FOOTBALL COMPLEX | B17: 13 | C17: OFFICE | D17: 133 | E17: 133 | F17: 2 | G17: DAILY CLEAN - SINGLE | H17: 7:00PM-7:00AM
A18: LEO W SEAL JR FOOTBALL COMPLEX | B18: 14 | C18: OFFICE | D18: 137 | E18: 137 | F18: 2 | G18: DAILY CLEAN - SINGLE | H18: 7:00PM-7:00AM
A19: LEO W SEAL JR FOOTBALL COMPLEX | B19: 15 | C19: OFFICE | D19: 139 | E19: 139 | F19: 2 | G19: DAILY CLEAN - SINGLE | H19: 7:00PM-7:00AM
A20: LEO W SEAL JR FOOTBALL COMPLEX | B20: 16 | C20: OFFICE | D20: 167 | E20: 167 | F20: 2 | G20: DAILY CLEAN - SINGLE | H20: 7:00PM-7:00AM
A21: LEO W SEAL JR FOOTBALL COMPLEX | B21: 17 | C21: TREATMENT/EXAMINATION ROOM | D21: 151 | E21: 151 | F21: 2 | G21: DAILY CLEAN - SINGLE | H21: 7:00PM-7:00AM
A22: LEO W SEAL JR FOOTBALL COMPLEX | B22: 18 | C22: TREATMENT/EXAMINATION ROOM | D22: 152 | E22: 152 | F22: 2 | G22: DAILY CLEAN - SINGLE | H22: 7:00PM-7:00AM
A23: LEO W SEAL JR FOOTBALL COMPLEX | B23: 19 | C23: TREATMENT/EXAMINATION ROOM | D23: 121 | E23: 121 | F23: 2 | G23: DAILY CLEAN - SINGLE | H23: 7:00PM-7:00AM
A24: LEO W SEAL JR FOOTBALL COMPLEX | B24: 20 | C24: TRAINING LOBBY | D24: 311 | E24: 311 | F24: 2 | G24: DAILY CLEAN - SINGLE | H24: 7:00PM-7:00AM
A25: LEO W SEAL JR FOOTBALL COMPLEX | B25: 21 | C25: TRAINING CORRIDORS | D25: 2360 | E25: 2360 | F25: 2 | G25: DAILY CLEAN - SINGLE | H25: 7:00PM-7:00AM
A26: LEO W SEAL JR FOOTBALL COMPLEX | B26: 22 | C26: TRAINING FLOOR | D26: 1053 | E26: 1053 | F26: 2 | G26: DAILY CLEAN - SINGLE | H26: 7:00PM-7:00AM
A27: LEO W SEAL JR FOOTBALL COMPLEX | B27: 23 | C27: TRAINING FLOOR | D27: 1694 | E27: 1685 | F27: 2 | G27: DAILY CLEAN - SINGLE | H27: 7:00PM-7:00AM
A28: LEO W SEAL JR FOOTBALL COMPLEX | B28: 24 | C28: TRAINING STORAGE | D28: 156 | E28: NC | F28: NC | G28: NC | H28: NC
A29: LEO W SEAL JR FOOTBALL COMPLEX | B29: 25 | C29: TRAINING TOILET | D29: 69 | E29: 69 | F29: 2 | G29: DAILY CLEAN - SINGLE | H29: 7:00PM-7:00AM
A30: LEO W SEAL JR FOOTBALL COMPLEX | B30: 26 | C30: TRAINING TOILET | D30: 69 | E30: 69 | F30: 2 | G30: DAILY CLEAN - SINGLE | H30: 7:00PM-7:00AM
A31: LEO W SEAL JR FOOTBALL COMPLEX | B31: 27 | C31: TRAINING STORAGE | D31: 69 | E31: NC | F31: NC | G31: NC | H31: NC
A32: LEO W SEAL JR FOOTBALL COMPLEX | B32: 28 | C32: TRAINING POOL ROOM | D32: 1650 | E32: 1650 | F32: 2 | G32: DAILY CLEAN - SINGLE | H32: 7:00PM-7:00AM
A33: LEO W SEAL JR FOOTBALL COMPLEX | B33: 28A | C33: TRAINING MECHANICAL | D33: 60 | E33: NC | F33: NC | G33: NC | H33: NC
A34: LEO W SEAL JR FOOTBALL COMPLEX | B34: 29 | C34: FOOTBALL TEAM LOUNGE & CRYO | D34: 1148 | E34: 1148 | F34: 2 | G34: DAILY CLEAN - SINGLE | H34: 7:00PM-7:00AM
A35: LEO W SEAL JR FOOTBALL COMPLEX | B35: 30 | C35: FOOTBALL STORAGE | D35: 49 | E35: NC | F35: NC | G35: NC | H35: NC
A36: LEO W SEAL JR FOOTBALL COMPLEX | B36: 31 | C36: FOOTBALL TEAM TOILET | D36: 975 | E36: 975 | F36: 2 | G36: DAILY CLEAN - SINGLE | H36: 7:00PM-7:00AM
A37: LEO W SEAL JR FOOTBALL COMPLEX | B37: 32 | C37: FOOTBALL TEAM SHOWER | D37: 579 | E37: 579 | F37: 2 | G37: DAILY CLEAN - SINGLE | H37: 7:00PM-7:00AM
A38: LEO W SEAL JR FOOTBALL COMPLEX | B38: 33 | C38: CUSTODIAL CLOSET | D38: 36 | E38: NC | F38: NC | G38: NC | H38: NC
A39: LEO W SEAL JR FOOTBALL COMPLEX | B39: 34 | C39: TRAINING STORAGE | D39: 95 | E39: NC | F39: NC | G39: NC | H39: NC
A40: LEO W SEAL JR FOOTBALL COMPLEX | B40: 35 | C40: FOOTBALL TEAM LOCKER ROOM | D40: 5231 | E40: 5231 | F40: 2 | G40: DAILY CLEAN - MULTIPLE | H40: TWICE DAILY
A41: LEO W SEAL JR FOOTBALL COMPLEX | B41: 36 | C41: FOOTBALL LOCKER ROOM REAR CORRIDOR | D41: 536 | E41: 536 | F41: 2 | G41: DAILY CLEAN - SINGLE | H41: TWICE DAILY
A42: LEO W SEAL JR FOOTBALL COMPLEX | B42: 37 | C42: FOOTBALL EQUIPMENT STORAGE | D42: 1149 | E42: NC | F42: NC | G42: NC | H42: NC
A43: LEO W SEAL JR FOOTBALL COMPLEX | B43: 037A | C43: FOOTBALL EQUIPMENT OFFICE | D43: 105 | E43: NC | F43: NC | G43: NC | H43: NC
A44: LEO W SEAL JR FOOTBALL COMPLEX | B44: 037B | C44: FOOTBALL EQUIPMENT STORAGE | D44: 109 | E44: NC | F44: NC | G44: NC | H44: NC
A45: LEO W SEAL JR FOOTBALL COMPLEX | B45: 38 | C45: FOOTBALL EQUIPMENT LAUNDRY | D45: 486 | E45: NC | F45: NC | G45: NC | H45: NC
A46: LEO W SEAL JR FOOTBALL COMPLEX | B46: 39 | C46: FOOTBALL EQUIPMENT OFFICE | D46: 125 | E46: NC | F46: NC | G46: NC | H46: NC
A47: LEO W SEAL JR FOOTBALL COMPLEX | B47: 40 | C47: FOOTBALL EQUIPMENT OFFICE | D47: 124 | E47: NC | F47: NC | G47: NC | H47: NC
A48: LEO W SEAL JR FOOTBALL COMPLEX | B48: 41 | C48: FOOTBALL EQUIPMENT LOADING | D48: 454 | E48: NC | F48: NC | G48: NC | H48: NC
A49: LEO W SEAL JR FOOTBALL COMPLEX | B49: 42 | C49: STAIRWAY | D49: 276 | E49: 276 | F49: 2 | G49: DAILY CLEAN - SINGLE | H49: 7:00PM-7:00AM
A50: LEO W SEAL JR FOOTBALL COMPLEX | B50: 43 | C50: MECHANICAL | D50: 764 | E50: NC | F50: NC | G50: NC | H50: NC
A51: LEO W SEAL JR FOOTBALL COMPLEX | B51: 44 | C51: MECHANICAL YARD | D51: 303 | E51: NC | F51: NC | G51: NC | H51: NC
A52: LEO W SEAL JR FOOTBALL COMPLEX | B52: 45 | C52: UTILITY ROOM | D52: 55 | E52: NC | F52: NC | G52: NC | H52: NC
A53: LEO W SEAL JR FOOTBALL COMPLEX | B53: 46 | C53: ELECTRICAL ROOM | D53: 239 | E53: NC | F53: NC | G53: NC | H53: NC
A54: LEO W SEAL JR FOOTBALL COMPLEX | B54: 47 | C54: FOOTBALL COACHES LOCKER ROOM - MALE | D54: 870 | E54: 868 | F54: 2 | G54: DAILY CLEAN - SINGLE | H54: 7:00PM-7:00AM
A55: LEO W SEAL JR FOOTBALL COMPLEX | B55: 48 | C55: FOOTBALL COACHES LOCKER ROOM - MALE | D55: 368 | E55: 368 | F55: 2 | G55: DAILY CLEAN - SINGLE | H55: 7:00PM-7:00AM
A56: LEO W SEAL JR FOOTBALL COMPLEX | B56: 49 | C56: FOOTBALL COACHES LOCKER ROOM - FEMALE | D56: 380 | E56: 380 | F56: 2 | G56: DAILY CLEAN - SINGLE | H56: 7:00PM-7:00AM
A57: LEO W SEAL JR FOOTBALL COMPLEX | B57: 50 | C57: CUSTODIAL CLOSET | D57: 197 | E57: NC | F57: NC | G57: NC | H57: NC
A58: LEO W SEAL JR FOOTBALL COMPLEX | B58: 51 | C58: FOOTBALL NUTRITION STORAGE | D58: 581 | E58: NC | F58: NC | G58: NC | H58: NC
A59: LEO W SEAL JR FOOTBALL COMPLEX | B59: 051A | C59: FOOTBALL NUTRITION STORAGE | D59: 463 | E59: NC | F59: NC | G59: NC | H59: NC
A60: LEO W SEAL JR FOOTBALL COMPLEX | B60: 52 | C60: COMMUNICATIONS | D60: 188 | E60: NC | F60: NC | G60: NC | H60: NC
A61: LEO W SEAL JR FOOTBALL COMPLEX | B61: 53 | C61: MECHANICAL | D61: 116 | E61: NC | F61: NC | G61: NC | H61: NC
A62: LEO W SEAL JR FOOTBALL COMPLEX | B62: 54 | C62: TRAINING POOL ROOM PUMP ROOM | D62: 39 | E62: NC | F62: NC | G62: NC | H62: NC
A63: LEO W SEAL JR FOOTBALL COMPLEX | B63: 54A | C63: TRAINING POOL ROOM PUMP ROOM | D63: 749 | E63: NC | F63: NC | G63: NC | H63: NC
A64: LEO W SEAL JR FOOTBALL COMPLEX | B64: 60 | C64: FOOTBALL GROUND FLOOR ELEVATOR LOBBY | D64: 1512 | E64: 1512 | F64: 2 | G64: DAILY CLEAN - SINGLE | H64: 7:00PM-7:00AM
A65: LEO W SEAL JR FOOTBALL COMPLEX | B65: 61 | C65: GROUND FLOOR CORRIDOR | D65: 1763 | E65: 1763 | F65: 2 | G65: DAILY CLEAN - SINGLE | H65: 7:00PM-7:00AM
A66: LEO W SEAL JR FOOTBALL COMPLEX | B66: 62 | C66: GROUND FLOOR CORRIDOR | D66: 1953 | E66: 1953 | F66: 2 | G66: DAILY CLEAN - SINGLE | H66: 7:00PM-7:00AM
A67: LEO W SEAL JR FOOTBALL COMPLEX | B67: 63 | C67: EQUIPMENT ROOM CORRIDOR | D67: NC | E67: NC | F67: NC | G67: NC | H67: NC
A68: LEO W SEAL JR FOOTBALL COMPLEX | B68: 78 | C68: ELEVATOR | D68: 97 | E68: 97 | F68: 2 | G68: DAILY CLEAN - SINGLE | H68: 7:00PM-7:00AM
A69: LEO W SEAL JR FOOTBALL COMPLEX | B69: 101 | C69: OFFICE | D69: 94 | E69: 94 | F69: 2 | G69: DAILY CLEAN - SINGLE | H69: 7:00PM-7:00AM
A70: LEO W SEAL JR FOOTBALL COMPLEX | B70: 102 | C70: OFFICE | D70: 110 | E70: 110 | F70: 2 | G70: DAILY CLEAN - SINGLE | H70: 7:00PM-7:00AM
A71: LEO W SEAL JR FOOTBALL COMPLEX | B71: 103 | C71: OFFICE | D71: 127 | E71: 127 | F71: 2 | G71: DAILY CLEAN - SINGLE | H71: 7:00PM-7:00AM
A72: LEO W SEAL JR FOOTBALL COMPLEX | B72: 104 | C72: OFFICE | D72: 109 | E72: 109 | F72: 2 | G72: DAILY CLEAN - SINGLE | H72: 7:00PM-7:00AM
A73: LEO W SEAL JR FOOTBALL COMPLEX | B73: 105 | C73: OFFICE | D73: 145 | E73: 145 | F73: 2 | G73: DAILY CLEAN - SINGLE | H73: 7:00PM-7:00AM
A74: LEO W SEAL JR FOOTBALL COMPLEX | B74: 106 | C74: FOOTBALL RECOVERY | D74: 1783 | E74: 1783 | F74: 2 | G74: DAILY CLEAN - SINGLE | H74: 7:00PM-7:00AM
A75: LEO W SEAL JR FOOTBALL COMPLEX | B75: 108 | C75: ELECTRICAL ROOM | D75: 108 | E75: NC | F75: NC | G75: NC | H75: NC
A76: LEO W SEAL JR FOOTBALL COMPLEX | B76: 109 | C76: CONFERENCE ROOM | D76: 246 | E76: 246 | F76: 2 | G76: DAILY CLEAN - SINGLE | H76: 7:00PM-7:00AM
A77: LEO W SEAL JR FOOTBALL COMPLEX | B77: 110 | C77: MECHANICAL | D77: 755 | E77: NC | F77: NC | G77: NC | H77: NC
A78: LEO W SEAL JR FOOTBALL COMPLEX | B78: 111A | C78: MECHANICAL | D78: 135 | E78: NC | F78: NC | G78: NC | H78: NC
A79: LEO W SEAL JR FOOTBALL COMPLEX | B79: 112 | C79: TOILET | D79: 187 | E79: 187 | F79: 2 | G79: DAILY CLEAN - SINGLE | H79: 7:00PM-7:00AM
A80: LEO W SEAL JR FOOTBALL COMPLEX | B80: 113 | C80: TOILET | D80: 213 | E80: 213 | F80: 2 | G80: DAILY CLEAN - SINGLE | H80: 7:00PM-7:00AM
A81: LEO W SEAL JR FOOTBALL COMPLEX | B81: 114 | C81: FOOTBALL PERFORMANCE NUTRITION CENTER | D81: 3670 | E81: 3670 | F81: 2 | G81: DAILY CLEAN - MULTIPLE | H81: 3 MEAL SERVICES EACH DAY
A82: LEO W SEAL JR FOOTBALL COMPLEX | B82: 115 | C82: FOOTBALL ENTRANCE LOBBY | D82: 1832 | E82: 1832 | F82: 1 | G82: DAILY CLEAN - MULTIPLE | H82: FREQUENTLY MAINTAINED
A83: LEO W SEAL JR FOOTBALL COMPLEX | B83: 117 | C83: FOOTBALL NUTRITION KITCHEN | D83: 905 | E83: NC | F83: NC | G83: NC | H83: NC
A84: LEO W SEAL JR FOOTBALL COMPLEX | B84: 118 | C84: FIRST FLOOR ELEVATOR LOBBY | D84: 1615 | E84: 1615 | F84: 2 | G84: DAILY CLEAN - SINGLE | H84: 7:00PM-7:00AM
A85: LEO W SEAL JR FOOTBALL COMPLEX | B85: 120 | C85: STAIRWAY | D85: 425 | E85: 425 | F85: 2 | G85: DAILY CLEAN - MULTIPLE | H85: FREQUENTLY MAINTAINED
A86: LEO W SEAL JR FOOTBALL COMPLEX | B86: 121 | C86: FOOTBALL BREAK ROOM | D86: 187 | E86: 187 | F86: 2 | G86: DAILY CLEAN - SINGLE | H86: 7:00PM-7:00AM
A87: LEO W SEAL JR FOOTBALL COMPLEX | B87: 122 | C87: CENTRAL COMPUTER OR TELECOMMUNICATIONS | D87: 287 | E87: NC | F87: NC | G87: NC | H87: NC
A88: LEO W SEAL JR FOOTBALL COMPLEX | B88: 123 | C88: TOILET | D88: 196 | E88: 196 | F88: 2 | G88: DAILY CLEAN - SINGLE | H88: 7:00PM-7:00AM
A89: LEO W SEAL JR FOOTBALL COMPLEX | B89: 124 | C89: TOILET | D89: 196 | E89: 196 | F89: 2 | G89: DAILY CLEAN - SINGLE | H89: 7:00PM-7:00AM
A90: LEO W SEAL JR FOOTBALL COMPLEX | B90: 125 | C90: OFFICE | D90: 145 | E90: 145 | F90: 2 | G90: DAILY CLEAN - SINGLE | H90: 7:00PM-7:00AM
A91: LEO W SEAL JR FOOTBALL COMPLEX | B91: 126 | C91: OFFICE | D91: 141 | E91: 141 | F91: 2 | G91: DAILY CLEAN - SINGLE | H91: 7:00PM-7:00AM
A92: LEO W SEAL JR FOOTBALL COMPLEX | B92: 127 | C92: OFFICE | D92: 174 | E92: 174 | F92: 2 | G92: DAILY CLEAN - SINGLE | H92: 7:00PM-7:00AM
A93: LEO W SEAL JR FOOTBALL COMPLEX | B93: 128 | C93: OFFICE | D93: 145 | E93: 145 | F93: 2 | G93: DAILY CLEAN - SINGLE | H93: 7:00PM-7:00AM
