Workbook

Sheet Summary
A1: Building | B1: Total Square Footage | C1: Cleanable Square Footage | D1: Daily Cleanable SF | E1: Event Cleanable SF
A2: DAVIS WADE - WEST GROUND | B2: =SUM('Davis Wade - West Ground'!D3:D34) | C2: =SUM('Davis Wade - West Ground'!E3:E34) | D2: =SUMIF('Davis Wade - West Ground'!G3:G34,"DAILY*",'Davis Wade - West Ground'!E3:E34)+SUMIF('Davis Wade - West Ground'!G3:G34,"WEEKLY*",'Davis Wade - West Ground'!E3:E34)+SUMIF('Davis Wade - West Ground'!G3:G34,"MONTHLY*",'Davis Wade - West Ground'!E3:E34)+SUMIF('Davis Wade - West Ground'!G3:G34,"QUARTERLY*",'Davis Wade - West Ground'!E3:E34) | E2: =SUMIF('Davis Wade - West Ground'!G3:G34,"*EVENT*",'Davis Wade - West Ground'!E3:E34)+SUMIF('Davis Wade - West Ground'!G3:G34,"GAMEDAY*",'Davis Wade - West Ground'!E3:E34)
A3: DAVIS WADE - WEST 100 | B3: =SUM('Davis Wade - West 100'!D3:D20) | C3: =SUM('Davis Wade - West 100'!E3:E20) | D3: =SUMIF('Davis Wade - West 100'!G3:G20,"DAILY*",'Davis Wade - West 100'!E3:E20)+SUMIF('Davis Wade - West 100'!G3:G20,"WEEKLY*",'Davis Wade - West 100'!E3:E20)+SUMIF('Davis Wade - West 100'!G3:G20,"MONTHLY*",'Davis Wade - West 100'!E3:E20)+SUMIF('Davis Wade - West 100'!G3:G20,"QUARTERLY*",'Davis Wade - West 100'!E3:E20) | E3: =SUMIF('Davis Wade - West 100'!G3:G20,"*EVENT*",'Davis Wade - West 100'!E3:E20)+SUMIF('Davis Wade - West 100'!G3:G20,"GAMEDAY*",'Davis Wade - West 100'!E3:E20)
A4: DAVIS WADE - WEST 200 | B4: =SUM('Davis Wade - West 200'!D3:D34) | C4: =SUM('Davis Wade - West 200'!E3:E34) | D4: =SUMIF('Davis Wade - West 200'!G3:G34,"DAILY*",'Davis Wade - West 200'!E3:E34)+SUMIF('Davis Wade - West 200'!G3:G34,"WEEKLY*",'Davis Wade - West 200'!E3:E34)+SUMIF('Davis Wade - West 200'!G3:G34,"MONTHLY*",'Davis Wade - West 200'!E3:E34)+SUMIF('Davis Wade - West 200'!G3:G34,"QUARTERLY*",'Davis Wade - West 200'!E3:E34) | E4: =SUMIF('Davis Wade - West 200'!G3:G34,"*EVENT*",'Davis Wade - West 200'!E3:E34)+SUMIF('Davis Wade - West 200'!G3:G34,"GAMEDAY*",'Davis Wade - West 200'!E3:E34)
A5: DAVIS WADE - WEST 300 | B5: =SUM('Davis Wade - West 300'!D3:D24) | C5: =SUM('Davis Wade - West 300'!E3:E24) | D5: =SUMIF('Davis Wade - West 300'!G3:G24,"DAILY*",'Davis Wade - West 300'!E3:E24)+SUMIF('Davis Wade - West 300'!G3:G24,"WEEKLY*",'Davis Wade - West 300'!E3:E24)+SUMIF('Davis Wade - West 300'!G3:G24,"MONTHLY*",'Davis Wade - West 300'!E3:E24)+SUMIF('Davis Wade - West 300'!G3:G24,"QUARTERLY*",'Davis Wade - West 300'!E3:E24) | E5: =SUMIF('Davis Wade - West 300'!G3:G24,"*EVENT*",'Davis Wade - West 300'!E3:E24)+SUMIF('Davis Wade - West 300'!G3:G24,"GAMEDAY*",'Davis Wade - West 300'!E3:E24)
A6: DAVIS WADE - NORTH GROUND | B6: =SUM('Davis Wade - North Ground'!D3:D100) | C6: =SUM('Davis Wade - North Ground'!E3:E100) | D6: =SUMIF('Davis Wade - North Ground'!G3:G100,"DAILY*",'Davis Wade - North Ground'!E3:E100)+SUMIF('Davis Wade - North Ground'!G3:G100,"WEEKLY*",'Davis Wade - North Ground'!E3:E100)+SUMIF('Davis Wade - North Ground'!G3:G100,"MONTHLY*",'Davis Wade - North Ground'!E3:E100)+SUMIF('Davis Wade - North Ground'!G3:G100,"QUARTERLY*",'Davis Wade - North Ground'!E3:E100) | E6: =SUMIF('Davis Wade - North Ground'!G3:G100,"*EVENT*",'Davis Wade - North Ground'!E3:E100)+SUMIF('Davis Wade - North Ground'!G3:G100,"GAMEDAY*",'Davis Wade - North Ground'!E3:E100)
A7: DAVIS WADE - NORTH MAIN | B7: =SUM('Davis Wade - North Main'!D3:D45) | C7: =SUM('Davis Wade - North Main'!E3:E45) | D7: =SUMIF('Davis Wade - North Main'!G3:G45,"DAILY*",'Davis Wade - North Main'!E3:E45)+SUMIF('Davis Wade - North Main'!G3:G45,"WEEKLY*",'Davis Wade - North Main'!E3:E45)+SUMIF('Davis Wade - North Main'!G3:G45,"MONTHLY*",'Davis Wade - North Main'!E3:E45)+SUMIF('Davis Wade - North Main'!G3:G45,"QUARTERLY*",'Davis Wade - North Main'!E3:E45) | E7: =SUMIF('Davis Wade - North Main'!G3:G45,"*EVENT*",'Davis Wade - North Main'!E3:E45)+SUMIF('Davis Wade - North Main'!G3:G45,"GAMEDAY*",'Davis Wade - North Main'!E3:E45)
A8: DAVIS WADE - NORTH STATE LEVEL | B8: =SUM('Davis Wade - North State Level'!D3:D57) | C8: =SUM('Davis Wade - North State Level'!E3:E57) | D8: =SUMIF('Davis Wade - North State Level'!G3:G57,"DAILY*",'Davis Wade - North State Level'!E3:E57)+SUMIF('Davis Wade - North State Level'!G3:G57,"WEEKLY*",'Davis Wade - North State Level'!E3:E57)+SUMIF('Davis Wade - North State Level'!G3:G57,"MONTHLY*",'Davis Wade - North State Level'!E3:E57)+SUMIF('Davis Wade - North State Level'!G3:G57,"QUARTERLY*",'Davis Wade - North State Level'!E3:E57) | E8: =SUMIF('Davis Wade - North State Level'!G3:G57,"*EVENT*",'Davis Wade - North State Level'!E3:E57)+SUMIF('Davis Wade - North State Level'!G3:G57,"GAMEDAY*",'Davis Wade - North State Level'!E3:E57)
A9: DAVIS WADE - NORTH SCOREBOARD LEVEL | B9: =SUM('Davis Wade - North Scoreboard'!D3:D29) | C9: =SUM('Davis Wade - North Scoreboard'!E3:E29) | D9: =SUMIF('Davis Wade - North Scoreboard'!G3:G29,"DAILY*",'Davis Wade - North Scoreboard'!E3:E29)+SUMIF('Davis Wade - North Scoreboard'!G3:G29,"WEEKLY*",'Davis Wade - North Scoreboard'!E3:E29)+SUMIF('Davis Wade - North Scoreboard'!G3:G29,"MONTHLY*",'Davis Wade - North Scoreboard'!E3:E29)+SUMIF('Davis Wade - North Scoreboard'!G3:G29,"QUARTERLY*",'Davis Wade - North Scoreboard'!E3:E29) | E9: =SUMIF('Davis Wade - North Scoreboard'!G3:G29,"*EVENT*",'Davis Wade - North Scoreboard'!E3:E29)+SUMIF('Davis Wade - North Scoreboard'!G3:G29,"GAMEDAY*",'Davis Wade - North Scoreboard'!E3:E29)
A10: DAVIS WADE - EAST GROUND | B10: =SUM('Davis Wade - East Ground'!D3:D35) | C10: =SUM('Davis Wade - East Ground'!E3:E35) | D10: =SUMIF('Davis Wade - East Ground'!G3:G35,"DAILY*",'Davis Wade - East Ground'!E3:E35)+SUMIF('Davis Wade - East Ground'!G3:G35,"WEEKLY*",'Davis Wade - East Ground'!E3:E35)+SUMIF('Davis Wade - East Ground'!G3:G35,"MONTHLY*",'Davis Wade - East Ground'!E3:E35)+SUMIF('Davis Wade - East Ground'!G3:G35,"QUARTERLY*",'Davis Wade - East Ground'!E3:E35) | E10: =SUMIF('Davis Wade - East Ground'!G3:G35,"*EVENT*",'Davis Wade - East Ground'!E3:E35)+SUMIF('Davis Wade - East Ground'!G3:G35,"GAMEDAY*",'Davis Wade - East Ground'!E3:E35)
A11: DAVIS WADE - EAST FLOYD WADE CLUB | B11: =SUM('Davis Wade - East Floyd Wade'!D3:D36) | C11: =SUM('Davis Wade - East Floyd Wade'!E3:E36) | D11: =SUMIF('Davis Wade - East Floyd Wade'!G3:G36,"DAILY*",'Davis Wade - East Floyd Wade'!E3:E36)+SUMIF('Davis Wade - East Floyd Wade'!G3:G36,"WEEKLY*",'Davis Wade - East Floyd Wade'!E3:E36)+SUMIF('Davis Wade - East Floyd Wade'!G3:G36,"MONTHLY*",'Davis Wade - East Floyd Wade'!E3:E36)+SUMIF('Davis Wade - East Floyd Wade'!G3:G36,"QUARTERLY*",'Davis Wade - East Floyd Wade'!E3:E36) | E11: =SUMIF('Davis Wade - East Floyd Wade'!G3:G36,"*EVENT*",'Davis Wade - East Floyd Wade'!E3:E36)+SUMIF('Davis Wade - East Floyd Wade'!G3:G36,"GAMEDAY*",'Davis Wade - East Floyd Wade'!E3:E36)
A12: DAVIS WADE - EAST SUITE LEVEL 1 | B12: =SUM('Davis Wade - East Suite Level 1'!D3:D112) | C12: =SUM('Davis Wade - East Suite Level 1'!E3:E112) | D12: =SUMIF('Davis Wade - East Suite Level 1'!G3:G112,"DAILY*",'Davis Wade - East Suite Level 1'!E3:E112)+SUMIF('Davis Wade - East Suite Level 1'!G3:G112,"WEEKLY*",'Davis Wade - East Suite Level 1'!E3:E112)+SUMIF('Davis Wade - East Suite Level 1'!G3:G112,"MONTHLY*",'Davis Wade - East Suite Level 1'!E3:E112)+SUMIF('Davis Wade - East Suite Level 1'!G3:G112,"QUARTERLY*",'Davis Wade - East Suite Level 1'!E3:E112) | E12: =SUMIF('Davis Wade - East Suite Level 1'!G3:G112,"*EVENT*",'Davis Wade - East Suite Level 1'!E3:E112)+SUMIF('Davis Wade - East Suite Level 1'!G3:G112,"GAMEDAY*",'Davis Wade - East Suite Level 1'!E3:E112)
A13: DAVIS WADE - EAST SUITE LEVEL 2 | B13: =SUM('Davis Wade - East Suite Level 2'!D3:D92) | C13: =SUM('Davis Wade - East Suite Level 2'!E3:E92) | D13: =SUMIF('Davis Wade - East Suite Level 2'!G3:G92,"DAILY*",'Davis Wade - East Suite Level 2'!E3:E92)+SUMIF('Davis Wade - East Suite Level 2'!G3:G92,"WEEKLY*",'Davis Wade - East Suite Level 2'!E3:E92)+SUMIF('Davis Wade - East Suite Level 2'!G3:G92,"MONTHLY*",'Davis Wade - East Suite Level 2'!E3:E92)+SUMIF('Davis Wade - East Suite Level 2'!G3:G92,"QUARTERLY*",'Davis Wade - East Suite Level 2'!E3:E92) | E13: =SUMIF('Davis Wade - East Suite Level 2'!G3:G92,"*EVENT*",'Davis Wade - East Suite Level 2'!E3:E92)+SUMIF('Davis Wade - East Suite Level 2'!G3:G92,"GAMEDAY*",'Davis Wade - East Suite Level 2'!E3:E92)
A14: DAVIS WADE - EAST SKYDECK | B14: =SUM('Davis Wade - East Skydeck'!D3:D39) | C14: =SUM('Davis Wade - East Skydeck'!E3:E39) | D14: =SUMIF('Davis Wade - East Skydeck'!G3:G39,"DAILY*",'Davis Wade - East Skydeck'!E3:E39)+SUMIF('Davis Wade - East Skydeck'!G3:G39,"WEEKLY*",'Davis Wade - East Skydeck'!E3:E39)+SUMIF('Davis Wade - East Skydeck'!G3:G39,"MONTHLY*",'Davis Wade - East Skydeck'!E3:E39)+SUMIF('Davis Wade - East Skydeck'!G3:G39,"QUARTERLY*",'Davis Wade - East Skydeck'!E3:E39) | E14: =SUMIF('Davis Wade - East Skydeck'!G3:G39,"*EVENT*",'Davis Wade - East Skydeck'!E3:E39)+SUMIF('Davis Wade - East Skydeck'!G3:G39,"GAMEDAY*",'Davis Wade - East Skydeck'!E3:E39)
A15: DAVIS WADE - MCLUB BUILDING | B15: =SUM('M-Club'!D3:D29) | C15: =SUM('M-Club'!E3:E29) | D15: =SUMIF('M-Club'!G3:G29,"DAILY*",'M-Club'!E3:E29)+SUMIF('M-Club'!G3:G29,"WEEKLY*",'M-Club'!E3:E29)+SUMIF('M-Club'!G3:G29,"MONTHLY*",'M-Club'!E3:E29)+SUMIF('M-Club'!G3:G29,"QUARTERLY*",'M-Club'!E3:E29) | E15: =SUMIF('M-Club'!G3:G29,"*EVENT*",'M-Club'!E3:E29)+SUMIF('M-Club'!G3:G29,"GAMEDAY*",'M-Club'!E3:E29)
A16: DAVIS WADE - TURMAN FIELDHOUSE | B16: =SUM('Turman Fieldhouse'!D3:D46) | C16: =SUM('Turman Fieldhouse'!E3:E46) | D16: =SUMIF('Turman Fieldhouse'!G3:G46,"DAILY*",'Turman Fieldhouse'!E3:E46)+SUMIF('Turman Fieldhouse'!G3:G46,"WEEKLY*",'Turman Fieldhouse'!E3:E46)+SUMIF('Turman Fieldhouse'!G3:G46,"MONTHLY*",'Turman Fieldhouse'!E3:E46)+SUMIF('Turman Fieldhouse'!G3:G46,"QUARTERLY*",'Turman Fieldhouse'!E3:E46) | E16: =SUMIF('Turman Fieldhouse'!G3:G46,"*EVENT*",'Turman Fieldhouse'!E3:E46)+SUMIF('Turman Fieldhouse'!G3:G46,"GAMEDAY*",'Turman Fieldhouse'!E3:E46)
A17: DAVIS WADE STADIUM SUBTOTAL | B17: =SUM(B2:B16) | C17: =SUM(C2:C16) | D17: =SUM(D2:D16) | E17: =SUM(E2:E16)
A18: DUDY NOBLE FIELD | B18: =SUM('Dudy Noble Field'!D3:D177) | C18: =SUM('Dudy Noble Field'!E3:E177) | D18: =SUMIF('Dudy Noble Field'!G3:G177,"DAILY*",'Dudy Noble Field'!E3:E177)+SUMIF('Dudy Noble Field'!G3:G177,"WEEKLY*",'Dudy Noble Field'!E3:E177)+SUMIF('Dudy Noble Field'!G3:G177,"MONTHLY*",'Dudy Noble Field'!E3:E177)+SUMIF('Dudy Noble Field'!G3:G177,"QUARTERLY*",'Dudy Noble Field'!E3:E177) | E18: =SUMIF('Dudy Noble Field'!G3:G177,"*EVENT*",'Dudy Noble Field'!E3:E177)+SUMIF('Dudy Noble Field'!G3:G177,"GAMEDAY*",'Dudy Noble Field'!E3:E177)
A19: HUMPHREY COLISEUM | B19: =SUM('Humphrey Coliseum'!D3:D221) | C19: =SUM('Humphrey Coliseum'!E3:E221) | D19: =SUMIF('Humphrey Coliseum'!G3:G221,"DAILY*",'Humphrey Coliseum'!E3:E221)+SUMIF('Humphrey Coliseum'!G3:G221,"WEEKLY*",'Humphrey Coliseum'!E3:E221)+SUMIF('Humphrey Coliseum'!G3:G221,"MONTHLY*",'Humphrey Coliseum'!E3:E221)+SUMIF('Humphrey Coliseum'!G3:G221,"QUARTERLY*",'Humphrey Coliseum'!E3:E221) | E19: =SUMIF('Humphrey Coliseum'!G3:G221,"*EVENT*",'Humphrey Coliseum'!E3:E221)+SUMIF('Humphrey Coliseum'!G3:G221,"GAMEDAY*",'Humphrey Coliseum'!E3:E221)
A20: MIZE PAVILION | B20: =SUM('Mize Pavilion'!D3:D82) | C20: =SUM('Mize Pavilion'!E3:E82) | D20: =SUMIF('Mize Pavilion'!G3:G82,"DAILY*",'Mize Pavilion'!E3:E82)+SUMIF('Mize Pavilion'!G3:G82,"WEEKLY*",'Mize Pavilion'!E3:E82)+SUMIF('Mize Pavilion'!G3:G82,"MONTHLY*",'Mize Pavilion'!E3:E82)+SUMIF('Mize Pavilion'!G3:G82,"QUARTERLY*",'Mize Pavilion'!E3:E82) | E20: =SUMIF('Mize Pavilion'!G3:G82,"*EVENT*",'Mize Pavilion'!E3:E82)+SUMIF('Mize Pavilion'!G3:G82,"GAMEDAY*",'Mize Pavilion'!E3:E82)
A21: NUSZ PARK | B21: =SUM('Nusz Park'!D3:D31) | C21: =SUM('Nusz Park'!E3:E31) | D21: =SUMIF('Nusz Park'!G3:G31,"DAILY*",'Nusz Park'!E3:E31)+SUMIF('Nusz Park'!G3:G31,"WEEKLY*",'Nusz Park'!E3:E31)+SUMIF('Nusz Park'!G3:G31,"MONTHLY*",'Nusz Park'!E3:E31)+SUMIF('Nusz Park'!G3:G31,"QUARTERLY*",'Nusz Park'!E3:E31) | E21: =SUMIF('Nusz Park'!G3:G31,"*EVENT*",'Nusz Park'!E3:E31)+SUMIF('Nusz Park'!G3:G31,"GAMEDAY*",'Nusz Park'!E3:E31)
A22: SOFTBALL INDOOR CLUBHOUSE | B22: =SUM('Softball Indoor Clubhouse'!D3:D20) | C22: =SUM('Softball Indoor Clubhouse'!E3:E20) | D22: =SUMIF('Softball Indoor Clubhouse'!G3:G20,"DAILY*",'Softball Indoor Clubhouse'!E3:E20)+SUMIF('Softball Indoor Clubhouse'!G3:G20,"WEEKLY*",'Softball Indoor Clubhouse'!E3:E20)+SUMIF('Softball Indoor Clubhouse'!G3:G20,"MONTHLY*",'Softball Indoor Clubhouse'!E3:E20)+SUMIF('Softball Indoor Clubhouse'!G3:G20,"QUARTERLY*",'Softball Indoor Clubhouse'!E3:E20) | E22: =SUMIF('Softball Indoor Clubhouse'!G3:G20,"*EVENT*",'Softball Indoor Clubhouse'!E3:E20)+SUMIF('Softball Indoor Clubhouse'!G3:G20,"GAMEDAY*",'Softball Indoor Clubhouse'!E3:E20)
A23: RULA TENNIS CENTER | B23: =SUM('Rula Tennis Center'!D3:D31) | C23: =SUM('Rula Tennis Center'!E3:E31) | D23: =SUMIF('Rula Tennis Center'!G3:G31,"DAILY*",'Rula Tennis Center'!E3:E31)+SUMIF('Rula Tennis Center'!G3:G31,"WEEKLY*",'Rula Tennis Center'!E3:E31)+SUMIF('Rula Tennis Center'!G3:G31,"MONTHLY*",'Rula Tennis Center'!E3:E31)+SUMIF('Rula Tennis Center'!G3:G31,"QUARTERLY*",'Rula Tennis Center'!E3:E31) | E23: =SUMIF('Rula Tennis Center'!G3:G31,"*EVENT*",'Rula Tennis Center'!E3:E31)+SUMIF('Rula Tennis Center'!G3:G31,"GAMEDAY*",'Rula Tennis Center'!E3:E31)
A24: A.J. PITTS TENNIS CENTER | B24: =SUM('A.J. Pitts Tennis Center'!D3:D31) | C24: =SUM('A.J. Pitts Tennis Center'!E3:E31) | D24: =SUMIF('A.J. Pitts Tennis Center'!G3:G31,"DAILY*",'A.J. Pitts Tennis Center'!E3:E31)+SUMIF('A.J. Pitts Tennis Center'!G3:G31,"WEEKLY*",'A.J. Pitts Tennis Center'!E3:E31)+SUMIF('A.J. Pitts Tennis Center'!G3:G31,"MONTHLY*",'A.J. Pitts Tennis Center'!E3:E31)+SUMIF('A.J. Pitts Tennis Center'!G3:G31,"QUARTERLY*",'A.J. Pitts Tennis Center'!E3:E31) | E24: =SUMIF('A.J. Pitts Tennis Center'!G3:G31,"*EVENT*",'A.J. Pitts Tennis Center'!E3:E31)+SUMIF('A.J. Pitts Tennis Center'!G3:G31,"GAMEDAY*",'A.J. Pitts Tennis Center'!E3:E31)
A25: NEWELL-GRISSOM BUILDING | B25: =SUM('Newell-Grissom Building'!D3:D52) | C25: =SUM('Newell-Grissom Building'!E3:E52) | D25: =SUMIF('Newell-Grissom Building'!G3:G52,"DAILY*",'Newell-Grissom Building'!E3:E52)+SUMIF('Newell-Grissom Building'!G3:G52,"WEEKLY*",'Newell-Grissom Building'!E3:E52)+SUMIF('Newell-Grissom Building'!G3:G52,"MONTHLY*",'Newell-Grissom Building'!E3:E52)+SUMIF('Newell-Grissom Building'!G3:G52,"QUARTERLY*",'Newell-Grissom Building'!E3:E52) | E25: =SUMIF('Newell-Grissom Building'!G3:G52,"*EVENT*",'Newell-Grissom Building'!E3:E52)+SUMIF('Newell-Grissom Building'!G3:G52,"GAMEDAY*",'Newell-Grissom Building'!E3:E52)
A26: SOCCER STADIUM | B26: =SUM('Soccer Stadium'!D3:D13) | C26: =SUM('Soccer Stadium'!E3:E13) | D26: =SUMIF('Soccer Stadium'!G3:G13,"DAILY*",'Soccer Stadium'!E3:E13)+SUMIF('Soccer Stadium'!G3:G13,"WEEKLY*",'Soccer Stadium'!E3:E13)+SUMIF('Soccer Stadium'!G3:G13,"MONTHLY*",'Soccer Stadium'!E3:E13)+SUMIF('Soccer Stadium'!G3:G13,"QUARTERLY*",'Soccer Stadium'!E3:E13) | E26: =SUMIF('Soccer Stadium'!G3:G13,"*EVENT*",'Soccer Stadium'!E3:E13)+SUMIF('Soccer Stadium'!G3:G13,"GAMEDAY*",'Soccer Stadium'!E3:E13)
A27: SOCCER CLUBHOUSE | B27: =SUM('Soccer Clubhouse'!D3:D22) | C27: =SUM('Soccer Clubhouse'!E3:E22) | D27: =SUMIF('Soccer Clubhouse'!G3:G22,"DAILY*",'Soccer Clubhouse'!E3:E22)+SUMIF('Soccer Clubhouse'!G3:G22,"WEEKLY*",'Soccer Clubhouse'!E3:E22)+SUMIF('Soccer Clubhouse'!G3:G22,"MONTHLY*",'Soccer Clubhouse'!E3:E22)+SUMIF('Soccer Clubhouse'!G3:G22,"QUARTERLY*",'Soccer Clubhouse'!E3:E22) | E27: =SUMIF('Soccer Clubhouse'!G3:G22,"*EVENT*",'Soccer Clubhouse'!E3:E22)+SUMIF('Soccer Clubhouse'!G3:G22,"GAMEDAY*",'Soccer Clubhouse'!E3:E22)
A28: BRYAN BUILDING | B28: =SUM('Bryan Building'!D3:D124) | C28: =SUM('Bryan Building'!E3:E124) | D28: =SUMIF('Bryan Building'!G3:G124,"DAILY*",'Bryan Building'!E3:E124)+SUMIF('Bryan Building'!G3:G124,"WEEKLY*",'Bryan Building'!E3:E124)+SUMIF('Bryan Building'!G3:G124,"MONTHLY*",'Bryan Building'!E3:E124)+SUMIF('Bryan Building'!G3:G124,"QUARTERLY*",'Bryan Building'!E3:E124) | E28: =SUMIF('Bryan Building'!G3:G124,"*EVENT*",'Bryan Building'!E3:E124)+SUMIF('Bryan Building'!G3:G124,"GAMEDAY*",'Bryan Building'!E3:E124)
A29: LEO SEAL | B29: =SUM('Leo Seal'!D5:D150) | C29: =SUM('Leo Seal'!E5:E150) | D29: =SUMIF('Leo Seal'!G5:G150,"DAILY*",'Leo Seal'!E5:E150)+SUMIF('Leo Seal'!G5:G150,"WEEKLY*",'Leo Seal'!E5:E150)+SUMIF('Leo Seal'!G5:G150,"MONTHLY*",'Leo Seal'!E5:E150)+SUMIF('Leo Seal'!G5:G150,"QUARTERLY*",'Leo Seal'!E5:E150) | E29: =SUMIF('Leo Seal'!G5:G150,"*EVENT*",'Leo Seal'!E5:E150)+SUMIF('Leo Seal'!G5:G150,"GAMEDAY*",'Leo Seal'!E5:E150)
A30: TEMPLETON | B30: =SUM('Templeton'!D3:D112) | C30: =SUM('Templeton'!E3:E112) | D30: =SUMIF('Templeton'!G3:G112,"DAILY*",'Templeton'!E3:E112)+SUMIF('Templeton'!G3:G112,"WEEKLY*",'Templeton'!E3:E112)+SUMIF('Templeton'!G3:G112,"MONTHLY*",'Templeton'!E3:E112)+SUMIF('Templeton'!G3:G112,"QUARTERLY*",'Templeton'!E3:E112) | E30: =SUMIF('Templeton'!G3:G112,"*EVENT*",'Templeton'!E3:E112)+SUMIF('Templeton'!G3:G112,"GAMEDAY*",'Templeton'!E3:E112)
A31: SHIRA | B31: =SUM('Shira'!D3:D146) | C31: =SUM('Shira'!E3:E146) | D31: =SUMIF('Shira'!G3:G146,"DAILY*",'Shira'!E3:E146)+SUMIF('Shira'!G3:G146,"WEEKLY*",'Shira'!E3:E146)+SUMIF('Shira'!G3:G146,"MONTHLY*",'Shira'!E3:E146)+SUMIF('Shira'!G3:G146,"QUARTERLY*",'Shira'!E3:E146) | E31: =SUMIF('Shira'!G3:G146,"*EVENT*",'Shira'!E3:E146)+SUMIF('Shira'!G3:G146,"GAMEDAY*",'Shira'!E3:E146)
A32: PALMEIRO | B32: =SUM('Palmeiro'!D3:D17) | C32: =SUM('Palmeiro'!E3:E17) | D32: =SUMIF('Palmeiro'!G3:G17,"DAILY*",'Palmeiro'!E3:E17)+SUMIF('Palmeiro'!G3:G17,"WEEKLY*",'Palmeiro'!E3:E17)+SUMIF('Palmeiro'!G3:G17,"MONTHLY*",'Palmeiro'!E3:E17)+SUMIF('Palmeiro'!G3:G17,"QUARTERLY*",'Palmeiro'!E3:E17) | E32: =SUMIF('Palmeiro'!G3:G17,"*EVENT*",'Palmeiro'!E3:E17)+SUMIF('Palmeiro'!G3:G17,"GAMEDAY*",'Palmeiro'!E3:E17)
A33: BASEBALL COACHES OFFICES | B33: =SUM('Baseball Coaches Offices'!D3:D29) | C33: =SUM('Baseball Coaches Offices'!E3:E29) | D33: =SUMIF('Baseball Coaches Offices'!G3:G29,"DAILY*",'Baseball Coaches Offices'!E3:E29)+SUMIF('Baseball Coaches Offices'!G3:G29,"WEEKLY*",'Baseball Coaches Offices'!E3:E29)+SUMIF('Baseball Coaches Offices'!G3:G29,"MONTHLY*",'Baseball Coaches Offices'!E3:E29)+SUMIF('Baseball Coaches Offices'!G3:G29,"QUARTERLY*",'Baseball Coaches Offices'!E3:E29) | E33: =SUMIF('Baseball Coaches Offices'!G3:G29,"*EVENT*",'Baseball Coaches Offices'!E3:E29)+SUMIF('Baseball Coaches Offices'!G3:G29,"GAMEDAY*",'Baseball Coaches Offices'!E3:E29)
A34: TOTAL (ALL BUILDINGS) | B34: =B17+SUM(B18:B33) | C34: =C17+SUM(C18:C33) | D34: =D17+SUM(D18:D33) | E34: =E17+SUM(E18:E33)

Sheet Legend
A1: LEGEND
A2: Column | B2: Meaning
A3: BUILDING / ROOM NO / SPACE DESCRIPTION | B3: Facility, room number and room use as listed for each space.
A4: NET SQ FT | B4: Total square footage of the space.
A5: CLEANABLE SQ FT | B5: Square footage the Custodial Contractor is responsible for cleaning. Equals Net SQ FT unless part of the space is excluded. Spaces that are not cleaned show NC.
A6: APPA LEVEL | B6: Required custodial cleaning level (APPA Operational Guidelines for Educational Facilities). Level 1 = Orderly Spotlessness (highest standard). Level 2 = Ordinary Tidiness.
A7: FREQUENCY | B7: How often the space is cleaned. See Frequency codes below.
A8: CLEANING WINDOW | B8: When the cleaning takes place. See Window codes below.
A10: Code | B10: Meaning
A11: NC | B11: Not Cleaned. The space is not part of the Custodial Contractor's scope. NC appears in Cleanable SQ FT, APPA Level, Frequency and Window, and the space is excluded from all cleanable totals. Includes mechanical, electrical, equipment and storage rooms, janitor/custodial closets and concession stands.
A13: Frequency code | B13: Meaning
A14: DAILY CLEAN | B14: Cleaned every day.
A15: DAILY CLEAN - SINGLE | B15: Cleaned once each day.
... A34: Davis Wade Stadium Subtotal | B34: Includes all Davis Wade tabs plus the M-Club and Turman Fieldhouse tabs.

Sheet Davis Wade - West Ground
A1: DAVIS WADE- WEST GROUND
A2: BUILDING | B2: ROOM NO | C2: SPACE DESCRIPTION | D2: NET SQ FT | E2: CLEANABLE SQ FT | F2: APPA LEVEL | G2: FREQUENCY | H2: CLEANING WINDOW
A3: DAVIS WADE - WEST GROUND | B3: 80 | C3: WEST SUB CONCESSION WAREHOUSE RAMP | D3: 812 | E3: NC | F3: NC | G3: NC | H3: NC
A4: DAVIS WADE - WEST GROUND | B4: 81 | C4: WEST SUB ATHLETIC STORAGE | D4: 5358 | E4: NC | F4: NC | G4: NC | H4: NC
A5: DAVIS WADE - WEST GROUND | B5: 81A | C5: WEST SUB FAN EXPERIENCE STORAGE | D5: 988 | E5: NC | F5: NC | G5: NC | H5: NC
A6: DAVIS WADE - WEST GROUND | B6: 81B | C6: WEST SUB GAME OPERATIONS STORAGE | D6: 631 | E6: NC | F6: NC | G6: NC | H6: NC
A7: DAVIS WADE - WEST GROUND | B7: 81C | C7: WEST SUB FACILITIES STORAGE | D7: 715 | E7: NC | F7: NC | G7: NC | H7: NC
A8: DAVIS WADE - WEST GROUND | B8: 81D | C8: WEST SUB CONCESSION WAREHOUSE | D8: 6677 | E8: NC | F8: NC | G8: NC | H8: NC
A9: DAVIS WADE - WEST GROUND | B9: 100 | C9: WEST GROUND ELEVATOR EQUIPMENT | D9: 65 | E9: NC | F9: NC | G9: NC | H9: NC
A10: DAVIS WADE - WEST GROUND | B10: 101 | C10: WEST GROUND TOILET | D10: 823 | E10: 823 | F10: 2 | G10: EVENT CLEAN | H10: FB PREP, FB GAMES, SPECIAL EVENTS
A11: DAVIS WADE - WEST GROUND | B11: 102 | C11: WEST GROUND CONCESSIONS | D11: 874 | E11: NC | F11: NC | G11: NC | H11: NC
A12: DAVIS WADE - WEST GROUND | B12: 103 | C12: WEST GROUND TOILET | D12: 874 | E12: 874 | F12: 2 | G12: EVENT CLEAN | H12: FB PREP, FB GAMES, SPECIAL EVENTS
A13: DAVIS WADE - WEST GROUND | B13: 104 | C13: WEST GROUND CELLULAR | D13: 213 | E13: NC | F13: NC | G13: NC | H13: NC
A14: DAVIS WADE - WEST GROUND | B14: 105 | C14: WEST GROUND COMMUNICATIONS | D14: 117 | E14: NC | F14: NC | G14: NC | H14: NC
A15: DAVIS WADE - WEST GROUND | B15: 106 | C15: WEST GROUND CONCESSIONS | D15: 597 | E15: NC | F15: NC | G15: NC | H15: NC
A16: DAVIS WADE - WEST GROUND | B16: 107 | C16: WEST GROUND ELEVATOR EQUIPMENT | D16: 83 | E16: NC | F16: NC | G16: NC | H16: NC
A17: DAVIS WADE - WEST GROUND | B17: 108 | C17: WEST GROUND TOILET | D17: 1547 | E17: 1547 | F17: 2 | G17: EVENT CLEAN | H17: FB PREP, FB GAMES, SPECIAL EVENTS
A18: DAVIS WADE - WEST GROUND | B18: 109 | C18: WEST GROUND CONCESSIONS | D18: 812 | E18: NC | F18: NC | G18: NC | H18: NC
A19: DAVIS WADE - WEST GROUND | B19: 110 | C19: WEST GROUND TOILET | D19: 1663 | E19: 1663 | F19: 2 | G19: EVENT CLEAN | H19: FB PREP, FB GAMES, SPECIAL EVENTS
A20: DAVIS WADE - WEST GROUND | B20: 111 | C20: WEST GROUND FIRST AID | D20: 200 | E20: 200 | F20: 2 | G20: EVENT CLEAN | H20: FB PREP, FB GAMES, SPECIAL EVENTS
A21: DAVIS WADE - WEST GROUND | B21: 111A | C21: WEST GROUND TOILET | D21: 53 | E21: 53 | F21: 2 | G21: EVENT CLEAN | H21: FB PREP, FB GAMES, SPECIAL EVENTS
A22: DAVIS WADE - WEST GROUND | B22: 112 | C22: WEST GROUND ELECTRICAL | D22: 1005 | E22: NC | F22: NC | G22: NC | H22: NC
A23: DAVIS WADE - WEST GROUND | B23: 113 | C23: WEST GROUND MECHANICAL | D23: 160 | E23: NC | F23: NC | G23: NC | H23: NC
A24: DAVIS WADE - WEST GROUND | B24: 114 | C24: WEST GROUND TOILET | D24: 1408 | E24: 1408 | F24: 2 | G24: EVENT CLEAN | H24: FB PREP, FB GAMES, SPECIAL EVENTS
A25: DAVIS WADE - WEST GROUND | B25: 115 | C25: WEST GROUND CONCESSIONS | D25: 1251 | E25: NC | F25: NC | G25: NC | H25: NC
A26: DAVIS WADE - WEST GROUND | B26: 117 | C26: WEST GROUND JANITOR CLOSET | D26: 46 | E26: NC | F26: NC | G26: NC | H26: NC
A27: DAVIS WADE - WEST GROUND | B27: 118 | C27: WEST GROUND CONCESSIONS | D27: 1514 | E27: NC | F27: NC | G27: NC | H27: NC
A28: DAVIS WADE - WEST GROUND | B28: 119 | C28: WEST GROUND TOILET | D28: 92 | E28: 92 | F28: 2 | G28: EVENT CLEAN | H28: FB PREP, FB GAMES, SPECIAL EVENTS
A29: DAVIS WADE - WEST GROUND | B29: 120 | C29: WEST GROUND ELECTRICAL/COMMUNICATIONS | D29: 168 | E29: NC | F29: NC | G29: NC | H29: NC
A30: DAVIS WADE - WEST GROUND | B30: 121 | C30: WEST GROUND TOILET | D30: 1418 | E30: 1418 | F30: 2 | G30: EVENT CLEAN | H30: FB PREP, FB GAMES, SPECIAL EVENTS
A31: DAVIS WADE - WEST GROUND | B31: 188 | C31: WEST GROUND SOUTH ELEVATOR | D31: 56 | E31: 56 | F31: 2 | G31: EVENT CLEAN | H31: FB PREP, FB GAMES, SPECIAL EVENTS
A32: DAVIS WADE - WEST GROUND | B32: 189 | C32: WEST GROUND SOUTH ELEVATOR | D32: 56 | E32: 56 | F32: 2 | G32: EVENT CLEAN | H32: FB PREP, FB GAMES, SPECIAL EVENTS
A33: DAVIS WADE - WEST GROUND | B33: 190 | C33: WEST GROUND CENTER ELEVATOR | D33: 67 | E33: 67 | F33: 2 | G33: EVENT CLEAN | H33: FB PREP, FB GAMES, SPECIAL EVENTS
A34: DAVIS WADE - WEST GROUND | B34: 191 | C34: WEST GROUND CONCOURSE | D34: 28379 | E34: 28379 | F34: 2 | G34: EVENT CLEAN | H34: FB PREP, FB GAMES, SPECIAL EVENTS
D35: =SUM(D3:D34) | E35: =SUM(E3:E34)

Sheet Davis Wade - West 100
A1: DAVIS WADE - WEST 100
A2: BUILDING | B2: ROOM NO | C2: SPACE DESCRIPTION | D2: NET SQ FT | E2: CLEANABLE SQ FT | F2: APPA LEVEL | G2: FREQUENCY | H2: CLEANING WINDOW
A3: DAVIS WADE - WEST 100 | B3: 201 | C3: 100 LEVEL CONCESSIONS | D3: 251 | E3: NC | F3: NC | G3: NC | H3: NC
A4: DAVIS WADE - WEST 100 | B4: 202 | C4: 100 LEVEL TOILET | D4: 396 | E4: 396 | F4: 2 | G4: EVENT CLEAN | H4: FB PREP, FB GAMES, SPECIAL EVENTS
A5: DAVIS WADE - WEST 100 | B5: 203 | C5: 100 LEVELTOILET | D5: 408 | E5: 408 | F5: 2 | G5: EVENT CLEAN | H5: FB PREP, FB GAMES, SPECIAL EVENTS
A6: DAVIS WADE - WEST 100 | B6: 204 | C6: 100 LEVEL STORAGE | D6: 97 | E6: NC | F6: NC | G6: NC | H6: NC
A7: DAVIS WADE - WEST 100 | B7: 205 | C7: PREMIUM - 100 LEVEL CORPORATE SUITE | D7: 537 | E7: 537 | F7: 2 | G7: EVENT CLEAN | H7: FB PREP, FB GAMES, SPECIAL EVENTS
A8: DAVIS WADE - WEST 100 | B8: 205A | C8: PREMIUM - 100 LEVEL CORPORATE SUITE TOILET | D8: 60 | E8: 60 | F8: 2 | G8: EVENT CLEAN | H8: FB PREP, FB GAMES, SPECIAL EVENTS
A9: DAVIS WADE - WEST 100 | B9: 205B | C9: PREMIUM - 100 LEVEL CORPORATE SUITE TOILET | D9: 60 | E9: 60 | F9: 2 | G9: EVENT CLEAN | H9: FB PREP, FB GAMES, SPECIAL EVENTS
A10: DAVIS WADE - WEST 100 | B10: 206 | C10: 100 LEVEL STORAGE | D10: 97 | E10: NC | F10: NC | G10: NC | H10: NC
A11: DAVIS WADE - WEST 100 | B11: 207 | C11: 100 LEVEL TOILET | D11: 408 | E11: 408 | F11: 2 | G11: EVENT CLEAN | H11: FB PREP, FB GAMES, SPECIAL EVENTS
A12: DAVIS WADE - WEST 100 | B12: 208 | C12: 100 LEVEL TOILET | D12: 395 | E12: 395 | F12: 2 | G12: EVENT CLEAN | H12: FB PREP, FB GAMES, SPECIAL EVENTS
A13: DAVIS WADE - WEST 100 | B13: 209 | C13: 100 LEVEL ELECTICAL | D13: 98 | E13: NC | F13: NC | G13: NC | H13: NC
A14: DAVIS WADE - WEST 100 | B14: 210 | C14: 100 LEVEL CONCESSIONS | D14: 251 | E14: NC | F14: NC | G14: NC | H14: NC
A15: DAVIS WADE - WEST 100 | B15: 255 | C15: 100 LEVEL CONCOURSE | D15: 8615 | E15: 8615 | F15: 2 | G15: EVENT CLEAN | H15: FB PREP, FB GAMES, SPECIAL EVENTS
A16: DAVIS WADE - WEST 100 | B16: 256 | C16: PREMIUM - CORPORATE SUITE ENTRANCE | D16: 43 | E16: 43 | F16: 2 | G16: EVENT CLEAN | H16: FB PREP, FB GAMES, SPECIAL EVENTS
A17: DAVIS WADE - WEST 100 | B17: 257 | C17: PREMIUM - CORPORATE SUITE ENTRANCE | D17: 43 | E17: 43 | F17: 2 | G17: EVENT CLEAN | H17: FB PREP, FB GAMES, SPECIAL EVENTS
A18: DAVIS WADE - WEST 100 | B18: 266 | C18: 100 LEVEL WEST ELEVATOR | D18: 68 | E18: 68 | F18: 2 | G18: EVENT CLEAN | H18: FB PREP, FB GAMES, SPECIAL EVENTS
A19: DAVIS WADE - WEST 100 | B19: 288 | C19: 100 LEVEL SOUTH WEST ELEVATOR | D19: 56 | E19: 56 | F19: 2 | G19: EVENT CLEAN | H19: FB PREP, FB GAMES, SPECIAL EVENTS
A20: DAVIS WADE - WEST 100 | B20: 289 | C20: 100 LEVEL SOUTH WEST ELEVATOR | D20: 56 | E20: 56 | F20: 2 | G20: EVENT CLEAN | H20: FB PREP, FB GAMES, SPECIAL EVENTS
D21: =SUM(D3:D20) | E21: =SUM(E3:E20)

Sheet Davis Wade - West 200
A1: DAVIS WADE - WEST 200
A2: BUILDING | B2: ROOM NO | C2: SPACE DESCRIPTION | D2: NET SQ FT | E2: CLEANABLE SQ FT | F2: APPA LEVEL | G2: FREQUENCY | H2: CLEANING WINDOW
A3: DAVIS WADE - WEST 200 | B3: 300 | C3: 200 LEVEL CONCESSIONS | D3: 251 | E3: NC | F3: NC | G3: NC | H3: NC
A4: DAVIS WADE - WEST 200 | B4: 301 | C4: 200 LEVEL TOILET | D4: 393 | E4: 393 | F4: 2 | G4: EVENT CLEAN | H4: FB PREP, FB GAMES, SPECIAL EVENTS
A5: DAVIS WADE - WEST 200 | B5: 302 | C5: 200 LEVEL TOILET | D5: 409 | E5: 409 | F5: 2 | G5: EVENT CLEAN | H5: FB PREP, FB GAMES, SPECIAL EVENTS
A6: DAVIS WADE - WEST 200 | B6: 303 | C6: 200 LEVEL PRESS BOX COMMUNICATION | D6: 70 | E6: NC | F6: NC | G6: NC | H6: NC
A7: DAVIS WADE - WEST 200 | B7: 304 | C7: 200 LEVEL PRESS BOX TOILET | D7: 115 | E7: 115 | F7: 2 | G7: EVENT CLEAN | H7: FB PREP, FB GAMES, SPECIAL EVENTS
A8: DAVIS WADE - WEST 200 | B8: 305 | C8: 200 LEVEL PRESS BOX PANTRY | D8: 125 | E8: 125 | F8: 2 | G8: EVENT CLEAN | H8: FB PREP, FB GAMES, SPECIAL EVENTS
A9: DAVIS WADE - WEST 200 | B9: 306 | C9: 200 LEVEL PRESS BOX | D9: 253 | E9: 253 | F9: 2 | G9: EVENT CLEAN | H9: FB PREP, FB GAMES, SPECIAL EVENTS
A10: DAVIS WADE - WEST 200 | B10: 307 | C10: 200 LEVEL PRESS BOX | D10: 108 | E10: 108 | F10: 2 | G10: EVENT CLEAN | H10: FB PREP, FB GAMES, SPECIAL EVENTS
A11: DAVIS WADE - WEST 200 | B11: 308 | C11: 200 LEVEL PRESS BOX | D11: 106 | E11: 106 | F11: 2 | G11: EVENT CLEAN | H11: FB PREP, FB GAMES, SPECIAL EVENTS
A12: DAVIS WADE - WEST 200 | B12: 309 | C12: 200 LEVEL PRESS BOX | D12: 108 | E12: 108 | F12: 2 | G12: EVENT CLEAN | H12: FB PREP, FB GAMES, SPECIAL EVENTS
A13: DAVIS WADE - WEST 200 | B13: 310 | C13: 200 LEVEL PRESS BOX | D13: 72 | E13: 72 | F13: 2 | G13: EVENT CLEAN | H13: FB PREP, FB GAMES, SPECIAL EVENTS
A14: DAVIS WADE - WEST 200 | B14: 310A | C14: 200 LEVEL PRESS BOX | D14: 36 | E14: 36 | F14: 2 | G14: EVENT CLEAN | H14: FB PREP, FB GAMES, SPECIAL EVENTS
A15: DAVIS WADE - WEST 200 | B15: 311 | C15: 200 LEVEL PRESS BOX | D15: 2730 | E15: 2730 | F15: 2 | G15: EVENT CLEAN | H15: FB PREP, FB GAMES, SPECIAL EVENTS
A16: DAVIS WADE - WEST 200 | B16: 311A | C16: 200 LEVEL PRESS BOX JANITOR CLOSET | D16: 20 | E16: NC | F16: NC | G16: NC | H16: NC
A17: DAVIS WADE - WEST 200 | B17: 312 | C17: 200 LEVEL PRESS BOX | D17: 1824 | E17: 1824 | F17: 2 | G17: EVENT CLEAN | H17: FB PREP, FB GAMES, SPECIAL EVENTS
A18: DAVIS WADE - WEST 200 | B18: 313 | C18: 200 LEVEL PRESS BOX STORAGE | D18: 137 | E18: NC | F18: NC | G18: NC | H18: NC
A19: DAVIS WADE - WEST 200 | B19: 314 | C19: 200 LEVEL PRESS BOX TOILET | D19: 209 | E19: 209 | F19: 2 | G19: EVENT CLEAN | H19: FB PREP, FB GAMES, SPECIAL EVENTS
A20: DAVIS WADE - WEST 200 | B20: 315 | C20: 200 LEVEL PRESS BOX | D20: 62 | E20: 62 | F20: 2 | G20: EVENT CLEAN | H20: FB PREP, FB GAMES, SPECIAL EVENTS
A21: DAVIS WADE - WEST 200 | B21: 316 | C21: 200 LEVEL PRESS BOX | D21: 181 | E21: 181 | F21: 2 | G21: EVENT CLEAN | H21: FB PREP, FB GAMES, SPECIAL EVENTS
A22: DAVIS WADE - WEST 200 | B22: 317 | C22: 200 LEVEL PRESS BOX | D22: 219 | E22: 219 | F22: 2 | G22: EVENT CLEAN | H22: FB PREP, FB GAMES, SPECIAL EVENTS
A23: DAVIS WADE - WEST 200 | B23: 318 | C23: 200 LEVEL PRESS BOX | D23: 108 | E23: 108 | F23: 2 | G23: EVENT CLEAN | H23: FB PREP, FB GAMES, SPECIAL EVENTS
A24: DAVIS WADE - WEST 200 | B24: 319 | C24: 200 LEVEL PRESS BOX | D24: 109 | E24: 109 | F24: 2 | G24: EVENT CLEAN | H24: FB PREP, FB GAMES, SPECIAL EVENTS
A25: DAVIS WADE - WEST 200 | B25: 320 | C25: 200 LEVEL PRESS BOX | D25: 253 | E25: 253 | F25: 2 | G25: EVENT CLEAN | H25: FB PREP, FB GAMES, SPECIAL EVENTS
A26: DAVIS WADE - WEST 200 | B26: 321 | C26: 200 LEVEL TOILET | D26: 407 | E26: 407 | F26: 2 | G26: EVENT CLEAN | H26: FB PREP, FB GAMES, SPECIAL EVENTS
A27: DAVIS WADE - WEST 200 | B27: 322 | C27: 200 LEVEL TOILET | D27: 394 | E27: 394 | F27: 2 | G27: EVENT CLEAN | H27: FB PREP, FB GAMES, SPECIAL EVENTS
A28: DAVIS WADE - WEST 200 | B28: 323 | C28: 200 LEVEL CONCESSIONS | D28: 251 | E28: NC | F28: NC | G28: NC | H28: NC
A29: DAVIS WADE - WEST 200 | B29: 353 | C29: 200 LEVEL ELEVATOR | D29: 68 | E29: 68 | F29: 2 | G29: EVENT CLEAN | H29: FB PREP, FB GAMES, SPECIAL EVENTS
A30: DAVIS WADE - WEST 200 | B30: 354 | C30: 200 LEVEL REAR CONCOURSE | D30: 1583 | E30: 1583 | F30: 2 | G30: EVENT CLEAN | H30: FB PREP, FB GAMES, SPECIAL EVENTS
A31: DAVIS WADE - WEST 200 | B31: 355 | C31: 200 LEVEL SOUTH CONCOURSE | D31: 2152 | E31: 2152 | F31: 2 | G31: EVENT CLEAN | H31: FB PREP, FB GAMES, SPECIAL EVENTS
A32: DAVIS WADE - WEST 200 | B32: 356 | C32: 200 LEVEL NORTH CONCOURSE | D32: 2240 | E32: 2240 | F32: 2 | G32: EVENT CLEAN | H32: FB PREP, FB GAMES, SPECIAL EVENTS
A33: DAVIS WADE - WEST 200 | B33: 388 | C33: 200 LEVEL SOUTH ELEVATOR | D33: 56 | E33: 56 | F33: 2 | G33: EVENT CLEAN | H33: FB PREP, FB GAMES, SPECIAL EVENTS
A34: DAVIS WADE - WEST 200 | B34: 389 | C34: 200 LEVEL SOUTH ELEVATOR | D34: 56 | E34: 56 | F34: 2 | G34: EVENT CLEAN | H34: FB PREP, FB GAMES, SPECIAL EVENTS
D35: =SUM(D3:D34) | E35: =SUM(E3:E34)

Sheet Davis Wade - West 300
A1: DAVIS WADE - WEST 300
A2: BUILDING | B2: ROOM NO | C2: SPACE DESCRIPTION | D2: NET SQ FT | E2: CLEANABLE SQ FT | F2: APPA LEVEL | G2: FREQUENCY | H2: CLEANING WINDOW
A3: DAVIS WADE - WEST 300 | B3: 400 | C3: 300 LEVEL CONCESSIONS | D3: 694 | E3: NC | F3: NC | G3: NC | H3: NC
A4: DAVIS WADE - WEST 300 | B4: 400A | C4: 300 LEVEL ELECTRICAL | D4: 99 | E4: NC | F4: NC | G4: NC | H4: NC
A5: DAVIS WADE - WEST 300 | B5: 401 | C5: 300 LEVEL TOILET | D5: 387 | E5: 387 | F5: 2 | G5: EVENT CLEAN | H5: FB PREP, FB GAMES, SPECIAL EVENTS
A6: DAVIS WADE - WEST 300 | B6: 402 | C6: 300 LEVEL TOILET | D6: 422 | E6: 422 | F6: 2 | G6: EVENT CLEAN | H6: FB PREP, FB GAMES, SPECIAL EVENTS
A7: DAVIS WADE - WEST 300 | B7: 403 | C7: 300 LEVEL CONCESSIONS | D7: 431 | E7: NC | F7: NC | G7: NC | H7: NC
A8: DAVIS WADE - WEST 300 | B8: 404 | C8: 300 LEVEL CUSTODIAL CLOSET | D8: 20 | E8: NC | F8: NC | G8: NC | H8: NC
A9: DAVIS WADE - WEST 300 | B9: 405 | C9: 300 LEVEL TOILET | D9: 255 | E9: 255 | F9: 2 | G9: EVENT CLEAN | H9: FB PREP, FB GAMES, SPECIAL EVENTS
A10: DAVIS WADE - WEST 300 | B10: 406 | C10: 300 LEVEL FIRST AID | D10: 274 | E10: 274 | F10: 2 | G10: EVENT CLEAN | H10: FB PREP, FB GAMES, SPECIAL EVENTS
A11: DAVIS WADE - WEST 300 | B11: 406A | C11: 300 LEVEL FIRST AID TOILET | D11: 87 | E11: 87 | F11: 2 | G11: EVENT CLEAN | H11: FB PREP, FB GAMES, SPECIAL EVENTS
A12: DAVIS WADE - WEST 300 | B12: 406B | C12: 300 LEVEL FIRST AID CLOSET | D12: 37 | E12: NC | F12: NC | G12: NC | H12: NC
A13: DAVIS WADE - WEST 300 | B13: 408 | C13: 300 LEVEL CONCESSIONS | D13: 270 | E13: NC | F13: NC | G13: NC | H13: NC
A14: DAVIS WADE - WEST 300 | B14: 408A | C14: 300 LEVEL CONCESSIONS | D14: 294 | E14: NC | F14: NC | G14: NC | H14: NC
A15: DAVIS WADE - WEST 300 | B15: 409 | C15: 300 LEVEL TOILET | D15: 422 | E15: 422 | F15: 2 | G15: EVENT CLEAN | H15: FB PREP, FB GAMES, SPECIAL EVENTS
A16: DAVIS WADE - WEST 300 | B16: 410 | C16: 300 LEVEL TOILET | D16: 386 | E16: 386 | F16: 2 | G16: EVENT CLEAN | H16: FB PREP, FB GAMES, SPECIAL EVENTS
A17: DAVIS WADE - WEST 300 | B17: 411 | C17: 300 LEVEL CONCESSIONS | D17: 427 | E17: NC | F17: NC | G17: NC | H17: NC
A18: DAVIS WADE - WEST 300 | B18: 411B | C18: 300 LEVEL CONCESSIONS | D18: 217 | E18: NC | F18: NC | G18: NC | H18: NC
A19: DAVIS WADE - WEST 300 | B19: 412 | C19: 300 LEVEL ELEVATOR | D19: 68 | E19: 68 | F19: 2 | G19: EVENT CLEAN | H19: FB PREP, FB GAMES, SPECIAL EVENTS
A20: DAVIS WADE - WEST 300 | B20: 413 | C20: 300 LEVEL ELECTRICAL SOUTH | D20: 90 | E20: NC | F20: NC | G20: NC | H20: NC
A21: DAVIS WADE - WEST 300 | B21: 413A | C21: 300 LEVEL ELECTRICAL NORTH | D21: 199 | E21: NC | F21: NC | G21: NC | H21: NC
A22: DAVIS WADE - WEST 300 | C22: 300 LEVEL BALCONIES SOUTH | D22: 5316 | E22: 5316 | F22: 2 | G22: EVENT CLEAN | H22: FB PREP, FB GAMES, SPECIAL EVENTS
A23: DAVIS WADE - WEST 300 | C23: 300 LEVEL BALCONIES NORTH | D23: 5398 | E23: 5398 | F23: 2 | G23: EVENT CLEAN | H23: FB PREP, FB GAMES, SPECIAL EVENTS
A24: DAVIS WADE - WEST 300 | B24: 466 | C24: PUBLIC CONCOURSE | D24: 9461 | E24: 9461 | F24: 2 | G24: EVENT CLEAN | H24: FB PREP, FB GAMES, SPECIAL EVENTS
D25: =SUM(D3:D24) | E25: =SUM(E3:E24)

Sheet Davis Wade - North Ground
A1: DAVIS WADE - NORTH GROUND
A2: BUILDING | B2: ROOM NO | C2: SPACE DESCRIPTION | D2: NET SQ FT | E2: CLEANABLE SQ FT | F2: APPA LEVEL | G2: FREQUENCY | H2: CLEANING WINDOW
A3: DAVIS WADE - NORTH GROUND | B3: 1 | C3: NORTH GROUND COMMUNICATIONS | D3: 437 | E3: NC | F3: NC | G3: NC | H3: NC
A4: DAVIS WADE - NORTH GROUND | B4: 2 | C4: NORTH GROUND ELECTRICAL | D4: 134 | E4: NC | F4: NC | G4: NC | H4: NC
A5: DAVIS WADE - NORTH GROUND | B5: 3 | C5: NORTH GROUND MECHANICAL | D5: 2514 | E5: NC | F5: NC | G5: NC | H5: NC
A6: DAVIS WADE - NORTH GROUND | B6: 4 | C6: NORTH GROUND TEAM LOCKER ROOM | D6: 3206 | E6: 3206 | F6: 2 | G6: AUG-DEC: EVENT CLEAN; JAN-JULY: MONTHLY | H6: FB PREP, FB GAMES, SPECIAL EVENTS
A7: DAVIS WADE - NORTH GROUND | B7: 004A | C7: NORTH GROUND TEAM TRAINING ROOM | D7: 585 | E7: 585 | F7: 2 | G7: AUG-DEC: EVENT CLEAN; JAN-JULY: MONTHLY | H7: FB PREP, FB GAMES, SPECIAL EVENTS
A8: DAVIS WADE - NORTH GROUND | B8: 004B | C8: NORTH GROUND TEAM COACHES LOUNGE | D8: 322 | E8: 322 | F8: 2 | G8: AUG-DEC: EVENT CLEAN; JAN-JULY: MONTHLY | H8: FB PREP, FB GAMES, SPECIAL EVENTS
A9: DAVIS WADE - NORTH GROUND | B9: 004C | C9: NORTH GROUND TEAM EQUIPMENT ROOM | D9: 816 | E9: NC | F9: NC | G9: NC | H9: NC
A10: DAVIS WADE - NORTH GROUND | B10: 004D | C10: NORTH GROUND CUSTODIAL CLOSET | D10: 42 | E10: NC | F10: NC | G10: NC | H10: NC
A11: DAVIS WADE - NORTH GROUND | B11: 004E | C11: NORTH GROUND HOME TEAM TOILET/SHOWER | D11: 1429 | E11: 1429 | F11: 2 | G11: AUG-DEC: EVENT CLEAN; JAN-JULY: MONTHLY | H11: FB PREP, FB GAMES, SPECIAL EVENTS
A12: DAVIS WADE - NORTH GROUND | B12: 004F | C12: NORTH GROUND STORAGE | D12: 27 | E12: NC | F12: NC | G12: NC | H12: NC
A13: DAVIS WADE - NORTH GROUND | B13: 004G | C13: NORTH GROUND HOME TEAM COACHES LOCKER ROOM | D13: 283 | E13: 283 | F13: 2 | G13: AUG-DEC: EVENT CLEAN; JAN-JULY: MONTHLY | H13: FB PREP, FB GAMES, SPECIAL EVENTS
A14: DAVIS WADE - NORTH GROUND | B14: 004H | C14: NORTH GROUND HOME TEAM COACHES TOILET/SHOWER | D14: 321 | E14: 321 | F14: 2 | G14: AUG-DEC: EVENT CLEAN; JAN-JULY: MONTHLY | H14: FB PREP, FB GAMES, SPECIAL EVENTS
A15: DAVIS WADE - NORTH GROUND | B15: 5 | C15: NORTH GROUND TICKET OFFICE | D15: 657 | E15: 657 | F15: 2 | G15: AUG-DEC: EVENT CLEAN; JAN-JULY: MONTHLY | H15: FB PREP, FB GAMES, SPECIAL EVENTS
A16: DAVIS WADE - NORTH GROUND | B16: 005A | C16: NORTH GROUND TOILET | D16: 57 | E16: 57 | F16: 2 | G16: DAILY CLEAN | H16: 7:00PM-7:00AM
A17: DAVIS WADE - NORTH GROUND | B17: 005B | C17: NORTH GROUND OFFICE | D17: 192 | E17: 192 | F17: 2 | G17: DAILY CLEAN | H17: 7:00PM-7:00AM
A18: DAVIS WADE - NORTH GROUND | B18: 6 | C18: NORTH GROUND MECHANICAL | D18: 101 | E18: NC | F18: NC | G18: NC | H18: NC
A19: DAVIS WADE - NORTH GROUND | B19: 7 | C19: NORTH GROUND ELECTRICAL | D19: 554 | E19: NC | F19: NC | G19: NC | H19: NC
A20: DAVIS WADE - NORTH GROUND | B20: 8 | C20: NORTH GROUND MECHANICAL | D20: 3234 | E20: NC | F20: NC | G20: NC | H20: NC
A21: DAVIS WADE - NORTH GROUND | B21: 008A | C21: NORTH GROUND COMMUNICATIONS | D21: 120 | E21: NC | F21: NC | G21: NC | H21: NC
A22: DAVIS WADE - NORTH GROUND | B22: 9 | C22: NORTH GROUND RECRUITING LOUNGE | D22: 2149 | E22: 2149 | F22: 2 | G22: DAILY CLEAN | H22: 7:00PM-7:00AM
A23: DAVIS WADE - NORTH GROUND | B23: 009A | C23: NORTH GROUND CLOSET | D23: 27 | E23: NC | F23: NC | G23: NC | H23: NC
A24: DAVIS WADE - NORTH GROUND | B24: 009B | C24: NORTH GROUND CLOSET | D24: 12 | E24: NC | F24: NC | G24: NC | H24: NC
A25: DAVIS WADE - NORTH GROUND | B25: 009C | C25: NORTH GROUND TOILET | D25: 332 | E25: 332 | F25: 2 | G25: DAILY CLEAN | H25: 7:00PM-7:00AM
A26: DAVIS WADE - NORTH GROUND | B26: 009D | C26: NORTH GROUND TOILET | D26: 252 | E26: 252 | F26: 2 | G26: DAILY CLEAN | H26: 7:00PM-7:00AM
A27: DAVIS WADE - NORTH GROUND | B27: 10 | C27: NORTH GROUND HOME ASST COACHES LOCKER ROOM | D27: 484 | E27: 484 | F27: 2 | G27: AUG-DEC: EVENT CLEAN; JAN-JULY: MONTHLY | H27: FB PREP, FB GAMES, SPECIAL EVENTS
A28: DAVIS WADE - NORTH GROUND | B28: 010A | C28: NORTH GROUND HOME ASST COACHES TOILET/LOCKER | D28: 324 | E28: 324 | F28: 2 | G28: AUG-DEC: EVENT CLEAN; JAN-JULY: MONTHLY | H28: FB PREP, FB GAMES, SPECIAL EVENTS
A29: DAVIS WADE - NORTH GROUND | B29: 11 | C29: NORTH GROUND PREMIUM CATERING KITCHEN | D29: 2724 | E29: NC | F29: NC | G29: NC | H29: NC
A30: DAVIS WADE - NORTH GROUND | B30: 011A | C30: NORTH GROUND PREMIUM CATERING STORAGE | D30: 96 | E30: NC | F30: NC | G30: NC | H30: NC
A31: DAVIS WADE - NORTH GROUND | B31: 011B | C31: NORTH GROUND PREMIUM CATERING OFFICE | D31: 106 | E31: NC | F31: NC | G31: NC | H31: NC
A32: DAVIS WADE - NORTH GROUND | B32: 011C | C32: NORTH GROUND PREMIUM CATERING OFFICE | D32: 119 | E32: NC | F32: NC | G32: NC | H32: NC
A33: DAVIS WADE - NORTH GROUND | B33: 011D | C33: NORTH GROUND PREMIUM CATERING OFFICE | D33: 126 | E33: NC | F33: NC | G33: NC | H33: NC
A34: DAVIS WADE - NORTH GROUND | B34: 011E | C34: NORTH GROUND PREMIUM CATERING STORAGE | D34: 50 | E34: NC | F34: NC | G34: NC | H34: NC
A35: DAVIS WADE - NORTH GROUND | B35: 11F | C35: NORTH GROUND ELECTRICAL | D35: 983 | E35: NC | F35: NC | G35: NC | H35: NC
A36: DAVIS WADE - NORTH GROUND | B36: 011G | C36: NORTH GROUND CORRIDOR | D36: 303 | E36: NC | F36: NC | G36: NC | H36: NC
A37: DAVIS WADE - NORTH GROUND | B37: 011H | C37: NORTH GROUND PREMIUM CATERING | D37: 436 | E37: NC | F37: NC | G37: NC | H37: NC
A38: DAVIS WADE - NORTH GROUND | B38: 011I | C38: NORTH GROUND PREMIUM CATERING | D38: 285 | E38: NC | F38: NC | G38: NC | H38: NC
A39: DAVIS WADE - NORTH GROUND | B39: 011J | C39: NORTH GROUND PREMIUM CATERING | D39: 218 | E39: NC | F39: NC | G39: NC | H39: NC
A40: DAVIS WADE - NORTH GROUND | B40: 011K | C40: NORTH GROUND PREMIUM CATERING COOLER/FREEZER | D40: 328 | E40: NC | F40: NC | G40: NC | H40: NC
...

Sheet Davis Wade - North Main
A1: DAVIS WADE - NORTH MAIN
A2: BUILDING | B2: ROOM NO | C2: SPACE DESCRIPTION | D2: NET SQ FT | E2: CLEANABLE SQ FT | F2: APPA LEVEL | G2: FREQUENCY | H2: CLEANING WINDOW
A3: DAVIS WADE - NORTH MAIN | B3: 122 | C3: NORTH MAIN MECHANICAL | D3: 199 | E3: NC | F3: NC | G3: NC | H3: NC
A4: DAVIS WADE - NORTH MAIN | B4: 123 | C4: NORTH MAIN ELECTRICAL | D4: 212 | E4: NC | F4: NC | G4: NC | H4: NC
A5: DAVIS WADE - NORTH MAIN | B5: 124 | C5: NORTH MAIN TOILET | D5: 1127 | E5: 1127 | F5: 2 | G5: EVENT CLEAN | H5: FB PREP, FB GAMES, SPECIAL EVENTS
A6: DAVIS WADE - NORTH MAIN | B6: 125 | C6: NORTH MAIN JANITOR CLOSET | D6: 76 | E6: NC | F6: NC | G6: NC | H6: NC
A7: DAVIS WADE - NORTH MAIN | B7: 126 | C7: NORTH MAIN TOILET | D7: 56 | E7: 56 | F7: 2 | G7: EVENT CLEAN | H7: FB PREP, FB GAMES, SPECIAL EVENTS
A8: DAVIS WADE - NORTH MAIN | B8: 127 | C8: NORTH MAIN TOILET | D8: 1077 | E8: 1077 | F8: 2 | G8: EVENT CLEAN | H8: FB PREP, FB GAMES, SPECIAL EVENTS
A9: DAVIS WADE - NORTH MAIN | B9: 128 | C9: NORTH MAIN CONCESSIONS STORAGE | D9: 670 | E9: NC | F9: NC | G9: NC | H9: NC
A10: DAVIS WADE - NORTH MAIN | B10: 129 | C10: NORTH MAIN GRIDIRON PREMIUM STAIRWAY | D10: 638 | E10: 638 | F10: 2 | G10: EVENT CLEAN | H10: FB PREP, FB GAMES, SPECIAL EVENTS
A11: DAVIS WADE - NORTH MAIN | B11: 130 | C11: NORTH MAIN FIRST AID | D11: 146 | E11: 146 | F11: 2 | G11: EVENT CLEAN | H11: FB PREP, FB GAMES, SPECIAL EVENTS
A12: DAVIS WADE - NORTH MAIN | B12: 130A | C12: NORTH MAIN TOILET | D12: 64 | E12: 64 | F12: 2 | G12: EVENT CLEAN | H12: FB PREP, FB GAMES, SPECIAL EVENTS
A13: DAVIS WADE - NORTH MAIN | B13: 132 | C13: NORTH MAIN CONCESSIONS OFFICE | D13: 160 | E13: NC | F13: NC | G13: NC | H13: NC
A14: DAVIS WADE - NORTH MAIN | B14: 132A | C14: NORTH MAIN CONCESSIONS OFFICE | D14: 105 | E14: NC | F14: NC | G14: NC | H14: NC
A15: DAVIS WADE - NORTH MAIN | B15: 133 | C15: NORTH MAIN CONCESSIONS | D15: 1159 | E15: NC | F15: NC | G15: NC | H15: NC
A16: DAVIS WADE - NORTH MAIN | B16: 134 | C16: NORTH MAIN TOILET | D16: 800 | E16: 800 | F16: 2 | G16: EVENT CLEAN | H16: FB PREP, FB GAMES, SPECIAL EVENTS
A17: DAVIS WADE - NORTH MAIN | B17: 135 | C17: NORTH MAIN TOILET | D17: 774 | E17: 774 | F17: 2 | G17: EVENT CLEAN | H17: FB PREP, FB GAMES, SPECIAL EVENTS
A18: DAVIS WADE - NORTH MAIN | B18: 136 | C18: NORTH MAIN CUSTODIAL CLOSET | D18: 43 | E18: NC | F18: NC | G18: NC | H18: NC
A19: DAVIS WADE - NORTH MAIN | B19: 137 | C19: NORTH MAIN TOILET | D19: 1158 | E19: 1158 | F19: 2 | G19: EVENT CLEAN | H19: FB PREP, FB GAMES, SPECIAL EVENTS
A20: DAVIS WADE - NORTH MAIN | B20: 138 | C20: NORTH MAIN CONCESSIONS | D20: 1964 | E20: NC | F20: NC | G20: NC | H20: NC
A21: DAVIS WADE - NORTH MAIN | B21: 139 | C21: NORTH MAIN CONCESSIONS STORAGE | D21: 215 | E21: NC | F21: NC | G21: NC | H21: NC
A22: DAVIS WADE - NORTH MAIN | B22: 140 | C22: NORTH MAIN CONCESSIONS OFFICE | D22: 133 | E22: NC | F22: NC | G22: NC | H22: NC
A23: DAVIS WADE - NORTH MAIN | B23: 141 | C23: NORTH MAIN COMMUNICATIONS | D23: 92 | E23: NC | F23: NC | G23: NC | H23: NC
A24: DAVIS WADE - NORTH MAIN | B24: 142 | C24: NORTH MAIN TOILET | D24: 1078 | E24: 1078 | F24: 2 | G24: EVENT CLEAN | H24: FB PREP, FB GAMES, SPECIAL EVENTS
A25: DAVIS WADE - NORTH MAIN | B25: 143 | C25: NORTH MAIN TOILET | D25: 56 | E25: 56 | F25: 2 | G25: EVENT CLEAN | H25: FB PREP, FB GAMES, SPECIAL EVENTS
A26: DAVIS WADE - NORTH MAIN | B26: 144 | C26: NORTH MAIN TOILET | D26: 1115 | E26: 1115 | F26: 2 | G26: EVENT CLEAN | H26: FB PREP, FB GAMES, SPECIAL EVENTS
A27: DAVIS WADE - NORTH MAIN | B27: 145 | C27: NORTH MAIN CUSTODIAL CLOSET | D27: 76 | E27: NC | F27: NC | G27: NC | H27: NC
A28: DAVIS WADE - NORTH MAIN | B28: 171 | C28: NORTH MAIN NORTH WEST ELEVATOR | D28: 56 | E28: 56 | F28: 2 | G28: EVENT CLEAN | H28: FB PREP, FB GAMES, SPECIAL EVENTS
A29: DAVIS WADE - NORTH MAIN | B29: 172 | C29: NORTH MAIN NORTH WEST ELEVATOR | D29: 56 | E29: 56 | F29: 2 | G29: EVENT CLEAN | H29: FB PREP, FB GAMES, SPECIAL EVENTS
A30: DAVIS WADE - NORTH MAIN | B30: 173 | C30: NORTH MAIN NORTH ELEVATOR | D30: 50 | E30: 50 | F30: 2 | G30: EVENT CLEAN | H30: FB PREP, FB GAMES, SPECIAL EVENTS
A31: DAVIS WADE - NORTH MAIN | B31: 174 | C31: NORTH MAIN NORTH ELEVATOR | D31: 50 | E31: 50 | F31: 2 | G31: EVENT CLEAN | H31: FB PREP, FB GAMES, SPECIAL EVENTS
A32: DAVIS WADE - NORTH MAIN | B32: 175 | C32: NORTH MAIN NORTH GRAND STAIRWAY | D32: 1680 | E32: 1680 | F32: 2 | G32: EVENT CLEAN | H32: FB PREP, FB GAMES, SPECIAL EVENTS
A33: DAVIS WADE - NORTH MAIN | B33: 176 | C33: NORTH MAIN SERVICE ELEVATOR | D33: 56 | E33: 56 | F33: 2 | G33: EVENT CLEAN | H33: FB PREP, FB GAMES, SPECIAL EVENTS
A34: DAVIS WADE - NORTH MAIN | B34: 177 | C34: NORTH MAIN STAIRWAY | D34: 304 | E34: 304 | F34: 2 | G34: EVENT CLEAN | H34: FB PREP, FB GAMES, SPECIAL EVENTS
A35: DAVIS WADE - NORTH MAIN | B35: 178 | C35: NORTH MAIN STAIRWAY | D35: 359 | E35: 359 | F35: 2 | G35: EVENT CLEAN | H35: FB PREP, FB GAMES, SPECIAL EVENTS
A36: DAVIS WADE - NORTH MAIN | B36: 179 | C36: NORTH MAIN STAIRWAY | D36: 433 | E36: 433 | F36: 2 | G36: EVENT CLEAN | H36: FB PREP, FB GAMES, SPECIAL EVENTS
A37: DAVIS WADE - NORTH MAIN | B37: 180 | C37: NORTH MAIN VOMITORY | D37: 386 | E37: 386 | F37: 2 | G37: EVENT CLEAN | H37: FB PREP, FB GAMES, SPECIAL EVENTS
A38: DAVIS WADE - NORTH MAIN | B38: 181 | C38: NORTH MAIN VOMITORY | D38: 388 | E38: 388 | F38: 2 | G38: EVENT CLEAN | H38: FB PREP, FB GAMES, SPECIAL EVENTS
A39: DAVIS WADE - NORTH MAIN | B39: 182 | C39: NORTH MAIN VOMITORY | D39: 613 | E39: 613 | F39: 2 | G39: EVENT CLEAN | H39: FB PREP, FB GAMES, SPECIAL EVENTS
... A44: DAVIS WADE - NORTH MAIN | B44: 187 | C44: NORTH MAIN CONCOURSE | D44: 32217 | E44: 32217 | F44: 2 | G44: EVENT CLEAN | H44: FB PREP, FB GAMES, SPECIAL EVENTS
...

Sheet Davis Wade - North State Level
A1: DAVIS WADE - NORTH STATE LEVEL
A2: BUILDING | B2: ROOM NO | C2: SPACE DESCRIPTION | D2: NET SQ FT | E2: CLEANABLE SQ FT | F2: APPA LEVEL | G2: FREQUENCY | H2: CLEANING WINDOW
A3: DAVIS WADE - STATE LEVEL | B3: 211 | C3: PREMIUM - STATE TOILET | D3: 221 | E3: 221 | F3: 2 | G3: EVENT CLEAN | H3: FB PREP, FB GAMES, SPECIAL EVENTS
A4: DAVIS WADE - STATE LEVEL | B4: 212 | C4: PREMIUM - STATE TOILET | D4: 203 | E4: 203 | F4: 2 | G4: EVENT CLEAN | H4: FB PREP, FB GAMES, SPECIAL EVENTS
A5: DAVIS WADE - STATE LEVEL | B5: 213 | C5: PREMIUM - STATE CATERING | D5: 455 | E5: NC | F5: NC | G5: NC | H5: NC
A6: DAVIS WADE - STATE LEVEL | B6: 214 | C6: PREMIUM - STATE COMMUNICATIONS | D6: 21 | E6: NC | F6: NC | G6: NC | H6: NC
A7: DAVIS WADE - STATE LEVEL | B7: 215 | C7: PREMIUM - STATE TOILET | D7: 381 | E7: 381 | F7: 2 | G7: EVENT CLEAN | H7: FB PREP, FB GAMES, SPECIAL EVENTS
A8: DAVIS WADE - STATE LEVEL | B8: 216 | C8: PREMIUM - STATE TOILET | D8: 335 | E8: 335 | F8: 2 | G8: EVENT CLEAN | H8: FB PREP, FB GAMES, SPECIAL EVENTS
A9: DAVIS WADE - STATE LEVEL | B9: 217 | C9: PREMIUM - STATE COMMUNICATIONS | D9: 110 | E9: NC | F9: NC | G9: NC | H9: NC
A10: DAVIS WADE - STATE LEVEL | B10: 218 | C10: PREMIUM - STATE CONFERENCE ROOM | D10: 817 | E10: 817 | F10: 2 | G10: EVENT CLEAN | H10: FB PREP, FB GAMES, SPECIAL EVENTS
A11: DAVIS WADE - STATE LEVEL | B11: 218A | C11: PREMIUM - STATE CLOSET | D11: 116 | E11: NC | F11: NC | G11: NC | H11: NC
A12: DAVIS WADE - STATE LEVEL | B12: 219 | C12: PREMIUM - STORAGE | D12: 106 | E12: NC | F12: NC | G12: NC | H12: NC
A13: DAVIS WADE - STATE LEVEL | B13: 220 | C13: PREMIUM - CATERING | D13: 589 | E13: NC | F13: NC | G13: NC | H13: NC
A14: DAVIS WADE - STATE LEVEL | B14: 221 | C14: PREMIUM - STATE CLUB CENTER | D14: 3768 | E14: 3768 | F14: 2 | G14: EVENT CLEAN | H14: FB PREP, FB GAMES, SPECIAL EVENTS
A15: DAVIS WADE - STATE LEVEL | B15: 221A | C15: PREMIUM - STATE TOILET | D15: 67 | E15: 67 | F15: 2 | G15: EVENT CLEAN | H15: FB PREP, FB GAMES, SPECIAL EVENTS
A16: DAVIS WADE - STATE LEVEL | B16: 221B | C16: PREMIUM - STATE CLOSET | D16: 12 | E16: NC | F16: NC | G16: NC | H16: NC
A17: DAVIS WADE - STATE LEVEL | B17: 221C | C17: PREMIUM - STATE CLOSET | D17: 11 | E17: NC | F17: NC | G17: NC | H17: NC
A18: DAVIS WADE - STATE LEVEL | B18: 221D | C18: PREMIUM - STATE CLUB WEST | D18: 2939 | E18: 2939 | F18: 2 | G18: EVENT CLEAN | H18: FB PREP, FB GAMES, SPECIAL EVENTS
A19: DAVIS WADE - STATE LEVEL | B19: 221E | C19: PREMIUM - STATE CLUB EAST | D19: 2832 | E19: 2832 | F19: 2 | G19: EVENT CLEAN | H19: FB PREP, FB GAMES, SPECIAL EVENTS
A20: DAVIS WADE - STATE LEVEL | B20: 221F | C20: PREMIUM - STATE OUTDOOR LOGES | D20: 4308 | E20: 4308 | F20: 2 | G20: EVENT CLEAN | H20: FB PREP, FB GAMES, SPECIAL EVENTS
A21: DAVIS WADE - STATE LEVEL | B21: 222 | C21: PREMIUM - STATE JANITOR CLOSET | D21: 68 | E21: NC | F21: NC | G21: NC | H21: NC
A22: DAVIS WADE - STATE LEVEL | B22: 223 | C22: PREMIUM - STATE TOILET | D22: 190 | E22: 190 | F22: 2 | G22: EVENT CLEAN | H22: FB PREP, FB GAMES, SPECIAL EVENTS
A23: DAVIS WADE - STATE LEVEL | B23: 224 | C23: PREMIUM - STATE TOILET | D23: 302 | E23: 302 | F23: 2 | G23: EVENT CLEAN | H23: FB PREP, FB GAMES, SPECIAL EVENTS
A24: DAVIS WADE - STATE LEVEL | B24: 225 | C24: PREMIUM - STATE STORAGE | D24: 95 | E24: NC | F24: NC | G24: NC | H24: NC
A25: DAVIS WADE - STATE LEVEL | B25: 226 | C25: STATE - COMMUNICATIONS | D25: 121 | E25: NC | F25: NC | G25: NC | H25: NC
A26: DAVIS WADE - STATE LEVEL | B26: 258 | C26: STATE NORTH EAST ELEVATOR | D26: 50 | E26: 50 | F26: 2 | G26: EVENT CLEAN | H26: FB PREP, FB GAMES, SPECIAL EVENTS
A27: DAVIS WADE - STATE LEVEL | B27: 259 | C27: STATE NORTH EAST ELEVATOR | D27: 50 | E27: 50 | F27: 2 | G27: EVENT CLEAN | H27: FB PREP, FB GAMES, SPECIAL EVENTS
A28: DAVIS WADE - STATE LEVEL | B28: 260 | C28: STATE SERVICE ELEVATOR | D28: 56 | E28: 56 | F28: 2 | G28: EVENT CLEAN | H28: FB PREP, FB GAMES, SPECIAL EVENTS
A29: DAVIS WADE - STATE LEVEL | B29: 261 | C29: STATE STAIRWAY | D29: 465 | E29: 465 | F29: 2 | G29: EVENT CLEAN | H29: FB PREP, FB GAMES, SPECIAL EVENTS
A30: DAVIS WADE - STATE LEVEL | B30: 262 | C30: STATE STAIRWAY | D30: 1672 | E30: 1672 | F30: 2 | G30: EVENT CLEAN | H30: FB PREP, FB GAMES, SPECIAL EVENTS
A31: DAVIS WADE - STATE LEVEL | B31: 263 | C31: STATE STAIRWAY | D31: 349 | E31: 349 | F31: 2 | G31: EVENT CLEAN | H31: FB PREP, FB GAMES, SPECIAL EVENTS
A32: DAVIS WADE - STATE LEVEL | B32: 265 | C32: STATE STAIRWAY | D32: 401 | E32: 401 | F32: 2 | G32: EVENT CLEAN | H32: FB PREP, FB GAMES, SPECIAL EVENTS
A33: DAVIS WADE - STATE LEVEL | B33: 268 | C33: STATE NORTH WEST ELEVATOR | D33: 56 | E33: 56 | F33: 2 | G33: EVENT CLEAN | H33: FB PREP, FB GAMES, SPECIAL EVENTS
A34: DAVIS WADE - STATE LEVEL | B34: 269 | C34: STATE NORTH WEST ELEVATOR | D34: 56 | E34: 56 | F34: 2 | G34: EVENT CLEAN | H34: FB PREP, FB GAMES, SPECIAL EVENTS
A35: DAVIS WADE - STATE LEVEL | B35: 270 | C35: PREMIUM - STATE ELEVATOR LOBBY & HALLWAY | D35: 3067 | E35: 3067 | F35: 2 | G35: EVENT CLEAN | H35: FB PREP, FB GAMES, SPECIAL EVENTS
A36: DAVIS WADE - STATE LEVEL | B36: 3010 | C36: PREMIUM - STATE SUITE | D36: 268 | E36: 268 | F36: 2 | G36: EVENT CLEAN | H36: FB PREP, FB GAMES, SPECIAL EVENTS
A37: DAVIS WADE - STATE LEVEL | B37: 3020 | C37: PREMIUM - STATE SUITE | D37: 220 | E37: 220 | F37: 2 | G37: EVENT CLEAN | H37: FB PREP, FB GAMES, SPECIAL EVENTS
... A57: DAVIS WADE - STATE LEVEL | B57: 3220 | C57: PREMIUM - STATE SUITE | D57: 266 | E57: 266 | F57: 2 | G57: EVENT CLEAN | H57: FB PREP, FB GAMES, SPECIAL EVENTS
D58: =SUM(D3:D57) | E58: =SUM(E3:E57)

Sheet Davis Wade - North Scoreboard
A1: DAVIS WADE - NORTH SCOREBOARD LEVEL
A2: BUILDING | B2: ROOM NO | C2: SPACE DESCRIPTION | D2: NET SQ FT | E2: CLEANABLE SQ FT | F2: APPA LEVEL | G2: FREQUENCY | H2: CLEANING WINDOW
A3: DAVIS WADE - SCOREBOARD LEVEL | B3: 414 | C3: PREMIUM SCOREBOARD TOILET | D3: 659 | E3: 659 | F3: 2 | G3: EVENT CLEAN | H3: FB PREP, FB GAMES, SPECIAL EVENTS
A4: DAVIS WADE - SCOREBOARD LEVEL | B4: 415 | C4: PREMIUM SCOREBOARD TOILET | D4: 74 | E4: 74 | F4: 2 | G4: EVENT CLEAN | H4: FB PREP, FB GAMES, SPECIAL EVENTS
A5: DAVIS WADE - SCOREBOARD LEVEL | B5: 416 | C5: PREMIUM SCOREBOARD TOILET | D5: 712 | E5: 712 | F5: 2 | G5: EVENT CLEAN | H5: FB PREP, FB GAMES, SPECIAL EVENTS
A6: DAVIS WADE - SCOREBOARD LEVEL | B6: 417 | C6: PREMIUM SCOREBOARD CLOSET | D6: 613 | E6: NC | F6: NC | G6: NC | H6: NC
A7: DAVIS WADE - SCOREBOARD LEVEL | B7: 418 | C7: PREMIUM SCOREBOARD CUSTODIAL CLOSET | D7: 188 | E7: NC | F7: NC | G7: NC | H7: NC
A8: DAVIS WADE - SCOREBOARD LEVEL | B8: 419 | C8: PREMIUM SCOREBOARD PANTRY | D8: 294 | E8: NC | F8: NC | G8: NC | H8: NC
A9: DAVIS WADE - SCOREBOARD LEVEL | B9: 420 | C9: PREMIUM SCOREBOARD STORAGE | D9: 89 | E9: NC | F9: NC | G9: NC | H9: NC
A10: DAVIS WADE - SCOREBOARD LEVEL | B10: 421 | C10: PREMIUM SCOREBOARD PANTRY | D10: 285 | E10: NC | F10: NC | G10: NC | H10: NC
A11: DAVIS WADE - SCOREBOARD LEVEL | B11: 422 | C11: PREMIUM SCOREBOARD CLOSET | D11: 91 | E11: NC | F11: NC | G11: NC | H11: NC
A12: DAVIS WADE - SCOREBOARD LEVEL | B12: 423 | C12: PREMIUM SCOREBOARD PANTRY | D12: 455 | E12: NC | F12: NC | G12: NC | H12: NC
A13: DAVIS WADE - SCOREBOARD LEVEL | B13: 424 | C13: PREMIUM SCOREBOARD FIRST AID | D13: 129 | E13: 129 | F13: 2 | G13: EVENT CLEAN | H13: FB PREP, FB GAMES, SPECIAL EVENTS
A14: DAVIS WADE - SCOREBOARD LEVEL | B14: 424A | C14: PREMIUM SCOREBOARD FIRST AID CLOSET | D14: 76 | E14: NC | F14: NC | G14: NC | H14: NC
A15: DAVIS WADE - SCOREBOARD LEVEL | B15: 425 | C15: SCOREBOARD COMMUNICATIONS | D15: 82 | E15: NC | F15: NC | G15: NC | H15: NC
A16: DAVIS WADE - SCOREBOARD LEVEL | B16: 426 | C16: SCOREBOARD ELECTRICAL | D16: 100 | E16: NC | F16: NC | G16: NC | H16: NC
A17: DAVIS WADE - SCOREBOARD LEVEL | B17: 427 | C17: SCOREBOARD STORAGE | D17: 451 | E17: NC | F17: NC | G17: NC | H17: NC
A18: DAVIS WADE - SCOREBOARD LEVEL | B18: 451 | C18: PREMIUM SCOREBOARD OPEN AREA | D18: 13620 | E18: 13620 | F18: 2 | G18: EVENT CLEAN | H18: FB PREP, FB GAMES, SPECIAL EVENTS
A19: DAVIS WADE - SCOREBOARD LEVEL | B19: 456 | C19: STAIRWAY | D19: 390 | E19: 390 | F19: 2 | G19: EVENT CLEAN | H19: FB PREP, FB GAMES, SPECIAL EVENTS
A20: DAVIS WADE - SCOREBOARD LEVEL | B20: 457 | C20: STAIRWAY | D20: 352 | E20: 352 | F20: 2 | G20: EVENT CLEAN | H20: FB PREP, FB GAMES, SPECIAL EVENTS
A21: DAVIS WADE - SCOREBOARD LEVEL | B21: 458 | C21: STAIRWAY | D21: 1795 | E21: 1795 | F21: 2 | G21: EVENT CLEAN | H21: FB PREP, FB GAMES, SPECIAL EVENTS
A22: DAVIS WADE - SCOREBOARD LEVEL | B22: 459 | C22: STAIRWAY | D22: 576 | E22: 576 | F22: 2 | G22: EVENT CLEAN | H22: FB PREP, FB GAMES, SPECIAL EVENTS
A23: DAVIS WADE - SCOREBOARD LEVEL | B23: 460 | C23: ELEVATOR | D23: 56 | E23: 56 | F23: 2 | G23: EVENT CLEAN | H23: FB PREP, FB GAMES, SPECIAL EVENTS
A24: DAVIS WADE - SCOREBOARD LEVEL | B24: 461 | C24: ELEVATOR | D24: 50 | E24: 50 | F24: 2 | G24: EVENT CLEAN | H24: FB PREP, FB GAMES, SPECIAL EVENTS
A25: DAVIS WADE - SCOREBOARD LEVEL | B25: 462 | C25: ELEVATOR | D25: 50 | E25: 50 | F25: 2 | G25: EVENT CLEAN | H25: FB PREP, FB GAMES, SPECIAL EVENTS
A26: DAVIS WADE - SCOREBOARD LEVEL | B26: 463 | C26: SCOREBOARD ELEVATOR | D26: 56 | E26: 56 | F26: 2 | G26: EVENT CLEAN | H26: FB PREP, FB GAMES, SPECIAL EVENTS
A27: DAVIS WADE - SCOREBOARD LEVEL | B27: 464 | C27: SCOREBOARD ELEVATOR | D27: 56 | E27: 56 | F27: 2 | G27: EVENT CLEAN | H27: FB PREP, FB GAMES, SPECIAL EVENTS
A28: DAVIS WADE - SCOREBOARD LEVEL | B28: 466 | C28: PREMIUM SCOREBOARD WEST LOGE | D28: 9461 | E28: 9461 | F28: 2 | G28: EVENT CLEAN | H28: FB PREP, FB GAMES, SPECIAL EVENTS
A29: DAVIS WADE - SCOREBOARD LEVEL | B29: 467 | C29: PREMIUM SCOREBOARD EAST OUTDOOR AREA | D29: 5277 | E29: 5277 | F29: 2 | G29: EVENT CLEAN | H29: FB PREP, FB GAMES, SPECIAL EVENTS
D30: =SUM(D3:D29) | E30: =SUM(E3:E29)

Sheet Davis Wade - East Ground
A1: DAVIS WADE - EAST GROUND
A2: BUILDING | B2: ROOM NO | C2: SPACE DESCRIPTION | D2: NET SQ FT | E2: CLEANABLE SQ FT | F2: APPA LEVEL | G2: FREQUENCY | H2: CLEANING WINDOW
A3: DAVIS WADE - EAST GROUND | B3: 146 | C3: EAST GROUND MECHANICAL | D3: 657 | E3: NC | F3: NC | G3: NC | H3: NC
A4: DAVIS WADE - EAST GROUND | B4: 147 | C4: EAST GROUND FACILITIES STORAGE | D4: 168 | E4: NC | F4: NC | G4: NC | H4: NC
A5: DAVIS WADE - EAST GROUND | B5: 147A | C5: EAST GROUND OFFICE | D5: 305 | E5: 305 | F5: 2 | G5: DAILY CLEAN | H5: 7:00PM-7:00AM
A6: DAVIS WADE - EAST GROUND | B6: 147B | C6: EAST GROUND BREAK ROOM | D6: 117 | E6: 117 | F6: 2 | G6: DAILY CLEAN | H6: 7:00PM-7:00AM
A7: DAVIS WADE - EAST GROUND | B7: 148 | C7: EAST GROUND ELEVATOR EQUIPMENT | D7: 239 | E7: NC | F7: NC | G7: NC | H7: NC
A8: DAVIS WADE - EAST GROUND | B8: 149 | C8: EAST GROUND ELECTRICAL | D8: 89 | E8: NC | F8: NC | G8: NC | H8: NC
A9: DAVIS WADE - EAST GROUND | B9: 150 | C9: EAST GROUND TOILET | D9: 552 | E9: 552 | F9: 2 | G9: EVENT CLEAN | H9: FB PREP, FB GAMES, SPECIAL EVENTS
A10: DAVIS WADE - EAST GROUND | B10: 151 | C10: EAST GROUND TOILET | D10: 685 | E10: 685 | F10: 2 | G10: EVENT CLEAN | H10: FB PREP, FB GAMES, SPECIAL EVENTS
A11: DAVIS WADE - EAST GROUND | B11: 152 | C11: EAST GROUND CONCESSIONS | D11: 1387 | E11: NC | F11: NC | G11: NC | H11: NC
A12: DAVIS WADE - EAST GROUND | B12: 152A | C12: EAST GROUND CONCESSIONS | D12: 162 | E12: NC | F12: NC | G12: NC | H12: NC
A13: DAVIS WADE - EAST GROUND | B13: 153 | C13: EAST GROUND TOILET | D13: 716 | E13: 716 | F13: 2 | G13: EVENT CLEAN | H13: FB PREP, FB GAMES, SPECIAL EVENTS
A14: DAVIS WADE - EAST GROUND | B14: 154 | C14: EAST GROUND STORAGE | D14: 270 | E14: NC | F14: NC | G14: NC | H14: NC
A15: DAVIS WADE - EAST GROUND | B15: 154A | C15: EAST GROUND ELECTRICAL | D15: 107 | E15: NC | F15: NC | G15: NC | H15: NC
A16: DAVIS WADE - EAST GROUND | B16: 155 | C16: EAST GROUND TOILET | D16: 713 | E16: 713 | F16: 2 | G16: EVENT CLEAN | H16: FB PREP, FB GAMES, SPECIAL EVENTS
A17: DAVIS WADE - EAST GROUND | B17: 156 | C17: EAST GROUND CONCESSIONS | D17: 934 | E17: NC | F17: NC | G17: NC | H17: NC
A18: DAVIS WADE - EAST GROUND | B18: 156A | C18: EAST GROUND TOILET | D18: 29 | E18: 29 | F18: 2 | G18: EVENT CLEAN | H18: FB PREP, FB GAMES, SPECIAL EVENTS
A19: DAVIS WADE - EAST GROUND | B19: 157 | C19: EAST GROUND FIRST AID | D19: 332 | E19: 332 | F19: 2 | G19: EVENT CLEAN | H19: FB PREP, FB GAMES, SPECIAL EVENTS
A20: DAVIS WADE - EAST GROUND | B20: 157A | C20: EAST GROUND TOILET | D20: 28 | E20: 28 | F20: 2 | G20: EVENT CLEAN | H20: FB PREP, FB GAMES, SPECIAL EVENTS
